BEGIN:VCALENDAR
VERSION:2.0
PRODID:-//Gene Lucas Community Center - ECPv6.15.20//NONSGML v1.0//EN
CALSCALE:GREGORIAN
METHOD:PUBLISH
X-WR-CALNAME:Gene Lucas Community Center
X-ORIGINAL-URL:https://glccenter.org
X-WR-CALDESC:Events for Gene Lucas Community Center
REFRESH-INTERVAL;VALUE=DURATION:PT1H
X-Robots-Tag:noindex
X-PUBLISHED-TTL:PT1H
BEGIN:VTIMEZONE
TZID:America/Los_Angeles
BEGIN:DAYLIGHT
TZOFFSETFROM:-0800
TZOFFSETTO:-0700
TZNAME:PDT
DTSTART:20260308T100000
END:DAYLIGHT
BEGIN:STANDARD
TZOFFSETFROM:-0700
TZOFFSETTO:-0800
TZNAME:PST
DTSTART:20261101T090000
END:STANDARD
BEGIN:DAYLIGHT
TZOFFSETFROM:-0800
TZOFFSETTO:-0700
TZNAME:PDT
DTSTART:20270314T100000
END:DAYLIGHT
BEGIN:STANDARD
TZOFFSETFROM:-0700
TZOFFSETTO:-0800
TZNAME:PST
DTSTART:20271107T090000
END:STANDARD
BEGIN:DAYLIGHT
TZOFFSETFROM:-0800
TZOFFSETTO:-0700
TZNAME:PDT
DTSTART:20280312T100000
END:DAYLIGHT
BEGIN:STANDARD
TZOFFSETFROM:-0700
TZOFFSETTO:-0800
TZNAME:PST
DTSTART:20281105T090000
END:STANDARD
BEGIN:DAYLIGHT
TZOFFSETFROM:-0800
TZOFFSETTO:-0700
TZNAME:PDT
DTSTART:20290311T100000
END:DAYLIGHT
BEGIN:STANDARD
TZOFFSETFROM:-0700
TZOFFSETTO:-0800
TZNAME:PST
DTSTART:20291104T090000
END:STANDARD
END:VTIMEZONE
BEGIN:VEVENT
DTSTART;TZID=America/Los_Angeles:20270913T183000
DTEND;TZID=America/Los_Angeles:20270913T193000
DTSTAMP:20260422T173045
CREATED:20260128T195943Z
LAST-MODIFIED:20260128T195944Z
UID:10003589-1820860200-1820863800@glccenter.org
SUMMARY:Baile Terapia Dance Class
DESCRIPTION:Join us at the GLC for a FREE Baile Terapia class every Monday @ 6:30PM. \nCome and enjoy different Latin rhythms while we have fun\, exercise\, and take care of our physical and mental health. All ages\, shapes\, and sizes welcome! \nEnglish and Spanish speakers are welcome! \nPut on by instructors Jorge and Haydee. \nTo attend\, just show up. \n 
URL:https://glccenter.org/event/yoga-2/2027-09-13/
LOCATION:Gene Lucas Community Center\, 3000 Newburg Rd Ste C\, Fortuna\, CA\, 95540-2599\, United States
END:VEVENT
BEGIN:VEVENT
DTSTART;TZID=America/Los_Angeles:20270920T183000
DTEND;TZID=America/Los_Angeles:20270920T193000
DTSTAMP:20260422T173045
CREATED:20260128T195943Z
LAST-MODIFIED:20260128T195944Z
UID:10003590-1821465000-1821468600@glccenter.org
SUMMARY:Baile Terapia Dance Class
DESCRIPTION:Join us at the GLC for a FREE Baile Terapia class every Monday @ 6:30PM. \nCome and enjoy different Latin rhythms while we have fun\, exercise\, and take care of our physical and mental health. All ages\, shapes\, and sizes welcome! \nEnglish and Spanish speakers are welcome! \nPut on by instructors Jorge and Haydee. \nTo attend\, just show up. \n 
URL:https://glccenter.org/event/yoga-2/2027-09-20/
LOCATION:Gene Lucas Community Center\, 3000 Newburg Rd Ste C\, Fortuna\, CA\, 95540-2599\, United States
END:VEVENT
BEGIN:VEVENT
DTSTART;TZID=America/Los_Angeles:20270927T183000
DTEND;TZID=America/Los_Angeles:20270927T193000
DTSTAMP:20260422T173045
CREATED:20260128T195943Z
LAST-MODIFIED:20260128T195944Z
UID:10003591-1822069800-1822073400@glccenter.org
SUMMARY:Baile Terapia Dance Class
DESCRIPTION:Join us at the GLC for a FREE Baile Terapia class every Monday @ 6:30PM. \nCome and enjoy different Latin rhythms while we have fun\, exercise\, and take care of our physical and mental health. All ages\, shapes\, and sizes welcome! \nEnglish and Spanish speakers are welcome! \nPut on by instructors Jorge and Haydee. \nTo attend\, just show up. \n 
URL:https://glccenter.org/event/yoga-2/2027-09-27/
LOCATION:Gene Lucas Community Center\, 3000 Newburg Rd Ste C\, Fortuna\, CA\, 95540-2599\, United States
END:VEVENT
BEGIN:VEVENT
DTSTART;TZID=America/Los_Angeles:20271004T183000
DTEND;TZID=America/Los_Angeles:20271004T193000
DTSTAMP:20260422T173045
CREATED:20260128T195943Z
LAST-MODIFIED:20260128T195944Z
UID:10003592-1822674600-1822678200@glccenter.org
SUMMARY:Baile Terapia Dance Class
DESCRIPTION:Join us at the GLC for a FREE Baile Terapia class every Monday @ 6:30PM. \nCome and enjoy different Latin rhythms while we have fun\, exercise\, and take care of our physical and mental health. All ages\, shapes\, and sizes welcome! \nEnglish and Spanish speakers are welcome! \nPut on by instructors Jorge and Haydee. \nTo attend\, just show up. \n 
URL:https://glccenter.org/event/yoga-2/2027-10-04/
LOCATION:Gene Lucas Community Center\, 3000 Newburg Rd Ste C\, Fortuna\, CA\, 95540-2599\, United States
END:VEVENT
BEGIN:VEVENT
DTSTART;TZID=America/Los_Angeles:20271011T183000
DTEND;TZID=America/Los_Angeles:20271011T193000
DTSTAMP:20260422T173045
CREATED:20260128T195943Z
LAST-MODIFIED:20260128T195944Z
UID:10003593-1823279400-1823283000@glccenter.org
SUMMARY:Baile Terapia Dance Class
DESCRIPTION:Join us at the GLC for a FREE Baile Terapia class every Monday @ 6:30PM. \nCome and enjoy different Latin rhythms while we have fun\, exercise\, and take care of our physical and mental health. All ages\, shapes\, and sizes welcome! \nEnglish and Spanish speakers are welcome! \nPut on by instructors Jorge and Haydee. \nTo attend\, just show up. \n 
URL:https://glccenter.org/event/yoga-2/2027-10-11/
LOCATION:Gene Lucas Community Center\, 3000 Newburg Rd Ste C\, Fortuna\, CA\, 95540-2599\, United States
END:VEVENT
BEGIN:VEVENT
DTSTART;TZID=America/Los_Angeles:20271018T183000
DTEND;TZID=America/Los_Angeles:20271018T193000
DTSTAMP:20260422T173045
CREATED:20260128T195943Z
LAST-MODIFIED:20260128T195944Z
UID:10003594-1823884200-1823887800@glccenter.org
SUMMARY:Baile Terapia Dance Class
DESCRIPTION:Join us at the GLC for a FREE Baile Terapia class every Monday @ 6:30PM. \nCome and enjoy different Latin rhythms while we have fun\, exercise\, and take care of our physical and mental health. All ages\, shapes\, and sizes welcome! \nEnglish and Spanish speakers are welcome! \nPut on by instructors Jorge and Haydee. \nTo attend\, just show up. \n 
URL:https://glccenter.org/event/yoga-2/2027-10-18/
LOCATION:Gene Lucas Community Center\, 3000 Newburg Rd Ste C\, Fortuna\, CA\, 95540-2599\, United States
END:VEVENT
BEGIN:VEVENT
DTSTART;TZID=America/Los_Angeles:20271025T183000
DTEND;TZID=America/Los_Angeles:20271025T193000
DTSTAMP:20260422T173045
CREATED:20260128T195943Z
LAST-MODIFIED:20260128T195944Z
UID:10003595-1824489000-1824492600@glccenter.org
SUMMARY:Baile Terapia Dance Class
DESCRIPTION:Join us at the GLC for a FREE Baile Terapia class every Monday @ 6:30PM. \nCome and enjoy different Latin rhythms while we have fun\, exercise\, and take care of our physical and mental health. All ages\, shapes\, and sizes welcome! \nEnglish and Spanish speakers are welcome! \nPut on by instructors Jorge and Haydee. \nTo attend\, just show up. \n 
URL:https://glccenter.org/event/yoga-2/2027-10-25/
LOCATION:Gene Lucas Community Center\, 3000 Newburg Rd Ste C\, Fortuna\, CA\, 95540-2599\, United States
END:VEVENT
BEGIN:VEVENT
DTSTART;TZID=America/Los_Angeles:20271101T183000
DTEND;TZID=America/Los_Angeles:20271101T193000
DTSTAMP:20260422T173045
CREATED:20260128T195943Z
LAST-MODIFIED:20260128T195944Z
UID:10003596-1825093800-1825097400@glccenter.org
SUMMARY:Baile Terapia Dance Class
DESCRIPTION:Join us at the GLC for a FREE Baile Terapia class every Monday @ 6:30PM. \nCome and enjoy different Latin rhythms while we have fun\, exercise\, and take care of our physical and mental health. All ages\, shapes\, and sizes welcome! \nEnglish and Spanish speakers are welcome! \nPut on by instructors Jorge and Haydee. \nTo attend\, just show up. \n 
URL:https://glccenter.org/event/yoga-2/2027-11-01/
LOCATION:Gene Lucas Community Center\, 3000 Newburg Rd Ste C\, Fortuna\, CA\, 95540-2599\, United States
END:VEVENT
BEGIN:VEVENT
DTSTART;TZID=America/Los_Angeles:20271108T183000
DTEND;TZID=America/Los_Angeles:20271108T193000
DTSTAMP:20260422T173045
CREATED:20260128T195943Z
LAST-MODIFIED:20260128T195944Z
UID:10003597-1825698600-1825702200@glccenter.org
SUMMARY:Baile Terapia Dance Class
DESCRIPTION:Join us at the GLC for a FREE Baile Terapia class every Monday @ 6:30PM. \nCome and enjoy different Latin rhythms while we have fun\, exercise\, and take care of our physical and mental health. All ages\, shapes\, and sizes welcome! \nEnglish and Spanish speakers are welcome! \nPut on by instructors Jorge and Haydee. \nTo attend\, just show up. \n 
URL:https://glccenter.org/event/yoga-2/2027-11-08/
LOCATION:Gene Lucas Community Center\, 3000 Newburg Rd Ste C\, Fortuna\, CA\, 95540-2599\, United States
END:VEVENT
BEGIN:VEVENT
DTSTART;TZID=America/Los_Angeles:20271115T183000
DTEND;TZID=America/Los_Angeles:20271115T193000
DTSTAMP:20260422T173045
CREATED:20260128T195943Z
LAST-MODIFIED:20260128T195944Z
UID:10003598-1826303400-1826307000@glccenter.org
SUMMARY:Baile Terapia Dance Class
DESCRIPTION:Join us at the GLC for a FREE Baile Terapia class every Monday @ 6:30PM. \nCome and enjoy different Latin rhythms while we have fun\, exercise\, and take care of our physical and mental health. All ages\, shapes\, and sizes welcome! \nEnglish and Spanish speakers are welcome! \nPut on by instructors Jorge and Haydee. \nTo attend\, just show up. \n 
URL:https://glccenter.org/event/yoga-2/2027-11-15/
LOCATION:Gene Lucas Community Center\, 3000 Newburg Rd Ste C\, Fortuna\, CA\, 95540-2599\, United States
END:VEVENT
BEGIN:VEVENT
DTSTART;TZID=America/Los_Angeles:20271122T183000
DTEND;TZID=America/Los_Angeles:20271122T193000
DTSTAMP:20260422T173045
CREATED:20260128T195943Z
LAST-MODIFIED:20260128T195944Z
UID:10003599-1826908200-1826911800@glccenter.org
SUMMARY:Baile Terapia Dance Class
DESCRIPTION:Join us at the GLC for a FREE Baile Terapia class every Monday @ 6:30PM. \nCome and enjoy different Latin rhythms while we have fun\, exercise\, and take care of our physical and mental health. All ages\, shapes\, and sizes welcome! \nEnglish and Spanish speakers are welcome! \nPut on by instructors Jorge and Haydee. \nTo attend\, just show up. \n 
URL:https://glccenter.org/event/yoga-2/2027-11-22/
LOCATION:Gene Lucas Community Center\, 3000 Newburg Rd Ste C\, Fortuna\, CA\, 95540-2599\, United States
END:VEVENT
BEGIN:VEVENT
DTSTART;TZID=America/Los_Angeles:20271129T183000
DTEND;TZID=America/Los_Angeles:20271129T193000
DTSTAMP:20260422T173045
CREATED:20260128T195943Z
LAST-MODIFIED:20260128T195944Z
UID:10003600-1827513000-1827516600@glccenter.org
SUMMARY:Baile Terapia Dance Class
DESCRIPTION:Join us at the GLC for a FREE Baile Terapia class every Monday @ 6:30PM. \nCome and enjoy different Latin rhythms while we have fun\, exercise\, and take care of our physical and mental health. All ages\, shapes\, and sizes welcome! \nEnglish and Spanish speakers are welcome! \nPut on by instructors Jorge and Haydee. \nTo attend\, just show up. \n 
URL:https://glccenter.org/event/yoga-2/2027-11-29/
LOCATION:Gene Lucas Community Center\, 3000 Newburg Rd Ste C\, Fortuna\, CA\, 95540-2599\, United States
END:VEVENT
BEGIN:VEVENT
DTSTART;TZID=America/Los_Angeles:20271206T183000
DTEND;TZID=America/Los_Angeles:20271206T193000
DTSTAMP:20260422T173045
CREATED:20260128T195943Z
LAST-MODIFIED:20260128T195944Z
UID:10003601-1828117800-1828121400@glccenter.org
SUMMARY:Baile Terapia Dance Class
DESCRIPTION:Join us at the GLC for a FREE Baile Terapia class every Monday @ 6:30PM. \nCome and enjoy different Latin rhythms while we have fun\, exercise\, and take care of our physical and mental health. All ages\, shapes\, and sizes welcome! \nEnglish and Spanish speakers are welcome! \nPut on by instructors Jorge and Haydee. \nTo attend\, just show up. \n 
URL:https://glccenter.org/event/yoga-2/2027-12-06/
LOCATION:Gene Lucas Community Center\, 3000 Newburg Rd Ste C\, Fortuna\, CA\, 95540-2599\, United States
END:VEVENT
BEGIN:VEVENT
DTSTART;TZID=America/Los_Angeles:20271213T183000
DTEND;TZID=America/Los_Angeles:20271213T193000
DTSTAMP:20260422T173045
CREATED:20260128T195943Z
LAST-MODIFIED:20260128T195944Z
UID:10003602-1828722600-1828726200@glccenter.org
SUMMARY:Baile Terapia Dance Class
DESCRIPTION:Join us at the GLC for a FREE Baile Terapia class every Monday @ 6:30PM. \nCome and enjoy different Latin rhythms while we have fun\, exercise\, and take care of our physical and mental health. All ages\, shapes\, and sizes welcome! \nEnglish and Spanish speakers are welcome! \nPut on by instructors Jorge and Haydee. \nTo attend\, just show up. \n 
URL:https://glccenter.org/event/yoga-2/2027-12-13/
LOCATION:Gene Lucas Community Center\, 3000 Newburg Rd Ste C\, Fortuna\, CA\, 95540-2599\, United States
END:VEVENT
BEGIN:VEVENT
DTSTART;TZID=America/Los_Angeles:20271220T183000
DTEND;TZID=America/Los_Angeles:20271220T193000
DTSTAMP:20260422T173045
CREATED:20260128T195943Z
LAST-MODIFIED:20260128T195944Z
UID:10003603-1829327400-1829331000@glccenter.org
SUMMARY:Baile Terapia Dance Class
DESCRIPTION:Join us at the GLC for a FREE Baile Terapia class every Monday @ 6:30PM. \nCome and enjoy different Latin rhythms while we have fun\, exercise\, and take care of our physical and mental health. All ages\, shapes\, and sizes welcome! \nEnglish and Spanish speakers are welcome! \nPut on by instructors Jorge and Haydee. \nTo attend\, just show up. \n 
URL:https://glccenter.org/event/yoga-2/2027-12-20/
LOCATION:Gene Lucas Community Center\, 3000 Newburg Rd Ste C\, Fortuna\, CA\, 95540-2599\, United States
END:VEVENT
BEGIN:VEVENT
DTSTART;TZID=America/Los_Angeles:20271227T183000
DTEND;TZID=America/Los_Angeles:20271227T193000
DTSTAMP:20260422T173045
CREATED:20260128T195943Z
LAST-MODIFIED:20260128T195944Z
UID:10003604-1829932200-1829935800@glccenter.org
SUMMARY:Baile Terapia Dance Class
DESCRIPTION:Join us at the GLC for a FREE Baile Terapia class every Monday @ 6:30PM. \nCome and enjoy different Latin rhythms while we have fun\, exercise\, and take care of our physical and mental health. All ages\, shapes\, and sizes welcome! \nEnglish and Spanish speakers are welcome! \nPut on by instructors Jorge and Haydee. \nTo attend\, just show up. \n 
URL:https://glccenter.org/event/yoga-2/2027-12-27/
LOCATION:Gene Lucas Community Center\, 3000 Newburg Rd Ste C\, Fortuna\, CA\, 95540-2599\, United States
END:VEVENT
BEGIN:VEVENT
DTSTART;TZID=America/Los_Angeles:20280103T183000
DTEND;TZID=America/Los_Angeles:20280103T193000
DTSTAMP:20260422T173045
CREATED:20260128T195943Z
LAST-MODIFIED:20260128T195944Z
UID:10003605-1830537000-1830540600@glccenter.org
SUMMARY:Baile Terapia Dance Class
DESCRIPTION:Join us at the GLC for a FREE Baile Terapia class every Monday @ 6:30PM. \nCome and enjoy different Latin rhythms while we have fun\, exercise\, and take care of our physical and mental health. All ages\, shapes\, and sizes welcome! \nEnglish and Spanish speakers are welcome! \nPut on by instructors Jorge and Haydee. \nTo attend\, just show up. \n 
URL:https://glccenter.org/event/yoga-2/2028-01-03/
LOCATION:Gene Lucas Community Center\, 3000 Newburg Rd Ste C\, Fortuna\, CA\, 95540-2599\, United States
END:VEVENT
BEGIN:VEVENT
DTSTART;TZID=America/Los_Angeles:20280110T183000
DTEND;TZID=America/Los_Angeles:20280110T193000
DTSTAMP:20260422T173045
CREATED:20260128T195943Z
LAST-MODIFIED:20260128T195944Z
UID:10003606-1831141800-1831145400@glccenter.org
SUMMARY:Baile Terapia Dance Class
DESCRIPTION:Join us at the GLC for a FREE Baile Terapia class every Monday @ 6:30PM. \nCome and enjoy different Latin rhythms while we have fun\, exercise\, and take care of our physical and mental health. All ages\, shapes\, and sizes welcome! \nEnglish and Spanish speakers are welcome! \nPut on by instructors Jorge and Haydee. \nTo attend\, just show up. \n 
URL:https://glccenter.org/event/yoga-2/2028-01-10/
LOCATION:Gene Lucas Community Center\, 3000 Newburg Rd Ste C\, Fortuna\, CA\, 95540-2599\, United States
END:VEVENT
BEGIN:VEVENT
DTSTART;TZID=America/Los_Angeles:20280117T183000
DTEND;TZID=America/Los_Angeles:20280117T193000
DTSTAMP:20260422T173045
CREATED:20260128T195943Z
LAST-MODIFIED:20260128T195944Z
UID:10003607-1831746600-1831750200@glccenter.org
SUMMARY:Baile Terapia Dance Class
DESCRIPTION:Join us at the GLC for a FREE Baile Terapia class every Monday @ 6:30PM. \nCome and enjoy different Latin rhythms while we have fun\, exercise\, and take care of our physical and mental health. All ages\, shapes\, and sizes welcome! \nEnglish and Spanish speakers are welcome! \nPut on by instructors Jorge and Haydee. \nTo attend\, just show up. \n 
URL:https://glccenter.org/event/yoga-2/2028-01-17/
LOCATION:Gene Lucas Community Center\, 3000 Newburg Rd Ste C\, Fortuna\, CA\, 95540-2599\, United States
END:VEVENT
BEGIN:VEVENT
DTSTART;TZID=America/Los_Angeles:20280124T183000
DTEND;TZID=America/Los_Angeles:20280124T193000
DTSTAMP:20260422T173045
CREATED:20260128T195943Z
LAST-MODIFIED:20260128T195944Z
UID:10003608-1832351400-1832355000@glccenter.org
SUMMARY:Baile Terapia Dance Class
DESCRIPTION:Join us at the GLC for a FREE Baile Terapia class every Monday @ 6:30PM. \nCome and enjoy different Latin rhythms while we have fun\, exercise\, and take care of our physical and mental health. All ages\, shapes\, and sizes welcome! \nEnglish and Spanish speakers are welcome! \nPut on by instructors Jorge and Haydee. \nTo attend\, just show up. \n 
URL:https://glccenter.org/event/yoga-2/2028-01-24/
LOCATION:Gene Lucas Community Center\, 3000 Newburg Rd Ste C\, Fortuna\, CA\, 95540-2599\, United States
END:VEVENT
BEGIN:VEVENT
DTSTART;TZID=America/Los_Angeles:20280131T183000
DTEND;TZID=America/Los_Angeles:20280131T193000
DTSTAMP:20260422T173045
CREATED:20260128T195943Z
LAST-MODIFIED:20260128T195944Z
UID:10003609-1832956200-1832959800@glccenter.org
SUMMARY:Baile Terapia Dance Class
DESCRIPTION:Join us at the GLC for a FREE Baile Terapia class every Monday @ 6:30PM. \nCome and enjoy different Latin rhythms while we have fun\, exercise\, and take care of our physical and mental health. All ages\, shapes\, and sizes welcome! \nEnglish and Spanish speakers are welcome! \nPut on by instructors Jorge and Haydee. \nTo attend\, just show up. \n 
URL:https://glccenter.org/event/yoga-2/2028-01-31/
LOCATION:Gene Lucas Community Center\, 3000 Newburg Rd Ste C\, Fortuna\, CA\, 95540-2599\, United States
END:VEVENT
BEGIN:VEVENT
DTSTART;TZID=America/Los_Angeles:20280207T183000
DTEND;TZID=America/Los_Angeles:20280207T193000
DTSTAMP:20260422T173045
CREATED:20260128T195943Z
LAST-MODIFIED:20260128T195944Z
UID:10003610-1833561000-1833564600@glccenter.org
SUMMARY:Baile Terapia Dance Class
DESCRIPTION:Join us at the GLC for a FREE Baile Terapia class every Monday @ 6:30PM. \nCome and enjoy different Latin rhythms while we have fun\, exercise\, and take care of our physical and mental health. All ages\, shapes\, and sizes welcome! \nEnglish and Spanish speakers are welcome! \nPut on by instructors Jorge and Haydee. \nTo attend\, just show up. \n 
URL:https://glccenter.org/event/yoga-2/2028-02-07/
LOCATION:Gene Lucas Community Center\, 3000 Newburg Rd Ste C\, Fortuna\, CA\, 95540-2599\, United States
END:VEVENT
BEGIN:VEVENT
DTSTART;TZID=America/Los_Angeles:20280214T183000
DTEND;TZID=America/Los_Angeles:20280214T193000
DTSTAMP:20260422T173045
CREATED:20260128T195943Z
LAST-MODIFIED:20260128T195944Z
UID:10003611-1834165800-1834169400@glccenter.org
SUMMARY:Baile Terapia Dance Class
DESCRIPTION:Join us at the GLC for a FREE Baile Terapia class every Monday @ 6:30PM. \nCome and enjoy different Latin rhythms while we have fun\, exercise\, and take care of our physical and mental health. All ages\, shapes\, and sizes welcome! \nEnglish and Spanish speakers are welcome! \nPut on by instructors Jorge and Haydee. \nTo attend\, just show up. \n 
URL:https://glccenter.org/event/yoga-2/2028-02-14/
LOCATION:Gene Lucas Community Center\, 3000 Newburg Rd Ste C\, Fortuna\, CA\, 95540-2599\, United States
END:VEVENT
BEGIN:VEVENT
DTSTART;TZID=America/Los_Angeles:20280221T183000
DTEND;TZID=America/Los_Angeles:20280221T193000
DTSTAMP:20260422T173045
CREATED:20260128T195943Z
LAST-MODIFIED:20260128T195944Z
UID:10003612-1834770600-1834774200@glccenter.org
SUMMARY:Baile Terapia Dance Class
DESCRIPTION:Join us at the GLC for a FREE Baile Terapia class every Monday @ 6:30PM. \nCome and enjoy different Latin rhythms while we have fun\, exercise\, and take care of our physical and mental health. All ages\, shapes\, and sizes welcome! \nEnglish and Spanish speakers are welcome! \nPut on by instructors Jorge and Haydee. \nTo attend\, just show up. \n 
URL:https://glccenter.org/event/yoga-2/2028-02-21/
LOCATION:Gene Lucas Community Center\, 3000 Newburg Rd Ste C\, Fortuna\, CA\, 95540-2599\, United States
END:VEVENT
BEGIN:VEVENT
DTSTART;TZID=America/Los_Angeles:20280228T183000
DTEND;TZID=America/Los_Angeles:20280228T193000
DTSTAMP:20260422T173045
CREATED:20260128T195943Z
LAST-MODIFIED:20260128T195944Z
UID:10003613-1835375400-1835379000@glccenter.org
SUMMARY:Baile Terapia Dance Class
DESCRIPTION:Join us at the GLC for a FREE Baile Terapia class every Monday @ 6:30PM. \nCome and enjoy different Latin rhythms while we have fun\, exercise\, and take care of our physical and mental health. All ages\, shapes\, and sizes welcome! \nEnglish and Spanish speakers are welcome! \nPut on by instructors Jorge and Haydee. \nTo attend\, just show up. \n 
URL:https://glccenter.org/event/yoga-2/2028-02-28/
LOCATION:Gene Lucas Community Center\, 3000 Newburg Rd Ste C\, Fortuna\, CA\, 95540-2599\, United States
END:VEVENT
BEGIN:VEVENT
DTSTART;TZID=America/Los_Angeles:20280306T183000
DTEND;TZID=America/Los_Angeles:20280306T193000
DTSTAMP:20260422T173045
CREATED:20260128T195943Z
LAST-MODIFIED:20260128T195944Z
UID:10003614-1835980200-1835983800@glccenter.org
SUMMARY:Baile Terapia Dance Class
DESCRIPTION:Join us at the GLC for a FREE Baile Terapia class every Monday @ 6:30PM. \nCome and enjoy different Latin rhythms while we have fun\, exercise\, and take care of our physical and mental health. All ages\, shapes\, and sizes welcome! \nEnglish and Spanish speakers are welcome! \nPut on by instructors Jorge and Haydee. \nTo attend\, just show up. \n 
URL:https://glccenter.org/event/yoga-2/2028-03-06/
LOCATION:Gene Lucas Community Center\, 3000 Newburg Rd Ste C\, Fortuna\, CA\, 95540-2599\, United States
END:VEVENT
BEGIN:VEVENT
DTSTART;TZID=America/Los_Angeles:20280313T183000
DTEND;TZID=America/Los_Angeles:20280313T193000
DTSTAMP:20260422T173045
CREATED:20260128T195943Z
LAST-MODIFIED:20260128T195944Z
UID:10003615-1836585000-1836588600@glccenter.org
SUMMARY:Baile Terapia Dance Class
DESCRIPTION:Join us at the GLC for a FREE Baile Terapia class every Monday @ 6:30PM. \nCome and enjoy different Latin rhythms while we have fun\, exercise\, and take care of our physical and mental health. All ages\, shapes\, and sizes welcome! \nEnglish and Spanish speakers are welcome! \nPut on by instructors Jorge and Haydee. \nTo attend\, just show up. \n 
URL:https://glccenter.org/event/yoga-2/2028-03-13/
LOCATION:Gene Lucas Community Center\, 3000 Newburg Rd Ste C\, Fortuna\, CA\, 95540-2599\, United States
END:VEVENT
BEGIN:VEVENT
DTSTART;TZID=America/Los_Angeles:20280320T183000
DTEND;TZID=America/Los_Angeles:20280320T193000
DTSTAMP:20260422T173045
CREATED:20260128T195943Z
LAST-MODIFIED:20260128T195944Z
UID:10003616-1837189800-1837193400@glccenter.org
SUMMARY:Baile Terapia Dance Class
DESCRIPTION:Join us at the GLC for a FREE Baile Terapia class every Monday @ 6:30PM. \nCome and enjoy different Latin rhythms while we have fun\, exercise\, and take care of our physical and mental health. All ages\, shapes\, and sizes welcome! \nEnglish and Spanish speakers are welcome! \nPut on by instructors Jorge and Haydee. \nTo attend\, just show up. \n 
URL:https://glccenter.org/event/yoga-2/2028-03-20/
LOCATION:Gene Lucas Community Center\, 3000 Newburg Rd Ste C\, Fortuna\, CA\, 95540-2599\, United States
END:VEVENT
BEGIN:VEVENT
DTSTART;TZID=America/Los_Angeles:20280327T183000
DTEND;TZID=America/Los_Angeles:20280327T193000
DTSTAMP:20260422T173045
CREATED:20260128T195943Z
LAST-MODIFIED:20260128T195944Z
UID:10003617-1837794600-1837798200@glccenter.org
SUMMARY:Baile Terapia Dance Class
DESCRIPTION:Join us at the GLC for a FREE Baile Terapia class every Monday @ 6:30PM. \nCome and enjoy different Latin rhythms while we have fun\, exercise\, and take care of our physical and mental health. All ages\, shapes\, and sizes welcome! \nEnglish and Spanish speakers are welcome! \nPut on by instructors Jorge and Haydee. \nTo attend\, just show up. \n 
URL:https://glccenter.org/event/yoga-2/2028-03-27/
LOCATION:Gene Lucas Community Center\, 3000 Newburg Rd Ste C\, Fortuna\, CA\, 95540-2599\, United States
END:VEVENT
BEGIN:VEVENT
DTSTART;TZID=America/Los_Angeles:20280403T183000
DTEND;TZID=America/Los_Angeles:20280403T193000
DTSTAMP:20260422T173045
CREATED:20260128T195943Z
LAST-MODIFIED:20260128T195944Z
UID:10003618-1838399400-1838403000@glccenter.org
SUMMARY:Baile Terapia Dance Class
DESCRIPTION:Join us at the GLC for a FREE Baile Terapia class every Monday @ 6:30PM. \nCome and enjoy different Latin rhythms while we have fun\, exercise\, and take care of our physical and mental health. All ages\, shapes\, and sizes welcome! \nEnglish and Spanish speakers are welcome! \nPut on by instructors Jorge and Haydee. \nTo attend\, just show up. \n 
URL:https://glccenter.org/event/yoga-2/2028-04-03/
LOCATION:Gene Lucas Community Center\, 3000 Newburg Rd Ste C\, Fortuna\, CA\, 95540-2599\, United States
END:VEVENT
END:VCALENDAR