BEGIN:VCALENDAR
VERSION:2.0
PRODID:-//Gene Lucas Community Center - ECPv6.15.20//NONSGML v1.0//EN
CALSCALE:GREGORIAN
METHOD:PUBLISH
X-WR-CALNAME:Gene Lucas Community Center
X-ORIGINAL-URL:https://glccenter.org
X-WR-CALDESC:Events for Gene Lucas Community Center
REFRESH-INTERVAL;VALUE=DURATION:PT1H
X-Robots-Tag:noindex
X-PUBLISHED-TTL:PT1H
BEGIN:VTIMEZONE
TZID:America/Los_Angeles
BEGIN:DAYLIGHT
TZOFFSETFROM:-0800
TZOFFSETTO:-0700
TZNAME:PDT
DTSTART:20260308T100000
END:DAYLIGHT
BEGIN:STANDARD
TZOFFSETFROM:-0700
TZOFFSETTO:-0800
TZNAME:PST
DTSTART:20261101T090000
END:STANDARD
BEGIN:DAYLIGHT
TZOFFSETFROM:-0800
TZOFFSETTO:-0700
TZNAME:PDT
DTSTART:20270314T100000
END:DAYLIGHT
BEGIN:STANDARD
TZOFFSETFROM:-0700
TZOFFSETTO:-0800
TZNAME:PST
DTSTART:20271107T090000
END:STANDARD
BEGIN:DAYLIGHT
TZOFFSETFROM:-0800
TZOFFSETTO:-0700
TZNAME:PDT
DTSTART:20280312T100000
END:DAYLIGHT
BEGIN:STANDARD
TZOFFSETFROM:-0700
TZOFFSETTO:-0800
TZNAME:PST
DTSTART:20281105T090000
END:STANDARD
END:VTIMEZONE
BEGIN:VEVENT
DTSTART;TZID=America/Los_Angeles:20270322T183000
DTEND;TZID=America/Los_Angeles:20270322T193000
DTSTAMP:20260420T011308
CREATED:20260128T195943Z
LAST-MODIFIED:20260128T195944Z
UID:10003564-1805740200-1805743800@glccenter.org
SUMMARY:Baile Terapia Dance Class
DESCRIPTION:Join us at the GLC for a FREE Baile Terapia class every Monday @ 6:30PM. \nCome and enjoy different Latin rhythms while we have fun\, exercise\, and take care of our physical and mental health. All ages\, shapes\, and sizes welcome! \nEnglish and Spanish speakers are welcome! \nPut on by instructors Jorge and Haydee. \nTo attend\, just show up. \n 
URL:https://glccenter.org/event/yoga-2/2027-03-22/
LOCATION:Gene Lucas Community Center\, 3000 Newburg Rd Ste C\, Fortuna\, CA\, 95540-2599\, United States
END:VEVENT
BEGIN:VEVENT
DTSTART;TZID=America/Los_Angeles:20270329T183000
DTEND;TZID=America/Los_Angeles:20270329T193000
DTSTAMP:20260420T011308
CREATED:20260128T195943Z
LAST-MODIFIED:20260128T195944Z
UID:10003565-1806345000-1806348600@glccenter.org
SUMMARY:Baile Terapia Dance Class
DESCRIPTION:Join us at the GLC for a FREE Baile Terapia class every Monday @ 6:30PM. \nCome and enjoy different Latin rhythms while we have fun\, exercise\, and take care of our physical and mental health. All ages\, shapes\, and sizes welcome! \nEnglish and Spanish speakers are welcome! \nPut on by instructors Jorge and Haydee. \nTo attend\, just show up. \n 
URL:https://glccenter.org/event/yoga-2/2027-03-29/
LOCATION:Gene Lucas Community Center\, 3000 Newburg Rd Ste C\, Fortuna\, CA\, 95540-2599\, United States
END:VEVENT
BEGIN:VEVENT
DTSTART;TZID=America/Los_Angeles:20270405T183000
DTEND;TZID=America/Los_Angeles:20270405T193000
DTSTAMP:20260420T011308
CREATED:20260128T195943Z
LAST-MODIFIED:20260128T195944Z
UID:10003566-1806949800-1806953400@glccenter.org
SUMMARY:Baile Terapia Dance Class
DESCRIPTION:Join us at the GLC for a FREE Baile Terapia class every Monday @ 6:30PM. \nCome and enjoy different Latin rhythms while we have fun\, exercise\, and take care of our physical and mental health. All ages\, shapes\, and sizes welcome! \nEnglish and Spanish speakers are welcome! \nPut on by instructors Jorge and Haydee. \nTo attend\, just show up. \n 
URL:https://glccenter.org/event/yoga-2/2027-04-05/
LOCATION:Gene Lucas Community Center\, 3000 Newburg Rd Ste C\, Fortuna\, CA\, 95540-2599\, United States
END:VEVENT
BEGIN:VEVENT
DTSTART;TZID=America/Los_Angeles:20270412T183000
DTEND;TZID=America/Los_Angeles:20270412T193000
DTSTAMP:20260420T011308
CREATED:20260128T195943Z
LAST-MODIFIED:20260128T195944Z
UID:10003567-1807554600-1807558200@glccenter.org
SUMMARY:Baile Terapia Dance Class
DESCRIPTION:Join us at the GLC for a FREE Baile Terapia class every Monday @ 6:30PM. \nCome and enjoy different Latin rhythms while we have fun\, exercise\, and take care of our physical and mental health. All ages\, shapes\, and sizes welcome! \nEnglish and Spanish speakers are welcome! \nPut on by instructors Jorge and Haydee. \nTo attend\, just show up. \n 
URL:https://glccenter.org/event/yoga-2/2027-04-12/
LOCATION:Gene Lucas Community Center\, 3000 Newburg Rd Ste C\, Fortuna\, CA\, 95540-2599\, United States
END:VEVENT
BEGIN:VEVENT
DTSTART;TZID=America/Los_Angeles:20270419T183000
DTEND;TZID=America/Los_Angeles:20270419T193000
DTSTAMP:20260420T011308
CREATED:20260128T195943Z
LAST-MODIFIED:20260128T195944Z
UID:10003568-1808159400-1808163000@glccenter.org
SUMMARY:Baile Terapia Dance Class
DESCRIPTION:Join us at the GLC for a FREE Baile Terapia class every Monday @ 6:30PM. \nCome and enjoy different Latin rhythms while we have fun\, exercise\, and take care of our physical and mental health. All ages\, shapes\, and sizes welcome! \nEnglish and Spanish speakers are welcome! \nPut on by instructors Jorge and Haydee. \nTo attend\, just show up. \n 
URL:https://glccenter.org/event/yoga-2/2027-04-19/
LOCATION:Gene Lucas Community Center\, 3000 Newburg Rd Ste C\, Fortuna\, CA\, 95540-2599\, United States
END:VEVENT
BEGIN:VEVENT
DTSTART;TZID=America/Los_Angeles:20270426T183000
DTEND;TZID=America/Los_Angeles:20270426T193000
DTSTAMP:20260420T011308
CREATED:20260128T195943Z
LAST-MODIFIED:20260128T195944Z
UID:10003569-1808764200-1808767800@glccenter.org
SUMMARY:Baile Terapia Dance Class
DESCRIPTION:Join us at the GLC for a FREE Baile Terapia class every Monday @ 6:30PM. \nCome and enjoy different Latin rhythms while we have fun\, exercise\, and take care of our physical and mental health. All ages\, shapes\, and sizes welcome! \nEnglish and Spanish speakers are welcome! \nPut on by instructors Jorge and Haydee. \nTo attend\, just show up. \n 
URL:https://glccenter.org/event/yoga-2/2027-04-26/
LOCATION:Gene Lucas Community Center\, 3000 Newburg Rd Ste C\, Fortuna\, CA\, 95540-2599\, United States
END:VEVENT
BEGIN:VEVENT
DTSTART;TZID=America/Los_Angeles:20270503T183000
DTEND;TZID=America/Los_Angeles:20270503T193000
DTSTAMP:20260420T011308
CREATED:20260128T195943Z
LAST-MODIFIED:20260128T195944Z
UID:10003570-1809369000-1809372600@glccenter.org
SUMMARY:Baile Terapia Dance Class
DESCRIPTION:Join us at the GLC for a FREE Baile Terapia class every Monday @ 6:30PM. \nCome and enjoy different Latin rhythms while we have fun\, exercise\, and take care of our physical and mental health. All ages\, shapes\, and sizes welcome! \nEnglish and Spanish speakers are welcome! \nPut on by instructors Jorge and Haydee. \nTo attend\, just show up. \n 
URL:https://glccenter.org/event/yoga-2/2027-05-03/
LOCATION:Gene Lucas Community Center\, 3000 Newburg Rd Ste C\, Fortuna\, CA\, 95540-2599\, United States
END:VEVENT
BEGIN:VEVENT
DTSTART;TZID=America/Los_Angeles:20270510T183000
DTEND;TZID=America/Los_Angeles:20270510T193000
DTSTAMP:20260420T011308
CREATED:20260128T195943Z
LAST-MODIFIED:20260128T195944Z
UID:10003571-1809973800-1809977400@glccenter.org
SUMMARY:Baile Terapia Dance Class
DESCRIPTION:Join us at the GLC for a FREE Baile Terapia class every Monday @ 6:30PM. \nCome and enjoy different Latin rhythms while we have fun\, exercise\, and take care of our physical and mental health. All ages\, shapes\, and sizes welcome! \nEnglish and Spanish speakers are welcome! \nPut on by instructors Jorge and Haydee. \nTo attend\, just show up. \n 
URL:https://glccenter.org/event/yoga-2/2027-05-10/
LOCATION:Gene Lucas Community Center\, 3000 Newburg Rd Ste C\, Fortuna\, CA\, 95540-2599\, United States
END:VEVENT
BEGIN:VEVENT
DTSTART;TZID=America/Los_Angeles:20270517T183000
DTEND;TZID=America/Los_Angeles:20270517T193000
DTSTAMP:20260420T011308
CREATED:20260128T195943Z
LAST-MODIFIED:20260128T195944Z
UID:10003572-1810578600-1810582200@glccenter.org
SUMMARY:Baile Terapia Dance Class
DESCRIPTION:Join us at the GLC for a FREE Baile Terapia class every Monday @ 6:30PM. \nCome and enjoy different Latin rhythms while we have fun\, exercise\, and take care of our physical and mental health. All ages\, shapes\, and sizes welcome! \nEnglish and Spanish speakers are welcome! \nPut on by instructors Jorge and Haydee. \nTo attend\, just show up. \n 
URL:https://glccenter.org/event/yoga-2/2027-05-17/
LOCATION:Gene Lucas Community Center\, 3000 Newburg Rd Ste C\, Fortuna\, CA\, 95540-2599\, United States
END:VEVENT
BEGIN:VEVENT
DTSTART;TZID=America/Los_Angeles:20270524T183000
DTEND;TZID=America/Los_Angeles:20270524T193000
DTSTAMP:20260420T011309
CREATED:20260128T195943Z
LAST-MODIFIED:20260128T195944Z
UID:10003573-1811183400-1811187000@glccenter.org
SUMMARY:Baile Terapia Dance Class
DESCRIPTION:Join us at the GLC for a FREE Baile Terapia class every Monday @ 6:30PM. \nCome and enjoy different Latin rhythms while we have fun\, exercise\, and take care of our physical and mental health. All ages\, shapes\, and sizes welcome! \nEnglish and Spanish speakers are welcome! \nPut on by instructors Jorge and Haydee. \nTo attend\, just show up. \n 
URL:https://glccenter.org/event/yoga-2/2027-05-24/
LOCATION:Gene Lucas Community Center\, 3000 Newburg Rd Ste C\, Fortuna\, CA\, 95540-2599\, United States
END:VEVENT
BEGIN:VEVENT
DTSTART;TZID=America/Los_Angeles:20270531T183000
DTEND;TZID=America/Los_Angeles:20270531T193000
DTSTAMP:20260420T011309
CREATED:20260128T195943Z
LAST-MODIFIED:20260128T195944Z
UID:10003574-1811788200-1811791800@glccenter.org
SUMMARY:Baile Terapia Dance Class
DESCRIPTION:Join us at the GLC for a FREE Baile Terapia class every Monday @ 6:30PM. \nCome and enjoy different Latin rhythms while we have fun\, exercise\, and take care of our physical and mental health. All ages\, shapes\, and sizes welcome! \nEnglish and Spanish speakers are welcome! \nPut on by instructors Jorge and Haydee. \nTo attend\, just show up. \n 
URL:https://glccenter.org/event/yoga-2/2027-05-31/
LOCATION:Gene Lucas Community Center\, 3000 Newburg Rd Ste C\, Fortuna\, CA\, 95540-2599\, United States
END:VEVENT
BEGIN:VEVENT
DTSTART;TZID=America/Los_Angeles:20270607T183000
DTEND;TZID=America/Los_Angeles:20270607T193000
DTSTAMP:20260420T011309
CREATED:20260128T195943Z
LAST-MODIFIED:20260128T195944Z
UID:10003575-1812393000-1812396600@glccenter.org
SUMMARY:Baile Terapia Dance Class
DESCRIPTION:Join us at the GLC for a FREE Baile Terapia class every Monday @ 6:30PM. \nCome and enjoy different Latin rhythms while we have fun\, exercise\, and take care of our physical and mental health. All ages\, shapes\, and sizes welcome! \nEnglish and Spanish speakers are welcome! \nPut on by instructors Jorge and Haydee. \nTo attend\, just show up. \n 
URL:https://glccenter.org/event/yoga-2/2027-06-07/
LOCATION:Gene Lucas Community Center\, 3000 Newburg Rd Ste C\, Fortuna\, CA\, 95540-2599\, United States
END:VEVENT
BEGIN:VEVENT
DTSTART;TZID=America/Los_Angeles:20270614T183000
DTEND;TZID=America/Los_Angeles:20270614T193000
DTSTAMP:20260420T011309
CREATED:20260128T195943Z
LAST-MODIFIED:20260128T195944Z
UID:10003576-1812997800-1813001400@glccenter.org
SUMMARY:Baile Terapia Dance Class
DESCRIPTION:Join us at the GLC for a FREE Baile Terapia class every Monday @ 6:30PM. \nCome and enjoy different Latin rhythms while we have fun\, exercise\, and take care of our physical and mental health. All ages\, shapes\, and sizes welcome! \nEnglish and Spanish speakers are welcome! \nPut on by instructors Jorge and Haydee. \nTo attend\, just show up. \n 
URL:https://glccenter.org/event/yoga-2/2027-06-14/
LOCATION:Gene Lucas Community Center\, 3000 Newburg Rd Ste C\, Fortuna\, CA\, 95540-2599\, United States
END:VEVENT
BEGIN:VEVENT
DTSTART;TZID=America/Los_Angeles:20270621T183000
DTEND;TZID=America/Los_Angeles:20270621T193000
DTSTAMP:20260420T011309
CREATED:20260128T195943Z
LAST-MODIFIED:20260128T195944Z
UID:10003577-1813602600-1813606200@glccenter.org
SUMMARY:Baile Terapia Dance Class
DESCRIPTION:Join us at the GLC for a FREE Baile Terapia class every Monday @ 6:30PM. \nCome and enjoy different Latin rhythms while we have fun\, exercise\, and take care of our physical and mental health. All ages\, shapes\, and sizes welcome! \nEnglish and Spanish speakers are welcome! \nPut on by instructors Jorge and Haydee. \nTo attend\, just show up. \n 
URL:https://glccenter.org/event/yoga-2/2027-06-21/
LOCATION:Gene Lucas Community Center\, 3000 Newburg Rd Ste C\, Fortuna\, CA\, 95540-2599\, United States
END:VEVENT
BEGIN:VEVENT
DTSTART;TZID=America/Los_Angeles:20270628T183000
DTEND;TZID=America/Los_Angeles:20270628T193000
DTSTAMP:20260420T011309
CREATED:20260128T195943Z
LAST-MODIFIED:20260128T195944Z
UID:10003578-1814207400-1814211000@glccenter.org
SUMMARY:Baile Terapia Dance Class
DESCRIPTION:Join us at the GLC for a FREE Baile Terapia class every Monday @ 6:30PM. \nCome and enjoy different Latin rhythms while we have fun\, exercise\, and take care of our physical and mental health. All ages\, shapes\, and sizes welcome! \nEnglish and Spanish speakers are welcome! \nPut on by instructors Jorge and Haydee. \nTo attend\, just show up. \n 
URL:https://glccenter.org/event/yoga-2/2027-06-28/
LOCATION:Gene Lucas Community Center\, 3000 Newburg Rd Ste C\, Fortuna\, CA\, 95540-2599\, United States
END:VEVENT
BEGIN:VEVENT
DTSTART;TZID=America/Los_Angeles:20270705T183000
DTEND;TZID=America/Los_Angeles:20270705T193000
DTSTAMP:20260420T011309
CREATED:20260128T195943Z
LAST-MODIFIED:20260128T195944Z
UID:10003579-1814812200-1814815800@glccenter.org
SUMMARY:Baile Terapia Dance Class
DESCRIPTION:Join us at the GLC for a FREE Baile Terapia class every Monday @ 6:30PM. \nCome and enjoy different Latin rhythms while we have fun\, exercise\, and take care of our physical and mental health. All ages\, shapes\, and sizes welcome! \nEnglish and Spanish speakers are welcome! \nPut on by instructors Jorge and Haydee. \nTo attend\, just show up. \n 
URL:https://glccenter.org/event/yoga-2/2027-07-05/
LOCATION:Gene Lucas Community Center\, 3000 Newburg Rd Ste C\, Fortuna\, CA\, 95540-2599\, United States
END:VEVENT
BEGIN:VEVENT
DTSTART;TZID=America/Los_Angeles:20270712T183000
DTEND;TZID=America/Los_Angeles:20270712T193000
DTSTAMP:20260420T011309
CREATED:20260128T195943Z
LAST-MODIFIED:20260128T195944Z
UID:10003580-1815417000-1815420600@glccenter.org
SUMMARY:Baile Terapia Dance Class
DESCRIPTION:Join us at the GLC for a FREE Baile Terapia class every Monday @ 6:30PM. \nCome and enjoy different Latin rhythms while we have fun\, exercise\, and take care of our physical and mental health. All ages\, shapes\, and sizes welcome! \nEnglish and Spanish speakers are welcome! \nPut on by instructors Jorge and Haydee. \nTo attend\, just show up. \n 
URL:https://glccenter.org/event/yoga-2/2027-07-12/
LOCATION:Gene Lucas Community Center\, 3000 Newburg Rd Ste C\, Fortuna\, CA\, 95540-2599\, United States
END:VEVENT
BEGIN:VEVENT
DTSTART;TZID=America/Los_Angeles:20270719T183000
DTEND;TZID=America/Los_Angeles:20270719T193000
DTSTAMP:20260420T011309
CREATED:20260128T195943Z
LAST-MODIFIED:20260128T195944Z
UID:10003581-1816021800-1816025400@glccenter.org
SUMMARY:Baile Terapia Dance Class
DESCRIPTION:Join us at the GLC for a FREE Baile Terapia class every Monday @ 6:30PM. \nCome and enjoy different Latin rhythms while we have fun\, exercise\, and take care of our physical and mental health. All ages\, shapes\, and sizes welcome! \nEnglish and Spanish speakers are welcome! \nPut on by instructors Jorge and Haydee. \nTo attend\, just show up. \n 
URL:https://glccenter.org/event/yoga-2/2027-07-19/
LOCATION:Gene Lucas Community Center\, 3000 Newburg Rd Ste C\, Fortuna\, CA\, 95540-2599\, United States
END:VEVENT
BEGIN:VEVENT
DTSTART;TZID=America/Los_Angeles:20270726T183000
DTEND;TZID=America/Los_Angeles:20270726T193000
DTSTAMP:20260420T011309
CREATED:20260128T195943Z
LAST-MODIFIED:20260128T195944Z
UID:10003582-1816626600-1816630200@glccenter.org
SUMMARY:Baile Terapia Dance Class
DESCRIPTION:Join us at the GLC for a FREE Baile Terapia class every Monday @ 6:30PM. \nCome and enjoy different Latin rhythms while we have fun\, exercise\, and take care of our physical and mental health. All ages\, shapes\, and sizes welcome! \nEnglish and Spanish speakers are welcome! \nPut on by instructors Jorge and Haydee. \nTo attend\, just show up. \n 
URL:https://glccenter.org/event/yoga-2/2027-07-26/
LOCATION:Gene Lucas Community Center\, 3000 Newburg Rd Ste C\, Fortuna\, CA\, 95540-2599\, United States
END:VEVENT
BEGIN:VEVENT
DTSTART;TZID=America/Los_Angeles:20270802T183000
DTEND;TZID=America/Los_Angeles:20270802T193000
DTSTAMP:20260420T011309
CREATED:20260128T195943Z
LAST-MODIFIED:20260128T195944Z
UID:10003583-1817231400-1817235000@glccenter.org
SUMMARY:Baile Terapia Dance Class
DESCRIPTION:Join us at the GLC for a FREE Baile Terapia class every Monday @ 6:30PM. \nCome and enjoy different Latin rhythms while we have fun\, exercise\, and take care of our physical and mental health. All ages\, shapes\, and sizes welcome! \nEnglish and Spanish speakers are welcome! \nPut on by instructors Jorge and Haydee. \nTo attend\, just show up. \n 
URL:https://glccenter.org/event/yoga-2/2027-08-02/
LOCATION:Gene Lucas Community Center\, 3000 Newburg Rd Ste C\, Fortuna\, CA\, 95540-2599\, United States
END:VEVENT
BEGIN:VEVENT
DTSTART;TZID=America/Los_Angeles:20270809T183000
DTEND;TZID=America/Los_Angeles:20270809T193000
DTSTAMP:20260420T011309
CREATED:20260128T195943Z
LAST-MODIFIED:20260128T195944Z
UID:10003584-1817836200-1817839800@glccenter.org
SUMMARY:Baile Terapia Dance Class
DESCRIPTION:Join us at the GLC for a FREE Baile Terapia class every Monday @ 6:30PM. \nCome and enjoy different Latin rhythms while we have fun\, exercise\, and take care of our physical and mental health. All ages\, shapes\, and sizes welcome! \nEnglish and Spanish speakers are welcome! \nPut on by instructors Jorge and Haydee. \nTo attend\, just show up. \n 
URL:https://glccenter.org/event/yoga-2/2027-08-09/
LOCATION:Gene Lucas Community Center\, 3000 Newburg Rd Ste C\, Fortuna\, CA\, 95540-2599\, United States
END:VEVENT
BEGIN:VEVENT
DTSTART;TZID=America/Los_Angeles:20270816T183000
DTEND;TZID=America/Los_Angeles:20270816T193000
DTSTAMP:20260420T011309
CREATED:20260128T195943Z
LAST-MODIFIED:20260128T195944Z
UID:10003585-1818441000-1818444600@glccenter.org
SUMMARY:Baile Terapia Dance Class
DESCRIPTION:Join us at the GLC for a FREE Baile Terapia class every Monday @ 6:30PM. \nCome and enjoy different Latin rhythms while we have fun\, exercise\, and take care of our physical and mental health. All ages\, shapes\, and sizes welcome! \nEnglish and Spanish speakers are welcome! \nPut on by instructors Jorge and Haydee. \nTo attend\, just show up. \n 
URL:https://glccenter.org/event/yoga-2/2027-08-16/
LOCATION:Gene Lucas Community Center\, 3000 Newburg Rd Ste C\, Fortuna\, CA\, 95540-2599\, United States
END:VEVENT
BEGIN:VEVENT
DTSTART;TZID=America/Los_Angeles:20270823T183000
DTEND;TZID=America/Los_Angeles:20270823T193000
DTSTAMP:20260420T011309
CREATED:20260128T195943Z
LAST-MODIFIED:20260128T195944Z
UID:10003586-1819045800-1819049400@glccenter.org
SUMMARY:Baile Terapia Dance Class
DESCRIPTION:Join us at the GLC for a FREE Baile Terapia class every Monday @ 6:30PM. \nCome and enjoy different Latin rhythms while we have fun\, exercise\, and take care of our physical and mental health. All ages\, shapes\, and sizes welcome! \nEnglish and Spanish speakers are welcome! \nPut on by instructors Jorge and Haydee. \nTo attend\, just show up. \n 
URL:https://glccenter.org/event/yoga-2/2027-08-23/
LOCATION:Gene Lucas Community Center\, 3000 Newburg Rd Ste C\, Fortuna\, CA\, 95540-2599\, United States
END:VEVENT
BEGIN:VEVENT
DTSTART;TZID=America/Los_Angeles:20270830T183000
DTEND;TZID=America/Los_Angeles:20270830T193000
DTSTAMP:20260420T011309
CREATED:20260128T195943Z
LAST-MODIFIED:20260128T195944Z
UID:10003587-1819650600-1819654200@glccenter.org
SUMMARY:Baile Terapia Dance Class
DESCRIPTION:Join us at the GLC for a FREE Baile Terapia class every Monday @ 6:30PM. \nCome and enjoy different Latin rhythms while we have fun\, exercise\, and take care of our physical and mental health. All ages\, shapes\, and sizes welcome! \nEnglish and Spanish speakers are welcome! \nPut on by instructors Jorge and Haydee. \nTo attend\, just show up. \n 
URL:https://glccenter.org/event/yoga-2/2027-08-30/
LOCATION:Gene Lucas Community Center\, 3000 Newburg Rd Ste C\, Fortuna\, CA\, 95540-2599\, United States
END:VEVENT
BEGIN:VEVENT
DTSTART;TZID=America/Los_Angeles:20270906T183000
DTEND;TZID=America/Los_Angeles:20270906T193000
DTSTAMP:20260420T011309
CREATED:20260128T195943Z
LAST-MODIFIED:20260128T195944Z
UID:10003588-1820255400-1820259000@glccenter.org
SUMMARY:Baile Terapia Dance Class
DESCRIPTION:Join us at the GLC for a FREE Baile Terapia class every Monday @ 6:30PM. \nCome and enjoy different Latin rhythms while we have fun\, exercise\, and take care of our physical and mental health. All ages\, shapes\, and sizes welcome! \nEnglish and Spanish speakers are welcome! \nPut on by instructors Jorge and Haydee. \nTo attend\, just show up. \n 
URL:https://glccenter.org/event/yoga-2/2027-09-06/
LOCATION:Gene Lucas Community Center\, 3000 Newburg Rd Ste C\, Fortuna\, CA\, 95540-2599\, United States
END:VEVENT
BEGIN:VEVENT
DTSTART;TZID=America/Los_Angeles:20270913T183000
DTEND;TZID=America/Los_Angeles:20270913T193000
DTSTAMP:20260420T011309
CREATED:20260128T195943Z
LAST-MODIFIED:20260128T195944Z
UID:10003589-1820860200-1820863800@glccenter.org
SUMMARY:Baile Terapia Dance Class
DESCRIPTION:Join us at the GLC for a FREE Baile Terapia class every Monday @ 6:30PM. \nCome and enjoy different Latin rhythms while we have fun\, exercise\, and take care of our physical and mental health. All ages\, shapes\, and sizes welcome! \nEnglish and Spanish speakers are welcome! \nPut on by instructors Jorge and Haydee. \nTo attend\, just show up. \n 
URL:https://glccenter.org/event/yoga-2/2027-09-13/
LOCATION:Gene Lucas Community Center\, 3000 Newburg Rd Ste C\, Fortuna\, CA\, 95540-2599\, United States
END:VEVENT
BEGIN:VEVENT
DTSTART;TZID=America/Los_Angeles:20270920T183000
DTEND;TZID=America/Los_Angeles:20270920T193000
DTSTAMP:20260420T011309
CREATED:20260128T195943Z
LAST-MODIFIED:20260128T195944Z
UID:10003590-1821465000-1821468600@glccenter.org
SUMMARY:Baile Terapia Dance Class
DESCRIPTION:Join us at the GLC for a FREE Baile Terapia class every Monday @ 6:30PM. \nCome and enjoy different Latin rhythms while we have fun\, exercise\, and take care of our physical and mental health. All ages\, shapes\, and sizes welcome! \nEnglish and Spanish speakers are welcome! \nPut on by instructors Jorge and Haydee. \nTo attend\, just show up. \n 
URL:https://glccenter.org/event/yoga-2/2027-09-20/
LOCATION:Gene Lucas Community Center\, 3000 Newburg Rd Ste C\, Fortuna\, CA\, 95540-2599\, United States
END:VEVENT
BEGIN:VEVENT
DTSTART;TZID=America/Los_Angeles:20270927T183000
DTEND;TZID=America/Los_Angeles:20270927T193000
DTSTAMP:20260420T011309
CREATED:20260128T195943Z
LAST-MODIFIED:20260128T195944Z
UID:10003591-1822069800-1822073400@glccenter.org
SUMMARY:Baile Terapia Dance Class
DESCRIPTION:Join us at the GLC for a FREE Baile Terapia class every Monday @ 6:30PM. \nCome and enjoy different Latin rhythms while we have fun\, exercise\, and take care of our physical and mental health. All ages\, shapes\, and sizes welcome! \nEnglish and Spanish speakers are welcome! \nPut on by instructors Jorge and Haydee. \nTo attend\, just show up. \n 
URL:https://glccenter.org/event/yoga-2/2027-09-27/
LOCATION:Gene Lucas Community Center\, 3000 Newburg Rd Ste C\, Fortuna\, CA\, 95540-2599\, United States
END:VEVENT
BEGIN:VEVENT
DTSTART;TZID=America/Los_Angeles:20271004T183000
DTEND;TZID=America/Los_Angeles:20271004T193000
DTSTAMP:20260420T011309
CREATED:20260128T195943Z
LAST-MODIFIED:20260128T195944Z
UID:10003592-1822674600-1822678200@glccenter.org
SUMMARY:Baile Terapia Dance Class
DESCRIPTION:Join us at the GLC for a FREE Baile Terapia class every Monday @ 6:30PM. \nCome and enjoy different Latin rhythms while we have fun\, exercise\, and take care of our physical and mental health. All ages\, shapes\, and sizes welcome! \nEnglish and Spanish speakers are welcome! \nPut on by instructors Jorge and Haydee. \nTo attend\, just show up. \n 
URL:https://glccenter.org/event/yoga-2/2027-10-04/
LOCATION:Gene Lucas Community Center\, 3000 Newburg Rd Ste C\, Fortuna\, CA\, 95540-2599\, United States
END:VEVENT
BEGIN:VEVENT
DTSTART;TZID=America/Los_Angeles:20271011T183000
DTEND;TZID=America/Los_Angeles:20271011T193000
DTSTAMP:20260420T011309
CREATED:20260128T195943Z
LAST-MODIFIED:20260128T195944Z
UID:10003593-1823279400-1823283000@glccenter.org
SUMMARY:Baile Terapia Dance Class
DESCRIPTION:Join us at the GLC for a FREE Baile Terapia class every Monday @ 6:30PM. \nCome and enjoy different Latin rhythms while we have fun\, exercise\, and take care of our physical and mental health. All ages\, shapes\, and sizes welcome! \nEnglish and Spanish speakers are welcome! \nPut on by instructors Jorge and Haydee. \nTo attend\, just show up. \n 
URL:https://glccenter.org/event/yoga-2/2027-10-11/
LOCATION:Gene Lucas Community Center\, 3000 Newburg Rd Ste C\, Fortuna\, CA\, 95540-2599\, United States
END:VEVENT
END:VCALENDAR