BEGIN:VCALENDAR
VERSION:2.0
PRODID:-//Gene Lucas Community Center - ECPv6.15.20//NONSGML v1.0//EN
CALSCALE:GREGORIAN
METHOD:PUBLISH
X-ORIGINAL-URL:https://glccenter.org
X-WR-CALDESC:Events for Gene Lucas Community Center
REFRESH-INTERVAL;VALUE=DURATION:PT1H
X-Robots-Tag:noindex
X-PUBLISHED-TTL:PT1H
BEGIN:VTIMEZONE
TZID:America/Los_Angeles
BEGIN:DAYLIGHT
TZOFFSETFROM:-0800
TZOFFSETTO:-0700
TZNAME:PDT
DTSTART:20250309T100000
END:DAYLIGHT
BEGIN:STANDARD
TZOFFSETFROM:-0700
TZOFFSETTO:-0800
TZNAME:PST
DTSTART:20251102T090000
END:STANDARD
BEGIN:DAYLIGHT
TZOFFSETFROM:-0800
TZOFFSETTO:-0700
TZNAME:PDT
DTSTART:20260308T100000
END:DAYLIGHT
BEGIN:STANDARD
TZOFFSETFROM:-0700
TZOFFSETTO:-0800
TZNAME:PST
DTSTART:20261101T090000
END:STANDARD
BEGIN:DAYLIGHT
TZOFFSETFROM:-0800
TZOFFSETTO:-0700
TZNAME:PDT
DTSTART:20270314T100000
END:DAYLIGHT
BEGIN:STANDARD
TZOFFSETFROM:-0700
TZOFFSETTO:-0800
TZNAME:PST
DTSTART:20271107T090000
END:STANDARD
END:VTIMEZONE
BEGIN:VEVENT
DTSTART;TZID=America/Los_Angeles:20260427T183000
DTEND;TZID=America/Los_Angeles:20260427T193000
DTSTAMP:20260422T154246
CREATED:20260128T195943Z
LAST-MODIFIED:20260128T195944Z
UID:10003517-1777314600-1777318200@glccenter.org
SUMMARY:Baile Terapia Dance Class
DESCRIPTION:Join us at the GLC for a FREE Baile Terapia class every Monday @ 6:30PM. \nCome and enjoy different Latin rhythms while we have fun\, exercise\, and take care of our physical and mental health. All ages\, shapes\, and sizes welcome! \nEnglish and Spanish speakers are welcome! \nPut on by instructors Jorge and Haydee. \nTo attend\, just show up. \n 
URL:https://glccenter.org/event/yoga-2/2026-04-27/
LOCATION:Gene Lucas Community Center\, 3000 Newburg Rd Ste C\, Fortuna\, CA\, 95540-2599\, United States
END:VEVENT
BEGIN:VEVENT
DTSTART;TZID=America/Los_Angeles:20260504T183000
DTEND;TZID=America/Los_Angeles:20260504T193000
DTSTAMP:20260422T154246
CREATED:20260128T195943Z
LAST-MODIFIED:20260128T195944Z
UID:10003518-1777919400-1777923000@glccenter.org
SUMMARY:Baile Terapia Dance Class
DESCRIPTION:Join us at the GLC for a FREE Baile Terapia class every Monday @ 6:30PM. \nCome and enjoy different Latin rhythms while we have fun\, exercise\, and take care of our physical and mental health. All ages\, shapes\, and sizes welcome! \nEnglish and Spanish speakers are welcome! \nPut on by instructors Jorge and Haydee. \nTo attend\, just show up. \n 
URL:https://glccenter.org/event/yoga-2/2026-05-04/
LOCATION:Gene Lucas Community Center\, 3000 Newburg Rd Ste C\, Fortuna\, CA\, 95540-2599\, United States
END:VEVENT
BEGIN:VEVENT
DTSTART;TZID=America/Los_Angeles:20260511T183000
DTEND;TZID=America/Los_Angeles:20260511T193000
DTSTAMP:20260422T154246
CREATED:20260128T195943Z
LAST-MODIFIED:20260128T195944Z
UID:10003519-1778524200-1778527800@glccenter.org
SUMMARY:Baile Terapia Dance Class
DESCRIPTION:Join us at the GLC for a FREE Baile Terapia class every Monday @ 6:30PM. \nCome and enjoy different Latin rhythms while we have fun\, exercise\, and take care of our physical and mental health. All ages\, shapes\, and sizes welcome! \nEnglish and Spanish speakers are welcome! \nPut on by instructors Jorge and Haydee. \nTo attend\, just show up. \n 
URL:https://glccenter.org/event/yoga-2/2026-05-11/
LOCATION:Gene Lucas Community Center\, 3000 Newburg Rd Ste C\, Fortuna\, CA\, 95540-2599\, United States
END:VEVENT
BEGIN:VEVENT
DTSTART;TZID=America/Los_Angeles:20260518T183000
DTEND;TZID=America/Los_Angeles:20260518T193000
DTSTAMP:20260422T154246
CREATED:20260128T195943Z
LAST-MODIFIED:20260128T195944Z
UID:10003520-1779129000-1779132600@glccenter.org
SUMMARY:Baile Terapia Dance Class
DESCRIPTION:Join us at the GLC for a FREE Baile Terapia class every Monday @ 6:30PM. \nCome and enjoy different Latin rhythms while we have fun\, exercise\, and take care of our physical and mental health. All ages\, shapes\, and sizes welcome! \nEnglish and Spanish speakers are welcome! \nPut on by instructors Jorge and Haydee. \nTo attend\, just show up. \n 
URL:https://glccenter.org/event/yoga-2/2026-05-18/
LOCATION:Gene Lucas Community Center\, 3000 Newburg Rd Ste C\, Fortuna\, CA\, 95540-2599\, United States
END:VEVENT
BEGIN:VEVENT
DTSTART;TZID=America/Los_Angeles:20260525T183000
DTEND;TZID=America/Los_Angeles:20260525T193000
DTSTAMP:20260422T154246
CREATED:20260128T195943Z
LAST-MODIFIED:20260128T195944Z
UID:10003521-1779733800-1779737400@glccenter.org
SUMMARY:Baile Terapia Dance Class
DESCRIPTION:Join us at the GLC for a FREE Baile Terapia class every Monday @ 6:30PM. \nCome and enjoy different Latin rhythms while we have fun\, exercise\, and take care of our physical and mental health. All ages\, shapes\, and sizes welcome! \nEnglish and Spanish speakers are welcome! \nPut on by instructors Jorge and Haydee. \nTo attend\, just show up. \n 
URL:https://glccenter.org/event/yoga-2/2026-05-25/
LOCATION:Gene Lucas Community Center\, 3000 Newburg Rd Ste C\, Fortuna\, CA\, 95540-2599\, United States
END:VEVENT
BEGIN:VEVENT
DTSTART;TZID=America/Los_Angeles:20260601T183000
DTEND;TZID=America/Los_Angeles:20260601T193000
DTSTAMP:20260422T154246
CREATED:20260128T195943Z
LAST-MODIFIED:20260128T195944Z
UID:10003522-1780338600-1780342200@glccenter.org
SUMMARY:Baile Terapia Dance Class
DESCRIPTION:Join us at the GLC for a FREE Baile Terapia class every Monday @ 6:30PM. \nCome and enjoy different Latin rhythms while we have fun\, exercise\, and take care of our physical and mental health. All ages\, shapes\, and sizes welcome! \nEnglish and Spanish speakers are welcome! \nPut on by instructors Jorge and Haydee. \nTo attend\, just show up. \n 
URL:https://glccenter.org/event/yoga-2/2026-06-01/
LOCATION:Gene Lucas Community Center\, 3000 Newburg Rd Ste C\, Fortuna\, CA\, 95540-2599\, United States
END:VEVENT
BEGIN:VEVENT
DTSTART;TZID=America/Los_Angeles:20260608T183000
DTEND;TZID=America/Los_Angeles:20260608T193000
DTSTAMP:20260422T154246
CREATED:20260128T195943Z
LAST-MODIFIED:20260128T195944Z
UID:10003523-1780943400-1780947000@glccenter.org
SUMMARY:Baile Terapia Dance Class
DESCRIPTION:Join us at the GLC for a FREE Baile Terapia class every Monday @ 6:30PM. \nCome and enjoy different Latin rhythms while we have fun\, exercise\, and take care of our physical and mental health. All ages\, shapes\, and sizes welcome! \nEnglish and Spanish speakers are welcome! \nPut on by instructors Jorge and Haydee. \nTo attend\, just show up. \n 
URL:https://glccenter.org/event/yoga-2/2026-06-08/
LOCATION:Gene Lucas Community Center\, 3000 Newburg Rd Ste C\, Fortuna\, CA\, 95540-2599\, United States
END:VEVENT
BEGIN:VEVENT
DTSTART;TZID=America/Los_Angeles:20260615T183000
DTEND;TZID=America/Los_Angeles:20260615T193000
DTSTAMP:20260422T154246
CREATED:20260128T195943Z
LAST-MODIFIED:20260128T195944Z
UID:10003524-1781548200-1781551800@glccenter.org
SUMMARY:Baile Terapia Dance Class
DESCRIPTION:Join us at the GLC for a FREE Baile Terapia class every Monday @ 6:30PM. \nCome and enjoy different Latin rhythms while we have fun\, exercise\, and take care of our physical and mental health. All ages\, shapes\, and sizes welcome! \nEnglish and Spanish speakers are welcome! \nPut on by instructors Jorge and Haydee. \nTo attend\, just show up. \n 
URL:https://glccenter.org/event/yoga-2/2026-06-15/
LOCATION:Gene Lucas Community Center\, 3000 Newburg Rd Ste C\, Fortuna\, CA\, 95540-2599\, United States
END:VEVENT
BEGIN:VEVENT
DTSTART;TZID=America/Los_Angeles:20260622T183000
DTEND;TZID=America/Los_Angeles:20260622T193000
DTSTAMP:20260422T154246
CREATED:20260128T195943Z
LAST-MODIFIED:20260128T195944Z
UID:10003525-1782153000-1782156600@glccenter.org
SUMMARY:Baile Terapia Dance Class
DESCRIPTION:Join us at the GLC for a FREE Baile Terapia class every Monday @ 6:30PM. \nCome and enjoy different Latin rhythms while we have fun\, exercise\, and take care of our physical and mental health. All ages\, shapes\, and sizes welcome! \nEnglish and Spanish speakers are welcome! \nPut on by instructors Jorge and Haydee. \nTo attend\, just show up. \n 
URL:https://glccenter.org/event/yoga-2/2026-06-22/
LOCATION:Gene Lucas Community Center\, 3000 Newburg Rd Ste C\, Fortuna\, CA\, 95540-2599\, United States
END:VEVENT
BEGIN:VEVENT
DTSTART;TZID=America/Los_Angeles:20260629T183000
DTEND;TZID=America/Los_Angeles:20260629T193000
DTSTAMP:20260422T154246
CREATED:20260128T195943Z
LAST-MODIFIED:20260128T195944Z
UID:10003526-1782757800-1782761400@glccenter.org
SUMMARY:Baile Terapia Dance Class
DESCRIPTION:Join us at the GLC for a FREE Baile Terapia class every Monday @ 6:30PM. \nCome and enjoy different Latin rhythms while we have fun\, exercise\, and take care of our physical and mental health. All ages\, shapes\, and sizes welcome! \nEnglish and Spanish speakers are welcome! \nPut on by instructors Jorge and Haydee. \nTo attend\, just show up. \n 
URL:https://glccenter.org/event/yoga-2/2026-06-29/
LOCATION:Gene Lucas Community Center\, 3000 Newburg Rd Ste C\, Fortuna\, CA\, 95540-2599\, United States
END:VEVENT
BEGIN:VEVENT
DTSTART;TZID=America/Los_Angeles:20260706T183000
DTEND;TZID=America/Los_Angeles:20260706T193000
DTSTAMP:20260422T154246
CREATED:20260128T195943Z
LAST-MODIFIED:20260128T195944Z
UID:10003527-1783362600-1783366200@glccenter.org
SUMMARY:Baile Terapia Dance Class
DESCRIPTION:Join us at the GLC for a FREE Baile Terapia class every Monday @ 6:30PM. \nCome and enjoy different Latin rhythms while we have fun\, exercise\, and take care of our physical and mental health. All ages\, shapes\, and sizes welcome! \nEnglish and Spanish speakers are welcome! \nPut on by instructors Jorge and Haydee. \nTo attend\, just show up. \n 
URL:https://glccenter.org/event/yoga-2/2026-07-06/
LOCATION:Gene Lucas Community Center\, 3000 Newburg Rd Ste C\, Fortuna\, CA\, 95540-2599\, United States
END:VEVENT
BEGIN:VEVENT
DTSTART;TZID=America/Los_Angeles:20260713T183000
DTEND;TZID=America/Los_Angeles:20260713T193000
DTSTAMP:20260422T154246
CREATED:20260128T195943Z
LAST-MODIFIED:20260128T195944Z
UID:10003528-1783967400-1783971000@glccenter.org
SUMMARY:Baile Terapia Dance Class
DESCRIPTION:Join us at the GLC for a FREE Baile Terapia class every Monday @ 6:30PM. \nCome and enjoy different Latin rhythms while we have fun\, exercise\, and take care of our physical and mental health. All ages\, shapes\, and sizes welcome! \nEnglish and Spanish speakers are welcome! \nPut on by instructors Jorge and Haydee. \nTo attend\, just show up. \n 
URL:https://glccenter.org/event/yoga-2/2026-07-13/
LOCATION:Gene Lucas Community Center\, 3000 Newburg Rd Ste C\, Fortuna\, CA\, 95540-2599\, United States
END:VEVENT
BEGIN:VEVENT
DTSTART;TZID=America/Los_Angeles:20260720T183000
DTEND;TZID=America/Los_Angeles:20260720T193000
DTSTAMP:20260422T154246
CREATED:20260128T195943Z
LAST-MODIFIED:20260128T195944Z
UID:10003529-1784572200-1784575800@glccenter.org
SUMMARY:Baile Terapia Dance Class
DESCRIPTION:Join us at the GLC for a FREE Baile Terapia class every Monday @ 6:30PM. \nCome and enjoy different Latin rhythms while we have fun\, exercise\, and take care of our physical and mental health. All ages\, shapes\, and sizes welcome! \nEnglish and Spanish speakers are welcome! \nPut on by instructors Jorge and Haydee. \nTo attend\, just show up. \n 
URL:https://glccenter.org/event/yoga-2/2026-07-20/
LOCATION:Gene Lucas Community Center\, 3000 Newburg Rd Ste C\, Fortuna\, CA\, 95540-2599\, United States
END:VEVENT
BEGIN:VEVENT
DTSTART;TZID=America/Los_Angeles:20260727T183000
DTEND;TZID=America/Los_Angeles:20260727T193000
DTSTAMP:20260422T154246
CREATED:20260128T195943Z
LAST-MODIFIED:20260128T195944Z
UID:10003530-1785177000-1785180600@glccenter.org
SUMMARY:Baile Terapia Dance Class
DESCRIPTION:Join us at the GLC for a FREE Baile Terapia class every Monday @ 6:30PM. \nCome and enjoy different Latin rhythms while we have fun\, exercise\, and take care of our physical and mental health. All ages\, shapes\, and sizes welcome! \nEnglish and Spanish speakers are welcome! \nPut on by instructors Jorge and Haydee. \nTo attend\, just show up. \n 
URL:https://glccenter.org/event/yoga-2/2026-07-27/
LOCATION:Gene Lucas Community Center\, 3000 Newburg Rd Ste C\, Fortuna\, CA\, 95540-2599\, United States
END:VEVENT
BEGIN:VEVENT
DTSTART;TZID=America/Los_Angeles:20260803T183000
DTEND;TZID=America/Los_Angeles:20260803T193000
DTSTAMP:20260422T154246
CREATED:20260128T195943Z
LAST-MODIFIED:20260128T195944Z
UID:10003531-1785781800-1785785400@glccenter.org
SUMMARY:Baile Terapia Dance Class
DESCRIPTION:Join us at the GLC for a FREE Baile Terapia class every Monday @ 6:30PM. \nCome and enjoy different Latin rhythms while we have fun\, exercise\, and take care of our physical and mental health. All ages\, shapes\, and sizes welcome! \nEnglish and Spanish speakers are welcome! \nPut on by instructors Jorge and Haydee. \nTo attend\, just show up. \n 
URL:https://glccenter.org/event/yoga-2/2026-08-03/
LOCATION:Gene Lucas Community Center\, 3000 Newburg Rd Ste C\, Fortuna\, CA\, 95540-2599\, United States
END:VEVENT
BEGIN:VEVENT
DTSTART;TZID=America/Los_Angeles:20260810T183000
DTEND;TZID=America/Los_Angeles:20260810T193000
DTSTAMP:20260422T154246
CREATED:20260128T195943Z
LAST-MODIFIED:20260128T195944Z
UID:10003532-1786386600-1786390200@glccenter.org
SUMMARY:Baile Terapia Dance Class
DESCRIPTION:Join us at the GLC for a FREE Baile Terapia class every Monday @ 6:30PM. \nCome and enjoy different Latin rhythms while we have fun\, exercise\, and take care of our physical and mental health. All ages\, shapes\, and sizes welcome! \nEnglish and Spanish speakers are welcome! \nPut on by instructors Jorge and Haydee. \nTo attend\, just show up. \n 
URL:https://glccenter.org/event/yoga-2/2026-08-10/
LOCATION:Gene Lucas Community Center\, 3000 Newburg Rd Ste C\, Fortuna\, CA\, 95540-2599\, United States
END:VEVENT
BEGIN:VEVENT
DTSTART;TZID=America/Los_Angeles:20260817T183000
DTEND;TZID=America/Los_Angeles:20260817T193000
DTSTAMP:20260422T154246
CREATED:20260128T195943Z
LAST-MODIFIED:20260128T195944Z
UID:10003533-1786991400-1786995000@glccenter.org
SUMMARY:Baile Terapia Dance Class
DESCRIPTION:Join us at the GLC for a FREE Baile Terapia class every Monday @ 6:30PM. \nCome and enjoy different Latin rhythms while we have fun\, exercise\, and take care of our physical and mental health. All ages\, shapes\, and sizes welcome! \nEnglish and Spanish speakers are welcome! \nPut on by instructors Jorge and Haydee. \nTo attend\, just show up. \n 
URL:https://glccenter.org/event/yoga-2/2026-08-17/
LOCATION:Gene Lucas Community Center\, 3000 Newburg Rd Ste C\, Fortuna\, CA\, 95540-2599\, United States
END:VEVENT
BEGIN:VEVENT
DTSTART;TZID=America/Los_Angeles:20260824T183000
DTEND;TZID=America/Los_Angeles:20260824T193000
DTSTAMP:20260422T154246
CREATED:20260128T195943Z
LAST-MODIFIED:20260128T195944Z
UID:10003534-1787596200-1787599800@glccenter.org
SUMMARY:Baile Terapia Dance Class
DESCRIPTION:Join us at the GLC for a FREE Baile Terapia class every Monday @ 6:30PM. \nCome and enjoy different Latin rhythms while we have fun\, exercise\, and take care of our physical and mental health. All ages\, shapes\, and sizes welcome! \nEnglish and Spanish speakers are welcome! \nPut on by instructors Jorge and Haydee. \nTo attend\, just show up. \n 
URL:https://glccenter.org/event/yoga-2/2026-08-24/
LOCATION:Gene Lucas Community Center\, 3000 Newburg Rd Ste C\, Fortuna\, CA\, 95540-2599\, United States
END:VEVENT
BEGIN:VEVENT
DTSTART;TZID=America/Los_Angeles:20260831T183000
DTEND;TZID=America/Los_Angeles:20260831T193000
DTSTAMP:20260422T154246
CREATED:20260128T195943Z
LAST-MODIFIED:20260128T195944Z
UID:10003535-1788201000-1788204600@glccenter.org
SUMMARY:Baile Terapia Dance Class
DESCRIPTION:Join us at the GLC for a FREE Baile Terapia class every Monday @ 6:30PM. \nCome and enjoy different Latin rhythms while we have fun\, exercise\, and take care of our physical and mental health. All ages\, shapes\, and sizes welcome! \nEnglish and Spanish speakers are welcome! \nPut on by instructors Jorge and Haydee. \nTo attend\, just show up. \n 
URL:https://glccenter.org/event/yoga-2/2026-08-31/
LOCATION:Gene Lucas Community Center\, 3000 Newburg Rd Ste C\, Fortuna\, CA\, 95540-2599\, United States
END:VEVENT
BEGIN:VEVENT
DTSTART;TZID=America/Los_Angeles:20260907T183000
DTEND;TZID=America/Los_Angeles:20260907T193000
DTSTAMP:20260422T154246
CREATED:20260128T195943Z
LAST-MODIFIED:20260128T195944Z
UID:10003536-1788805800-1788809400@glccenter.org
SUMMARY:Baile Terapia Dance Class
DESCRIPTION:Join us at the GLC for a FREE Baile Terapia class every Monday @ 6:30PM. \nCome and enjoy different Latin rhythms while we have fun\, exercise\, and take care of our physical and mental health. All ages\, shapes\, and sizes welcome! \nEnglish and Spanish speakers are welcome! \nPut on by instructors Jorge and Haydee. \nTo attend\, just show up. \n 
URL:https://glccenter.org/event/yoga-2/2026-09-07/
LOCATION:Gene Lucas Community Center\, 3000 Newburg Rd Ste C\, Fortuna\, CA\, 95540-2599\, United States
END:VEVENT
BEGIN:VEVENT
DTSTART;TZID=America/Los_Angeles:20260914T183000
DTEND;TZID=America/Los_Angeles:20260914T193000
DTSTAMP:20260422T154246
CREATED:20260128T195943Z
LAST-MODIFIED:20260128T195944Z
UID:10003537-1789410600-1789414200@glccenter.org
SUMMARY:Baile Terapia Dance Class
DESCRIPTION:Join us at the GLC for a FREE Baile Terapia class every Monday @ 6:30PM. \nCome and enjoy different Latin rhythms while we have fun\, exercise\, and take care of our physical and mental health. All ages\, shapes\, and sizes welcome! \nEnglish and Spanish speakers are welcome! \nPut on by instructors Jorge and Haydee. \nTo attend\, just show up. \n 
URL:https://glccenter.org/event/yoga-2/2026-09-14/
LOCATION:Gene Lucas Community Center\, 3000 Newburg Rd Ste C\, Fortuna\, CA\, 95540-2599\, United States
END:VEVENT
BEGIN:VEVENT
DTSTART;TZID=America/Los_Angeles:20260921T183000
DTEND;TZID=America/Los_Angeles:20260921T193000
DTSTAMP:20260422T154246
CREATED:20260128T195943Z
LAST-MODIFIED:20260128T195944Z
UID:10003538-1790015400-1790019000@glccenter.org
SUMMARY:Baile Terapia Dance Class
DESCRIPTION:Join us at the GLC for a FREE Baile Terapia class every Monday @ 6:30PM. \nCome and enjoy different Latin rhythms while we have fun\, exercise\, and take care of our physical and mental health. All ages\, shapes\, and sizes welcome! \nEnglish and Spanish speakers are welcome! \nPut on by instructors Jorge and Haydee. \nTo attend\, just show up. \n 
URL:https://glccenter.org/event/yoga-2/2026-09-21/
LOCATION:Gene Lucas Community Center\, 3000 Newburg Rd Ste C\, Fortuna\, CA\, 95540-2599\, United States
END:VEVENT
BEGIN:VEVENT
DTSTART;TZID=America/Los_Angeles:20260928T183000
DTEND;TZID=America/Los_Angeles:20260928T193000
DTSTAMP:20260422T154246
CREATED:20260128T195943Z
LAST-MODIFIED:20260128T195944Z
UID:10003539-1790620200-1790623800@glccenter.org
SUMMARY:Baile Terapia Dance Class
DESCRIPTION:Join us at the GLC for a FREE Baile Terapia class every Monday @ 6:30PM. \nCome and enjoy different Latin rhythms while we have fun\, exercise\, and take care of our physical and mental health. All ages\, shapes\, and sizes welcome! \nEnglish and Spanish speakers are welcome! \nPut on by instructors Jorge and Haydee. \nTo attend\, just show up. \n 
URL:https://glccenter.org/event/yoga-2/2026-09-28/
LOCATION:Gene Lucas Community Center\, 3000 Newburg Rd Ste C\, Fortuna\, CA\, 95540-2599\, United States
END:VEVENT
BEGIN:VEVENT
DTSTART;TZID=America/Los_Angeles:20261005T183000
DTEND;TZID=America/Los_Angeles:20261005T193000
DTSTAMP:20260422T154246
CREATED:20260128T195943Z
LAST-MODIFIED:20260128T195944Z
UID:10003540-1791225000-1791228600@glccenter.org
SUMMARY:Baile Terapia Dance Class
DESCRIPTION:Join us at the GLC for a FREE Baile Terapia class every Monday @ 6:30PM. \nCome and enjoy different Latin rhythms while we have fun\, exercise\, and take care of our physical and mental health. All ages\, shapes\, and sizes welcome! \nEnglish and Spanish speakers are welcome! \nPut on by instructors Jorge and Haydee. \nTo attend\, just show up. \n 
URL:https://glccenter.org/event/yoga-2/2026-10-05/
LOCATION:Gene Lucas Community Center\, 3000 Newburg Rd Ste C\, Fortuna\, CA\, 95540-2599\, United States
END:VEVENT
BEGIN:VEVENT
DTSTART;TZID=America/Los_Angeles:20261012T183000
DTEND;TZID=America/Los_Angeles:20261012T193000
DTSTAMP:20260422T154246
CREATED:20260128T195943Z
LAST-MODIFIED:20260128T195944Z
UID:10003541-1791829800-1791833400@glccenter.org
SUMMARY:Baile Terapia Dance Class
DESCRIPTION:Join us at the GLC for a FREE Baile Terapia class every Monday @ 6:30PM. \nCome and enjoy different Latin rhythms while we have fun\, exercise\, and take care of our physical and mental health. All ages\, shapes\, and sizes welcome! \nEnglish and Spanish speakers are welcome! \nPut on by instructors Jorge and Haydee. \nTo attend\, just show up. \n 
URL:https://glccenter.org/event/yoga-2/2026-10-12/
LOCATION:Gene Lucas Community Center\, 3000 Newburg Rd Ste C\, Fortuna\, CA\, 95540-2599\, United States
END:VEVENT
BEGIN:VEVENT
DTSTART;TZID=America/Los_Angeles:20261019T183000
DTEND;TZID=America/Los_Angeles:20261019T193000
DTSTAMP:20260422T154246
CREATED:20260128T195943Z
LAST-MODIFIED:20260128T195944Z
UID:10003542-1792434600-1792438200@glccenter.org
SUMMARY:Baile Terapia Dance Class
DESCRIPTION:Join us at the GLC for a FREE Baile Terapia class every Monday @ 6:30PM. \nCome and enjoy different Latin rhythms while we have fun\, exercise\, and take care of our physical and mental health. All ages\, shapes\, and sizes welcome! \nEnglish and Spanish speakers are welcome! \nPut on by instructors Jorge and Haydee. \nTo attend\, just show up. \n 
URL:https://glccenter.org/event/yoga-2/2026-10-19/
LOCATION:Gene Lucas Community Center\, 3000 Newburg Rd Ste C\, Fortuna\, CA\, 95540-2599\, United States
END:VEVENT
BEGIN:VEVENT
DTSTART;TZID=America/Los_Angeles:20261026T183000
DTEND;TZID=America/Los_Angeles:20261026T193000
DTSTAMP:20260422T154246
CREATED:20260128T195943Z
LAST-MODIFIED:20260128T195944Z
UID:10003543-1793039400-1793043000@glccenter.org
SUMMARY:Baile Terapia Dance Class
DESCRIPTION:Join us at the GLC for a FREE Baile Terapia class every Monday @ 6:30PM. \nCome and enjoy different Latin rhythms while we have fun\, exercise\, and take care of our physical and mental health. All ages\, shapes\, and sizes welcome! \nEnglish and Spanish speakers are welcome! \nPut on by instructors Jorge and Haydee. \nTo attend\, just show up. \n 
URL:https://glccenter.org/event/yoga-2/2026-10-26/
LOCATION:Gene Lucas Community Center\, 3000 Newburg Rd Ste C\, Fortuna\, CA\, 95540-2599\, United States
END:VEVENT
BEGIN:VEVENT
DTSTART;TZID=America/Los_Angeles:20261102T183000
DTEND;TZID=America/Los_Angeles:20261102T193000
DTSTAMP:20260422T154246
CREATED:20260128T195943Z
LAST-MODIFIED:20260128T195944Z
UID:10003544-1793644200-1793647800@glccenter.org
SUMMARY:Baile Terapia Dance Class
DESCRIPTION:Join us at the GLC for a FREE Baile Terapia class every Monday @ 6:30PM. \nCome and enjoy different Latin rhythms while we have fun\, exercise\, and take care of our physical and mental health. All ages\, shapes\, and sizes welcome! \nEnglish and Spanish speakers are welcome! \nPut on by instructors Jorge and Haydee. \nTo attend\, just show up. \n 
URL:https://glccenter.org/event/yoga-2/2026-11-02/
LOCATION:Gene Lucas Community Center\, 3000 Newburg Rd Ste C\, Fortuna\, CA\, 95540-2599\, United States
END:VEVENT
BEGIN:VEVENT
DTSTART;TZID=America/Los_Angeles:20261109T183000
DTEND;TZID=America/Los_Angeles:20261109T193000
DTSTAMP:20260422T154246
CREATED:20260128T195943Z
LAST-MODIFIED:20260128T195944Z
UID:10003545-1794249000-1794252600@glccenter.org
SUMMARY:Baile Terapia Dance Class
DESCRIPTION:Join us at the GLC for a FREE Baile Terapia class every Monday @ 6:30PM. \nCome and enjoy different Latin rhythms while we have fun\, exercise\, and take care of our physical and mental health. All ages\, shapes\, and sizes welcome! \nEnglish and Spanish speakers are welcome! \nPut on by instructors Jorge and Haydee. \nTo attend\, just show up. \n 
URL:https://glccenter.org/event/yoga-2/2026-11-09/
LOCATION:Gene Lucas Community Center\, 3000 Newburg Rd Ste C\, Fortuna\, CA\, 95540-2599\, United States
END:VEVENT
BEGIN:VEVENT
DTSTART;TZID=America/Los_Angeles:20261116T183000
DTEND;TZID=America/Los_Angeles:20261116T193000
DTSTAMP:20260422T154246
CREATED:20260128T195943Z
LAST-MODIFIED:20260128T195944Z
UID:10003546-1794853800-1794857400@glccenter.org
SUMMARY:Baile Terapia Dance Class
DESCRIPTION:Join us at the GLC for a FREE Baile Terapia class every Monday @ 6:30PM. \nCome and enjoy different Latin rhythms while we have fun\, exercise\, and take care of our physical and mental health. All ages\, shapes\, and sizes welcome! \nEnglish and Spanish speakers are welcome! \nPut on by instructors Jorge and Haydee. \nTo attend\, just show up. \n 
URL:https://glccenter.org/event/yoga-2/2026-11-16/
LOCATION:Gene Lucas Community Center\, 3000 Newburg Rd Ste C\, Fortuna\, CA\, 95540-2599\, United States
END:VEVENT
END:VCALENDAR