BEGIN:VCALENDAR
VERSION:2.0
PRODID:-//Gene Lucas Community Center - ECPv6.15.20//NONSGML v1.0//EN
CALSCALE:GREGORIAN
METHOD:PUBLISH
X-ORIGINAL-URL:https://glccenter.org
X-WR-CALDESC:Events for Gene Lucas Community Center
REFRESH-INTERVAL;VALUE=DURATION:PT1H
X-Robots-Tag:noindex
X-PUBLISHED-TTL:PT1H
BEGIN:VTIMEZONE
TZID:America/Los_Angeles
BEGIN:DAYLIGHT
TZOFFSETFROM:-0800
TZOFFSETTO:-0700
TZNAME:PDT
DTSTART:20240310T100000
END:DAYLIGHT
BEGIN:STANDARD
TZOFFSETFROM:-0700
TZOFFSETTO:-0800
TZNAME:PST
DTSTART:20241103T090000
END:STANDARD
BEGIN:DAYLIGHT
TZOFFSETFROM:-0800
TZOFFSETTO:-0700
TZNAME:PDT
DTSTART:20250309T100000
END:DAYLIGHT
BEGIN:STANDARD
TZOFFSETFROM:-0700
TZOFFSETTO:-0800
TZNAME:PST
DTSTART:20251102T090000
END:STANDARD
BEGIN:DAYLIGHT
TZOFFSETFROM:-0800
TZOFFSETTO:-0700
TZNAME:PDT
DTSTART:20260308T100000
END:DAYLIGHT
BEGIN:STANDARD
TZOFFSETFROM:-0700
TZOFFSETTO:-0800
TZNAME:PST
DTSTART:20261101T090000
END:STANDARD
BEGIN:DAYLIGHT
TZOFFSETFROM:-0800
TZOFFSETTO:-0700
TZNAME:PDT
DTSTART:20270314T100000
END:DAYLIGHT
BEGIN:STANDARD
TZOFFSETFROM:-0700
TZOFFSETTO:-0800
TZNAME:PST
DTSTART:20271107T090000
END:STANDARD
END:VTIMEZONE
BEGIN:VEVENT
DTSTART;TZID=America/Los_Angeles:20260420T183000
DTEND;TZID=America/Los_Angeles:20260420T193000
DTSTAMP:20260422T100854
CREATED:20260128T195943Z
LAST-MODIFIED:20260128T195944Z
UID:10003516-1776709800-1776713400@glccenter.org
SUMMARY:Baile Terapia Dance Class
DESCRIPTION:Join us at the GLC for a FREE Baile Terapia class every Monday @ 6:30PM. \nCome and enjoy different Latin rhythms while we have fun\, exercise\, and take care of our physical and mental health. All ages\, shapes\, and sizes welcome! \nEnglish and Spanish speakers are welcome! \nPut on by instructors Jorge and Haydee. \nTo attend\, just show up. \n 
URL:https://glccenter.org/event/yoga-2/2026-04-20/
LOCATION:Gene Lucas Community Center\, 3000 Newburg Rd Ste C\, Fortuna\, CA\, 95540-2599\, United States
END:VEVENT
BEGIN:VEVENT
DTSTART;TZID=America/Los_Angeles:20260413T183000
DTEND;TZID=America/Los_Angeles:20260413T193000
DTSTAMP:20260422T100854
CREATED:20260128T195943Z
LAST-MODIFIED:20260128T195944Z
UID:10003515-1776105000-1776108600@glccenter.org
SUMMARY:Baile Terapia Dance Class
DESCRIPTION:Join us at the GLC for a FREE Baile Terapia class every Monday @ 6:30PM. \nCome and enjoy different Latin rhythms while we have fun\, exercise\, and take care of our physical and mental health. All ages\, shapes\, and sizes welcome! \nEnglish and Spanish speakers are welcome! \nPut on by instructors Jorge and Haydee. \nTo attend\, just show up. \n 
URL:https://glccenter.org/event/yoga-2/2026-04-13/
LOCATION:Gene Lucas Community Center\, 3000 Newburg Rd Ste C\, Fortuna\, CA\, 95540-2599\, United States
END:VEVENT
BEGIN:VEVENT
DTSTART;TZID=America/Los_Angeles:20260406T183000
DTEND;TZID=America/Los_Angeles:20260406T193000
DTSTAMP:20260422T100854
CREATED:20260128T195943Z
LAST-MODIFIED:20260128T195944Z
UID:10003514-1775500200-1775503800@glccenter.org
SUMMARY:Baile Terapia Dance Class
DESCRIPTION:Join us at the GLC for a FREE Baile Terapia class every Monday @ 6:30PM. \nCome and enjoy different Latin rhythms while we have fun\, exercise\, and take care of our physical and mental health. All ages\, shapes\, and sizes welcome! \nEnglish and Spanish speakers are welcome! \nPut on by instructors Jorge and Haydee. \nTo attend\, just show up. \n 
URL:https://glccenter.org/event/yoga-2/2026-04-06/
LOCATION:Gene Lucas Community Center\, 3000 Newburg Rd Ste C\, Fortuna\, CA\, 95540-2599\, United States
END:VEVENT
BEGIN:VEVENT
DTSTART;TZID=America/Los_Angeles:20260330T183000
DTEND;TZID=America/Los_Angeles:20260330T193000
DTSTAMP:20260422T100854
CREATED:20260128T195943Z
LAST-MODIFIED:20260128T195944Z
UID:10003513-1774895400-1774899000@glccenter.org
SUMMARY:Baile Terapia Dance Class
DESCRIPTION:Join us at the GLC for a FREE Baile Terapia class every Monday @ 6:30PM. \nCome and enjoy different Latin rhythms while we have fun\, exercise\, and take care of our physical and mental health. All ages\, shapes\, and sizes welcome! \nEnglish and Spanish speakers are welcome! \nPut on by instructors Jorge and Haydee. \nTo attend\, just show up. \n 
URL:https://glccenter.org/event/yoga-2/2026-03-30/
LOCATION:Gene Lucas Community Center\, 3000 Newburg Rd Ste C\, Fortuna\, CA\, 95540-2599\, United States
END:VEVENT
BEGIN:VEVENT
DTSTART;TZID=America/Los_Angeles:20260323T183000
DTEND;TZID=America/Los_Angeles:20260323T193000
DTSTAMP:20260422T100854
CREATED:20260128T195943Z
LAST-MODIFIED:20260128T195944Z
UID:10003512-1774290600-1774294200@glccenter.org
SUMMARY:Baile Terapia Dance Class
DESCRIPTION:Join us at the GLC for a FREE Baile Terapia class every Monday @ 6:30PM. \nCome and enjoy different Latin rhythms while we have fun\, exercise\, and take care of our physical and mental health. All ages\, shapes\, and sizes welcome! \nEnglish and Spanish speakers are welcome! \nPut on by instructors Jorge and Haydee. \nTo attend\, just show up. \n 
URL:https://glccenter.org/event/yoga-2/2026-03-23/
LOCATION:Gene Lucas Community Center\, 3000 Newburg Rd Ste C\, Fortuna\, CA\, 95540-2599\, United States
END:VEVENT
BEGIN:VEVENT
DTSTART;TZID=America/Los_Angeles:20260316T183000
DTEND;TZID=America/Los_Angeles:20260316T193000
DTSTAMP:20260422T100854
CREATED:20260128T195943Z
LAST-MODIFIED:20260128T195944Z
UID:10003511-1773685800-1773689400@glccenter.org
SUMMARY:Baile Terapia Dance Class
DESCRIPTION:Join us at the GLC for a FREE Baile Terapia class every Monday @ 6:30PM. \nCome and enjoy different Latin rhythms while we have fun\, exercise\, and take care of our physical and mental health. All ages\, shapes\, and sizes welcome! \nEnglish and Spanish speakers are welcome! \nPut on by instructors Jorge and Haydee. \nTo attend\, just show up. \n 
URL:https://glccenter.org/event/yoga-2/2026-03-16/
LOCATION:Gene Lucas Community Center\, 3000 Newburg Rd Ste C\, Fortuna\, CA\, 95540-2599\, United States
END:VEVENT
BEGIN:VEVENT
DTSTART;TZID=America/Los_Angeles:20260309T183000
DTEND;TZID=America/Los_Angeles:20260309T193000
DTSTAMP:20260422T100854
CREATED:20260128T195943Z
LAST-MODIFIED:20260128T195944Z
UID:10003510-1773081000-1773084600@glccenter.org
SUMMARY:Baile Terapia Dance Class
DESCRIPTION:Join us at the GLC for a FREE Baile Terapia class every Monday @ 6:30PM. \nCome and enjoy different Latin rhythms while we have fun\, exercise\, and take care of our physical and mental health. All ages\, shapes\, and sizes welcome! \nEnglish and Spanish speakers are welcome! \nPut on by instructors Jorge and Haydee. \nTo attend\, just show up. \n 
URL:https://glccenter.org/event/yoga-2/2026-03-09/
LOCATION:Gene Lucas Community Center\, 3000 Newburg Rd Ste C\, Fortuna\, CA\, 95540-2599\, United States
END:VEVENT
BEGIN:VEVENT
DTSTART;TZID=America/Los_Angeles:20260302T183000
DTEND;TZID=America/Los_Angeles:20260302T193000
DTSTAMP:20260422T100854
CREATED:20260128T195943Z
LAST-MODIFIED:20260128T195944Z
UID:10003509-1772476200-1772479800@glccenter.org
SUMMARY:Baile Terapia Dance Class
DESCRIPTION:Join us at the GLC for a FREE Baile Terapia class every Monday @ 6:30PM. \nCome and enjoy different Latin rhythms while we have fun\, exercise\, and take care of our physical and mental health. All ages\, shapes\, and sizes welcome! \nEnglish and Spanish speakers are welcome! \nPut on by instructors Jorge and Haydee. \nTo attend\, just show up. \n 
URL:https://glccenter.org/event/yoga-2/2026-03-02/
LOCATION:Gene Lucas Community Center\, 3000 Newburg Rd Ste C\, Fortuna\, CA\, 95540-2599\, United States
END:VEVENT
BEGIN:VEVENT
DTSTART;TZID=America/Los_Angeles:20260223T183000
DTEND;TZID=America/Los_Angeles:20260223T193000
DTSTAMP:20260422T100854
CREATED:20260128T195943Z
LAST-MODIFIED:20260128T195944Z
UID:10003508-1771871400-1771875000@glccenter.org
SUMMARY:Baile Terapia Dance Class
DESCRIPTION:Join us at the GLC for a FREE Baile Terapia class every Monday @ 6:30PM. \nCome and enjoy different Latin rhythms while we have fun\, exercise\, and take care of our physical and mental health. All ages\, shapes\, and sizes welcome! \nEnglish and Spanish speakers are welcome! \nPut on by instructors Jorge and Haydee. \nTo attend\, just show up. \n 
URL:https://glccenter.org/event/yoga-2/2026-02-23/
LOCATION:Gene Lucas Community Center\, 3000 Newburg Rd Ste C\, Fortuna\, CA\, 95540-2599\, United States
END:VEVENT
BEGIN:VEVENT
DTSTART;TZID=America/Los_Angeles:20260216T183000
DTEND;TZID=America/Los_Angeles:20260216T193000
DTSTAMP:20260422T100854
CREATED:20260206T002110Z
LAST-MODIFIED:20260206T002110Z
UID:10003507-1771266600-1771270200@glccenter.org
SUMMARY:Baile Terapia Dance Class
DESCRIPTION:Join us at the GLC for a FREE Baile Terapia class every Monday @ 6:30PM. \nCome and enjoy different Latin rhythms while we have fun\, exercise\, and take care of our physical and mental health. All ages\, shapes\, and sizes welcome! \nEnglish and Spanish speakers are welcome! \nPut on by instructors Jorge and Haydee. \nTo attend\, just show up. \n 
URL:https://glccenter.org/event/yoga-2-3/
LOCATION:Gene Lucas Community Center\, 3000 Newburg Rd Ste C\, Fortuna\, CA\, 95540-2599\, United States
END:VEVENT
BEGIN:VEVENT
DTSTART;TZID=America/Los_Angeles:20260209T183000
DTEND;TZID=America/Los_Angeles:20260209T193000
DTSTAMP:20260422T100854
CREATED:20260206T001955Z
LAST-MODIFIED:20260206T001955Z
UID:10003506-1770661800-1770665400@glccenter.org
SUMMARY:Baile Terapia Dance Class
DESCRIPTION:Join us at the GLC for a FREE Baile Terapia class every Monday @ 6:30PM. \nCome and enjoy different Latin rhythms while we have fun\, exercise\, and take care of our physical and mental health. All ages\, shapes\, and sizes welcome! \nEnglish and Spanish speakers are welcome! \nPut on by instructors Jorge and Haydee. \nTo attend\, just show up. \n 
URL:https://glccenter.org/event/yoga-2-2/
LOCATION:Gene Lucas Community Center\, 3000 Newburg Rd Ste C\, Fortuna\, CA\, 95540-2599\, United States
END:VEVENT
BEGIN:VEVENT
DTSTART;TZID=America/Los_Angeles:20260202T183000
DTEND;TZID=America/Los_Angeles:20260202T193000
DTSTAMP:20260422T100854
CREATED:20260128T195943Z
LAST-MODIFIED:20260128T195944Z
UID:10003505-1770057000-1770060600@glccenter.org
SUMMARY:Baile Terapia Dance Class
DESCRIPTION:Join us at the GLC for a FREE Baile Terapia class every Monday @ 6:30PM. \nCome and enjoy different Latin rhythms while we have fun\, exercise\, and take care of our physical and mental health. All ages\, shapes\, and sizes welcome! \nEnglish and Spanish speakers are welcome! \nPut on by instructors Jorge and Haydee. \nTo attend\, just show up. \n 
URL:https://glccenter.org/event/yoga-2/2026-02-02/
LOCATION:Gene Lucas Community Center\, 3000 Newburg Rd Ste C\, Fortuna\, CA\, 95540-2599\, United States
END:VEVENT
BEGIN:VEVENT
DTSTART;TZID=America/Los_Angeles:20260126T183000
DTEND;TZID=America/Los_Angeles:20260126T193000
DTSTAMP:20260422T100854
CREATED:20260128T195943Z
LAST-MODIFIED:20260128T195944Z
UID:10003504-1769452200-1769455800@glccenter.org
SUMMARY:Baile Terapia Dance Class
DESCRIPTION:Join us at the GLC for a FREE Baile Terapia class every Monday @ 6:30PM. \nCome and enjoy different Latin rhythms while we have fun\, exercise\, and take care of our physical and mental health. All ages\, shapes\, and sizes welcome! \nEnglish and Spanish speakers are welcome! \nPut on by instructors Jorge and Haydee. \nTo attend\, just show up. \n 
URL:https://glccenter.org/event/yoga-2/2026-01-26/
LOCATION:Gene Lucas Community Center\, 3000 Newburg Rd Ste C\, Fortuna\, CA\, 95540-2599\, United States
END:VEVENT
BEGIN:VEVENT
DTSTART;TZID=America/Los_Angeles:20260119T183000
DTEND;TZID=America/Los_Angeles:20260119T193000
DTSTAMP:20260422T100854
CREATED:20250111T180136Z
LAST-MODIFIED:20260128T195427Z
UID:10003503-1768847400-1768851000@glccenter.org
SUMMARY:Baile Terapia Dance Class
DESCRIPTION:Join us at the GLC for a FREE Baile Terapia class every Monday @ 6:30PM. \nCome and enjoy different Latin rhythms while we have fun\, exercise\, and take care of our physical and mental health. All ages\, shapes\, and sizes welcome! \nEnglish and Spanish speakers are welcome. \nTo attend\, just show up. \n 
URL:https://glccenter.org/event/yoga/2026-01-19/
LOCATION:Gene Lucas Community Center\, 3000 Newburg Rd Ste C\, Fortuna\, CA\, 95540-2599\, United States
END:VEVENT
BEGIN:VEVENT
DTSTART;TZID=America/Los_Angeles:20260112T183000
DTEND;TZID=America/Los_Angeles:20260112T193000
DTSTAMP:20260422T100854
CREATED:20250111T180136Z
LAST-MODIFIED:20260128T195427Z
UID:10003502-1768242600-1768246200@glccenter.org
SUMMARY:Baile Terapia Dance Class
DESCRIPTION:Join us at the GLC for a FREE Baile Terapia class every Monday @ 6:30PM. \nCome and enjoy different Latin rhythms while we have fun\, exercise\, and take care of our physical and mental health. All ages\, shapes\, and sizes welcome! \nEnglish and Spanish speakers are welcome. \nTo attend\, just show up. \n 
URL:https://glccenter.org/event/yoga/2026-01-12/
LOCATION:Gene Lucas Community Center\, 3000 Newburg Rd Ste C\, Fortuna\, CA\, 95540-2599\, United States
END:VEVENT
BEGIN:VEVENT
DTSTART;TZID=America/Los_Angeles:20260105T183000
DTEND;TZID=America/Los_Angeles:20260105T193000
DTSTAMP:20260422T100854
CREATED:20250111T180136Z
LAST-MODIFIED:20260128T195427Z
UID:10003501-1767637800-1767641400@glccenter.org
SUMMARY:Baile Terapia Dance Class
DESCRIPTION:Join us at the GLC for a FREE Baile Terapia class every Monday @ 6:30PM. \nCome and enjoy different Latin rhythms while we have fun\, exercise\, and take care of our physical and mental health. All ages\, shapes\, and sizes welcome! \nEnglish and Spanish speakers are welcome. \nTo attend\, just show up. \n 
URL:https://glccenter.org/event/yoga/2026-01-05/
LOCATION:Gene Lucas Community Center\, 3000 Newburg Rd Ste C\, Fortuna\, CA\, 95540-2599\, United States
END:VEVENT
BEGIN:VEVENT
DTSTART;TZID=America/Los_Angeles:20251229T183000
DTEND;TZID=America/Los_Angeles:20251229T193000
DTSTAMP:20260422T100854
CREATED:20250111T180136Z
LAST-MODIFIED:20260128T195427Z
UID:10003500-1767033000-1767036600@glccenter.org
SUMMARY:Baile Terapia Dance Class
DESCRIPTION:Join us at the GLC for a FREE Baile Terapia class every Monday @ 6:30PM. \nCome and enjoy different Latin rhythms while we have fun\, exercise\, and take care of our physical and mental health. All ages\, shapes\, and sizes welcome! \nEnglish and Spanish speakers are welcome. \nTo attend\, just show up. \n 
URL:https://glccenter.org/event/yoga/2025-12-29/
LOCATION:Gene Lucas Community Center\, 3000 Newburg Rd Ste C\, Fortuna\, CA\, 95540-2599\, United States
END:VEVENT
BEGIN:VEVENT
DTSTART;TZID=America/Los_Angeles:20251222T183000
DTEND;TZID=America/Los_Angeles:20251222T193000
DTSTAMP:20260422T100854
CREATED:20250111T180136Z
LAST-MODIFIED:20260128T195427Z
UID:10003499-1766428200-1766431800@glccenter.org
SUMMARY:Baile Terapia Dance Class
DESCRIPTION:Join us at the GLC for a FREE Baile Terapia class every Monday @ 6:30PM. \nCome and enjoy different Latin rhythms while we have fun\, exercise\, and take care of our physical and mental health. All ages\, shapes\, and sizes welcome! \nEnglish and Spanish speakers are welcome. \nTo attend\, just show up. \n 
URL:https://glccenter.org/event/yoga/2025-12-22/
LOCATION:Gene Lucas Community Center\, 3000 Newburg Rd Ste C\, Fortuna\, CA\, 95540-2599\, United States
END:VEVENT
BEGIN:VEVENT
DTSTART;TZID=America/Los_Angeles:20251215T183000
DTEND;TZID=America/Los_Angeles:20251215T193000
DTSTAMP:20260422T100854
CREATED:20250111T180136Z
LAST-MODIFIED:20260128T195427Z
UID:10003498-1765823400-1765827000@glccenter.org
SUMMARY:Baile Terapia Dance Class
DESCRIPTION:Join us at the GLC for a FREE Baile Terapia class every Monday @ 6:30PM. \nCome and enjoy different Latin rhythms while we have fun\, exercise\, and take care of our physical and mental health. All ages\, shapes\, and sizes welcome! \nEnglish and Spanish speakers are welcome. \nTo attend\, just show up. \n 
URL:https://glccenter.org/event/yoga/2025-12-15/
LOCATION:Gene Lucas Community Center\, 3000 Newburg Rd Ste C\, Fortuna\, CA\, 95540-2599\, United States
END:VEVENT
BEGIN:VEVENT
DTSTART;TZID=America/Los_Angeles:20251208T183000
DTEND;TZID=America/Los_Angeles:20251208T193000
DTSTAMP:20260422T100854
CREATED:20250111T180136Z
LAST-MODIFIED:20260128T195427Z
UID:10003497-1765218600-1765222200@glccenter.org
SUMMARY:Baile Terapia Dance Class
DESCRIPTION:Join us at the GLC for a FREE Baile Terapia class every Monday @ 6:30PM. \nCome and enjoy different Latin rhythms while we have fun\, exercise\, and take care of our physical and mental health. All ages\, shapes\, and sizes welcome! \nEnglish and Spanish speakers are welcome. \nTo attend\, just show up. \n 
URL:https://glccenter.org/event/yoga/2025-12-08/
LOCATION:Gene Lucas Community Center\, 3000 Newburg Rd Ste C\, Fortuna\, CA\, 95540-2599\, United States
END:VEVENT
BEGIN:VEVENT
DTSTART;TZID=America/Los_Angeles:20251201T183000
DTEND;TZID=America/Los_Angeles:20251201T193000
DTSTAMP:20260422T100854
CREATED:20250111T180136Z
LAST-MODIFIED:20260128T195427Z
UID:10003496-1764613800-1764617400@glccenter.org
SUMMARY:Baile Terapia Dance Class
DESCRIPTION:Join us at the GLC for a FREE Baile Terapia class every Monday @ 6:30PM. \nCome and enjoy different Latin rhythms while we have fun\, exercise\, and take care of our physical and mental health. All ages\, shapes\, and sizes welcome! \nEnglish and Spanish speakers are welcome. \nTo attend\, just show up. \n 
URL:https://glccenter.org/event/yoga/2025-12-01/
LOCATION:Gene Lucas Community Center\, 3000 Newburg Rd Ste C\, Fortuna\, CA\, 95540-2599\, United States
END:VEVENT
BEGIN:VEVENT
DTSTART;TZID=America/Los_Angeles:20251124T183000
DTEND;TZID=America/Los_Angeles:20251124T193000
DTSTAMP:20260422T100854
CREATED:20250111T180136Z
LAST-MODIFIED:20260128T195427Z
UID:10003495-1764009000-1764012600@glccenter.org
SUMMARY:Baile Terapia Dance Class
DESCRIPTION:Join us at the GLC for a FREE Baile Terapia class every Monday @ 6:30PM. \nCome and enjoy different Latin rhythms while we have fun\, exercise\, and take care of our physical and mental health. All ages\, shapes\, and sizes welcome! \nEnglish and Spanish speakers are welcome. \nTo attend\, just show up. \n 
URL:https://glccenter.org/event/yoga/2025-11-24/
LOCATION:Gene Lucas Community Center\, 3000 Newburg Rd Ste C\, Fortuna\, CA\, 95540-2599\, United States
END:VEVENT
BEGIN:VEVENT
DTSTART;TZID=America/Los_Angeles:20251117T183000
DTEND;TZID=America/Los_Angeles:20251117T193000
DTSTAMP:20260422T100854
CREATED:20250111T180136Z
LAST-MODIFIED:20260128T195427Z
UID:10003494-1763404200-1763407800@glccenter.org
SUMMARY:Baile Terapia Dance Class
DESCRIPTION:Join us at the GLC for a FREE Baile Terapia class every Monday @ 6:30PM. \nCome and enjoy different Latin rhythms while we have fun\, exercise\, and take care of our physical and mental health. All ages\, shapes\, and sizes welcome! \nEnglish and Spanish speakers are welcome. \nTo attend\, just show up. \n 
URL:https://glccenter.org/event/yoga/2025-11-17/
LOCATION:Gene Lucas Community Center\, 3000 Newburg Rd Ste C\, Fortuna\, CA\, 95540-2599\, United States
END:VEVENT
BEGIN:VEVENT
DTSTART;TZID=America/Los_Angeles:20251110T183000
DTEND;TZID=America/Los_Angeles:20251110T193000
DTSTAMP:20260422T100854
CREATED:20250111T180136Z
LAST-MODIFIED:20260128T195427Z
UID:10003493-1762799400-1762803000@glccenter.org
SUMMARY:Baile Terapia Dance Class
DESCRIPTION:Join us at the GLC for a FREE Baile Terapia class every Monday @ 6:30PM. \nCome and enjoy different Latin rhythms while we have fun\, exercise\, and take care of our physical and mental health. All ages\, shapes\, and sizes welcome! \nEnglish and Spanish speakers are welcome. \nTo attend\, just show up. \n 
URL:https://glccenter.org/event/yoga/2025-11-10/
LOCATION:Gene Lucas Community Center\, 3000 Newburg Rd Ste C\, Fortuna\, CA\, 95540-2599\, United States
END:VEVENT
BEGIN:VEVENT
DTSTART;TZID=America/Los_Angeles:20251103T183000
DTEND;TZID=America/Los_Angeles:20251103T193000
DTSTAMP:20260422T100854
CREATED:20250111T180136Z
LAST-MODIFIED:20260128T195427Z
UID:10003492-1762194600-1762198200@glccenter.org
SUMMARY:Baile Terapia Dance Class
DESCRIPTION:Join us at the GLC for a FREE Baile Terapia class every Monday @ 6:30PM. \nCome and enjoy different Latin rhythms while we have fun\, exercise\, and take care of our physical and mental health. All ages\, shapes\, and sizes welcome! \nEnglish and Spanish speakers are welcome. \nTo attend\, just show up. \n 
URL:https://glccenter.org/event/yoga/2025-11-03/
LOCATION:Gene Lucas Community Center\, 3000 Newburg Rd Ste C\, Fortuna\, CA\, 95540-2599\, United States
END:VEVENT
BEGIN:VEVENT
DTSTART;TZID=America/Los_Angeles:20251027T183000
DTEND;TZID=America/Los_Angeles:20251027T193000
DTSTAMP:20260422T100854
CREATED:20250111T180136Z
LAST-MODIFIED:20260128T195427Z
UID:10003491-1761589800-1761593400@glccenter.org
SUMMARY:Baile Terapia Dance Class
DESCRIPTION:Join us at the GLC for a FREE Baile Terapia class every Monday @ 6:30PM. \nCome and enjoy different Latin rhythms while we have fun\, exercise\, and take care of our physical and mental health. All ages\, shapes\, and sizes welcome! \nEnglish and Spanish speakers are welcome. \nTo attend\, just show up. \n 
URL:https://glccenter.org/event/yoga/2025-10-27/
LOCATION:Gene Lucas Community Center\, 3000 Newburg Rd Ste C\, Fortuna\, CA\, 95540-2599\, United States
END:VEVENT
BEGIN:VEVENT
DTSTART;TZID=America/Los_Angeles:20251020T183000
DTEND;TZID=America/Los_Angeles:20251020T193000
DTSTAMP:20260422T100854
CREATED:20250111T180136Z
LAST-MODIFIED:20260128T195427Z
UID:10003490-1760985000-1760988600@glccenter.org
SUMMARY:Baile Terapia Dance Class
DESCRIPTION:Join us at the GLC for a FREE Baile Terapia class every Monday @ 6:30PM. \nCome and enjoy different Latin rhythms while we have fun\, exercise\, and take care of our physical and mental health. All ages\, shapes\, and sizes welcome! \nEnglish and Spanish speakers are welcome. \nTo attend\, just show up. \n 
URL:https://glccenter.org/event/yoga/2025-10-20/
LOCATION:Gene Lucas Community Center\, 3000 Newburg Rd Ste C\, Fortuna\, CA\, 95540-2599\, United States
END:VEVENT
BEGIN:VEVENT
DTSTART;TZID=America/Los_Angeles:20251013T183000
DTEND;TZID=America/Los_Angeles:20251013T193000
DTSTAMP:20260422T100854
CREATED:20250111T180136Z
LAST-MODIFIED:20260128T195427Z
UID:10003489-1760380200-1760383800@glccenter.org
SUMMARY:Baile Terapia Dance Class
DESCRIPTION:Join us at the GLC for a FREE Baile Terapia class every Monday @ 6:30PM. \nCome and enjoy different Latin rhythms while we have fun\, exercise\, and take care of our physical and mental health. All ages\, shapes\, and sizes welcome! \nEnglish and Spanish speakers are welcome. \nTo attend\, just show up. \n 
URL:https://glccenter.org/event/yoga/2025-10-13/
LOCATION:Gene Lucas Community Center\, 3000 Newburg Rd Ste C\, Fortuna\, CA\, 95540-2599\, United States
END:VEVENT
BEGIN:VEVENT
DTSTART;TZID=America/Los_Angeles:20251006T183000
DTEND;TZID=America/Los_Angeles:20251006T193000
DTSTAMP:20260422T100854
CREATED:20250111T180136Z
LAST-MODIFIED:20260128T195427Z
UID:10003488-1759775400-1759779000@glccenter.org
SUMMARY:Baile Terapia Dance Class
DESCRIPTION:Join us at the GLC for a FREE Baile Terapia class every Monday @ 6:30PM. \nCome and enjoy different Latin rhythms while we have fun\, exercise\, and take care of our physical and mental health. All ages\, shapes\, and sizes welcome! \nEnglish and Spanish speakers are welcome. \nTo attend\, just show up. \n 
URL:https://glccenter.org/event/yoga/2025-10-06/
LOCATION:Gene Lucas Community Center\, 3000 Newburg Rd Ste C\, Fortuna\, CA\, 95540-2599\, United States
END:VEVENT
BEGIN:VEVENT
DTSTART;TZID=America/Los_Angeles:20250929T183000
DTEND;TZID=America/Los_Angeles:20250929T193000
DTSTAMP:20260422T100854
CREATED:20250111T180136Z
LAST-MODIFIED:20260128T195427Z
UID:10003487-1759170600-1759174200@glccenter.org
SUMMARY:Baile Terapia Dance Class
DESCRIPTION:Join us at the GLC for a FREE Baile Terapia class every Monday @ 6:30PM. \nCome and enjoy different Latin rhythms while we have fun\, exercise\, and take care of our physical and mental health. All ages\, shapes\, and sizes welcome! \nEnglish and Spanish speakers are welcome. \nTo attend\, just show up. \n 
URL:https://glccenter.org/event/yoga/2025-09-29/
LOCATION:Gene Lucas Community Center\, 3000 Newburg Rd Ste C\, Fortuna\, CA\, 95540-2599\, United States
END:VEVENT
END:VCALENDAR