BEGIN:VCALENDAR
VERSION:2.0
PRODID:-//Gene Lucas Community Center - ECPv6.15.20//NONSGML v1.0//EN
CALSCALE:GREGORIAN
METHOD:PUBLISH
X-ORIGINAL-URL:https://glccenter.org
X-WR-CALDESC:Events for Gene Lucas Community Center
REFRESH-INTERVAL;VALUE=DURATION:PT1H
X-Robots-Tag:noindex
X-PUBLISHED-TTL:PT1H
BEGIN:VTIMEZONE
TZID:America/Los_Angeles
BEGIN:DAYLIGHT
TZOFFSETFROM:-0800
TZOFFSETTO:-0700
TZNAME:PDT
DTSTART:20280312T100000
END:DAYLIGHT
BEGIN:STANDARD
TZOFFSETFROM:-0700
TZOFFSETTO:-0800
TZNAME:PST
DTSTART:20281105T090000
END:STANDARD
BEGIN:DAYLIGHT
TZOFFSETFROM:-0800
TZOFFSETTO:-0700
TZNAME:PDT
DTSTART:20290311T100000
END:DAYLIGHT
BEGIN:STANDARD
TZOFFSETFROM:-0700
TZOFFSETTO:-0800
TZNAME:PST
DTSTART:20291104T090000
END:STANDARD
BEGIN:DAYLIGHT
TZOFFSETFROM:-0800
TZOFFSETTO:-0700
TZNAME:PDT
DTSTART:20300310T100000
END:DAYLIGHT
BEGIN:STANDARD
TZOFFSETFROM:-0700
TZOFFSETTO:-0800
TZNAME:PST
DTSTART:20301103T090000
END:STANDARD
END:VTIMEZONE
BEGIN:VEVENT
DTSTART;TZID=America/Los_Angeles:20290217T100000
DTEND;TZID=America/Los_Angeles:20290217T120000
DTSTAMP:20260423T102414
CREATED:20260324T231918Z
LAST-MODIFIED:20260324T231918Z
UID:10006835-1866016800-1866024000@glccenter.org
SUMMARY:Book Club
DESCRIPTION:Come be part of the Lost Coast Book Club where great books spark great conversations and new friendships! \nOur biweekly saturday club is led by our wonderful volunteer Raven and is a welcoming space to connect\, share ideas\, and enjoy reading together. \nFind the group and stay updated here:https://www.facebook.com/groups/1408759587411534/ \nHave questions? Email Layla at layla@glccenter.org
URL:https://glccenter.org/event/book-club-2/2029-02-17/
LOCATION:Gene Lucas Community Center\, 3000 Newburg Rd Ste C\, Fortuna\, CA\, 95540-2599\, United States
ORGANIZER;CN="Gene Lucas Community Center":MAILTO:layla@glccenter.org
END:VEVENT
BEGIN:VEVENT
DTSTART;TZID=America/Los_Angeles:20290301T180000
DTEND;TZID=America/Los_Angeles:20290301T190000
DTSTAMP:20260423T102414
CREATED:20260325T172802Z
LAST-MODIFIED:20260325T172802Z
UID:10006931-1867082400-1867086000@glccenter.org
SUMMARY:Craft Night
DESCRIPTION:Come join us for a creative adventure! \nBring something you’ve been working on or jump into a project we’ve put together for the night. It’s a relaxed space to create and connect. \nFree to all. All ages welcome.Children under 16 must be accompanied by a parent or guardian. This is a calm\, creative environment\, so it may not be the best fit for high-energy kiddos. \nEach month features a new art project led by our wonderful volunteer\, Debbi Sholes. \nFirst Thursday of every month | 6:00PM – 7:00PM
URL:https://glccenter.org/event/open-art-night-2-2-2/2029-03-01/
LOCATION:Gene Lucas Community Center\, 3000 Newburg Rd Ste C\, Fortuna\, CA\, 95540-2599\, United States
ORGANIZER;CN="Gene Lucas Community Center":MAILTO:layla@glccenter.org
END:VEVENT
BEGIN:VEVENT
DTSTART;TZID=America/Los_Angeles:20290303T100000
DTEND;TZID=America/Los_Angeles:20290303T120000
DTSTAMP:20260423T102414
CREATED:20260324T231918Z
LAST-MODIFIED:20260324T231918Z
UID:10006836-1867226400-1867233600@glccenter.org
SUMMARY:Book Club
DESCRIPTION:Come be part of the Lost Coast Book Club where great books spark great conversations and new friendships! \nOur biweekly saturday club is led by our wonderful volunteer Raven and is a welcoming space to connect\, share ideas\, and enjoy reading together. \nFind the group and stay updated here:https://www.facebook.com/groups/1408759587411534/ \nHave questions? Email Layla at layla@glccenter.org
URL:https://glccenter.org/event/book-club-2/2029-03-03/
LOCATION:Gene Lucas Community Center\, 3000 Newburg Rd Ste C\, Fortuna\, CA\, 95540-2599\, United States
ORGANIZER;CN="Gene Lucas Community Center":MAILTO:layla@glccenter.org
END:VEVENT
BEGIN:VEVENT
DTSTART;TZID=America/Los_Angeles:20290317T100000
DTEND;TZID=America/Los_Angeles:20290317T120000
DTSTAMP:20260423T102414
CREATED:20260324T231918Z
LAST-MODIFIED:20260324T231918Z
UID:10006837-1868436000-1868443200@glccenter.org
SUMMARY:Book Club
DESCRIPTION:Come be part of the Lost Coast Book Club where great books spark great conversations and new friendships! \nOur biweekly saturday club is led by our wonderful volunteer Raven and is a welcoming space to connect\, share ideas\, and enjoy reading together. \nFind the group and stay updated here:https://www.facebook.com/groups/1408759587411534/ \nHave questions? Email Layla at layla@glccenter.org
URL:https://glccenter.org/event/book-club-2/2029-03-17/
LOCATION:Gene Lucas Community Center\, 3000 Newburg Rd Ste C\, Fortuna\, CA\, 95540-2599\, United States
ORGANIZER;CN="Gene Lucas Community Center":MAILTO:layla@glccenter.org
END:VEVENT
BEGIN:VEVENT
DTSTART;TZID=America/Los_Angeles:20290331T100000
DTEND;TZID=America/Los_Angeles:20290331T120000
DTSTAMP:20260423T102414
CREATED:20260324T231918Z
LAST-MODIFIED:20260324T231918Z
UID:10006838-1869645600-1869652800@glccenter.org
SUMMARY:Book Club
DESCRIPTION:Come be part of the Lost Coast Book Club where great books spark great conversations and new friendships! \nOur biweekly saturday club is led by our wonderful volunteer Raven and is a welcoming space to connect\, share ideas\, and enjoy reading together. \nFind the group and stay updated here:https://www.facebook.com/groups/1408759587411534/ \nHave questions? Email Layla at layla@glccenter.org
URL:https://glccenter.org/event/book-club-2/2029-03-31/
LOCATION:Gene Lucas Community Center\, 3000 Newburg Rd Ste C\, Fortuna\, CA\, 95540-2599\, United States
ORGANIZER;CN="Gene Lucas Community Center":MAILTO:layla@glccenter.org
END:VEVENT
BEGIN:VEVENT
DTSTART;TZID=America/Los_Angeles:20290405T180000
DTEND;TZID=America/Los_Angeles:20290405T190000
DTSTAMP:20260423T102414
CREATED:20260325T172802Z
LAST-MODIFIED:20260325T172802Z
UID:10006932-1870106400-1870110000@glccenter.org
SUMMARY:Craft Night
DESCRIPTION:Come join us for a creative adventure! \nBring something you’ve been working on or jump into a project we’ve put together for the night. It’s a relaxed space to create and connect. \nFree to all. All ages welcome.Children under 16 must be accompanied by a parent or guardian. This is a calm\, creative environment\, so it may not be the best fit for high-energy kiddos. \nEach month features a new art project led by our wonderful volunteer\, Debbi Sholes. \nFirst Thursday of every month | 6:00PM – 7:00PM
URL:https://glccenter.org/event/open-art-night-2-2-2/2029-04-05/
LOCATION:Gene Lucas Community Center\, 3000 Newburg Rd Ste C\, Fortuna\, CA\, 95540-2599\, United States
ORGANIZER;CN="Gene Lucas Community Center":MAILTO:layla@glccenter.org
END:VEVENT
BEGIN:VEVENT
DTSTART;TZID=America/Los_Angeles:20290414T100000
DTEND;TZID=America/Los_Angeles:20290414T120000
DTSTAMP:20260423T102414
CREATED:20260324T231918Z
LAST-MODIFIED:20260324T231918Z
UID:10006839-1870855200-1870862400@glccenter.org
SUMMARY:Book Club
DESCRIPTION:Come be part of the Lost Coast Book Club where great books spark great conversations and new friendships! \nOur biweekly saturday club is led by our wonderful volunteer Raven and is a welcoming space to connect\, share ideas\, and enjoy reading together. \nFind the group and stay updated here:https://www.facebook.com/groups/1408759587411534/ \nHave questions? Email Layla at layla@glccenter.org
URL:https://glccenter.org/event/book-club-2/2029-04-14/
LOCATION:Gene Lucas Community Center\, 3000 Newburg Rd Ste C\, Fortuna\, CA\, 95540-2599\, United States
ORGANIZER;CN="Gene Lucas Community Center":MAILTO:layla@glccenter.org
END:VEVENT
BEGIN:VEVENT
DTSTART;TZID=America/Los_Angeles:20290428T100000
DTEND;TZID=America/Los_Angeles:20290428T120000
DTSTAMP:20260423T102414
CREATED:20260324T231918Z
LAST-MODIFIED:20260324T231918Z
UID:10006840-1872064800-1872072000@glccenter.org
SUMMARY:Book Club
DESCRIPTION:Come be part of the Lost Coast Book Club where great books spark great conversations and new friendships! \nOur biweekly saturday club is led by our wonderful volunteer Raven and is a welcoming space to connect\, share ideas\, and enjoy reading together. \nFind the group and stay updated here:https://www.facebook.com/groups/1408759587411534/ \nHave questions? Email Layla at layla@glccenter.org
URL:https://glccenter.org/event/book-club-2/2029-04-28/
LOCATION:Gene Lucas Community Center\, 3000 Newburg Rd Ste C\, Fortuna\, CA\, 95540-2599\, United States
ORGANIZER;CN="Gene Lucas Community Center":MAILTO:layla@glccenter.org
END:VEVENT
BEGIN:VEVENT
DTSTART;TZID=America/Los_Angeles:20290503T180000
DTEND;TZID=America/Los_Angeles:20290503T190000
DTSTAMP:20260423T102414
CREATED:20260325T172802Z
LAST-MODIFIED:20260325T172802Z
UID:10006933-1872525600-1872529200@glccenter.org
SUMMARY:Craft Night
DESCRIPTION:Come join us for a creative adventure! \nBring something you’ve been working on or jump into a project we’ve put together for the night. It’s a relaxed space to create and connect. \nFree to all. All ages welcome.Children under 16 must be accompanied by a parent or guardian. This is a calm\, creative environment\, so it may not be the best fit for high-energy kiddos. \nEach month features a new art project led by our wonderful volunteer\, Debbi Sholes. \nFirst Thursday of every month | 6:00PM – 7:00PM
URL:https://glccenter.org/event/open-art-night-2-2-2/2029-05-03/
LOCATION:Gene Lucas Community Center\, 3000 Newburg Rd Ste C\, Fortuna\, CA\, 95540-2599\, United States
ORGANIZER;CN="Gene Lucas Community Center":MAILTO:layla@glccenter.org
END:VEVENT
BEGIN:VEVENT
DTSTART;TZID=America/Los_Angeles:20290512T100000
DTEND;TZID=America/Los_Angeles:20290512T120000
DTSTAMP:20260423T102414
CREATED:20260324T231918Z
LAST-MODIFIED:20260324T231918Z
UID:10006841-1873274400-1873281600@glccenter.org
SUMMARY:Book Club
DESCRIPTION:Come be part of the Lost Coast Book Club where great books spark great conversations and new friendships! \nOur biweekly saturday club is led by our wonderful volunteer Raven and is a welcoming space to connect\, share ideas\, and enjoy reading together. \nFind the group and stay updated here:https://www.facebook.com/groups/1408759587411534/ \nHave questions? Email Layla at layla@glccenter.org
URL:https://glccenter.org/event/book-club-2/2029-05-12/
LOCATION:Gene Lucas Community Center\, 3000 Newburg Rd Ste C\, Fortuna\, CA\, 95540-2599\, United States
ORGANIZER;CN="Gene Lucas Community Center":MAILTO:layla@glccenter.org
END:VEVENT
BEGIN:VEVENT
DTSTART;TZID=America/Los_Angeles:20290526T100000
DTEND;TZID=America/Los_Angeles:20290526T120000
DTSTAMP:20260423T102414
CREATED:20260324T231918Z
LAST-MODIFIED:20260324T231918Z
UID:10006842-1874484000-1874491200@glccenter.org
SUMMARY:Book Club
DESCRIPTION:Come be part of the Lost Coast Book Club where great books spark great conversations and new friendships! \nOur biweekly saturday club is led by our wonderful volunteer Raven and is a welcoming space to connect\, share ideas\, and enjoy reading together. \nFind the group and stay updated here:https://www.facebook.com/groups/1408759587411534/ \nHave questions? Email Layla at layla@glccenter.org
URL:https://glccenter.org/event/book-club-2/2029-05-26/
LOCATION:Gene Lucas Community Center\, 3000 Newburg Rd Ste C\, Fortuna\, CA\, 95540-2599\, United States
ORGANIZER;CN="Gene Lucas Community Center":MAILTO:layla@glccenter.org
END:VEVENT
BEGIN:VEVENT
DTSTART;TZID=America/Los_Angeles:20290607T180000
DTEND;TZID=America/Los_Angeles:20290607T190000
DTSTAMP:20260423T102414
CREATED:20260325T172802Z
LAST-MODIFIED:20260325T172802Z
UID:10006934-1875549600-1875553200@glccenter.org
SUMMARY:Craft Night
DESCRIPTION:Come join us for a creative adventure! \nBring something you’ve been working on or jump into a project we’ve put together for the night. It’s a relaxed space to create and connect. \nFree to all. All ages welcome.Children under 16 must be accompanied by a parent or guardian. This is a calm\, creative environment\, so it may not be the best fit for high-energy kiddos. \nEach month features a new art project led by our wonderful volunteer\, Debbi Sholes. \nFirst Thursday of every month | 6:00PM – 7:00PM
URL:https://glccenter.org/event/open-art-night-2-2-2/2029-06-07/
LOCATION:Gene Lucas Community Center\, 3000 Newburg Rd Ste C\, Fortuna\, CA\, 95540-2599\, United States
ORGANIZER;CN="Gene Lucas Community Center":MAILTO:layla@glccenter.org
END:VEVENT
BEGIN:VEVENT
DTSTART;TZID=America/Los_Angeles:20290609T100000
DTEND;TZID=America/Los_Angeles:20290609T120000
DTSTAMP:20260423T102414
CREATED:20260324T231918Z
LAST-MODIFIED:20260324T231918Z
UID:10006843-1875693600-1875700800@glccenter.org
SUMMARY:Book Club
DESCRIPTION:Come be part of the Lost Coast Book Club where great books spark great conversations and new friendships! \nOur biweekly saturday club is led by our wonderful volunteer Raven and is a welcoming space to connect\, share ideas\, and enjoy reading together. \nFind the group and stay updated here:https://www.facebook.com/groups/1408759587411534/ \nHave questions? Email Layla at layla@glccenter.org
URL:https://glccenter.org/event/book-club-2/2029-06-09/
LOCATION:Gene Lucas Community Center\, 3000 Newburg Rd Ste C\, Fortuna\, CA\, 95540-2599\, United States
ORGANIZER;CN="Gene Lucas Community Center":MAILTO:layla@glccenter.org
END:VEVENT
BEGIN:VEVENT
DTSTART;TZID=America/Los_Angeles:20290623T100000
DTEND;TZID=America/Los_Angeles:20290623T120000
DTSTAMP:20260423T102414
CREATED:20260324T231918Z
LAST-MODIFIED:20260324T231918Z
UID:10006844-1876903200-1876910400@glccenter.org
SUMMARY:Book Club
DESCRIPTION:Come be part of the Lost Coast Book Club where great books spark great conversations and new friendships! \nOur biweekly saturday club is led by our wonderful volunteer Raven and is a welcoming space to connect\, share ideas\, and enjoy reading together. \nFind the group and stay updated here:https://www.facebook.com/groups/1408759587411534/ \nHave questions? Email Layla at layla@glccenter.org
URL:https://glccenter.org/event/book-club-2/2029-06-23/
LOCATION:Gene Lucas Community Center\, 3000 Newburg Rd Ste C\, Fortuna\, CA\, 95540-2599\, United States
ORGANIZER;CN="Gene Lucas Community Center":MAILTO:layla@glccenter.org
END:VEVENT
BEGIN:VEVENT
DTSTART;TZID=America/Los_Angeles:20290705T180000
DTEND;TZID=America/Los_Angeles:20290705T190000
DTSTAMP:20260423T102414
CREATED:20260325T172802Z
LAST-MODIFIED:20260325T172802Z
UID:10006935-1877968800-1877972400@glccenter.org
SUMMARY:Craft Night
DESCRIPTION:Come join us for a creative adventure! \nBring something you’ve been working on or jump into a project we’ve put together for the night. It’s a relaxed space to create and connect. \nFree to all. All ages welcome.Children under 16 must be accompanied by a parent or guardian. This is a calm\, creative environment\, so it may not be the best fit for high-energy kiddos. \nEach month features a new art project led by our wonderful volunteer\, Debbi Sholes. \nFirst Thursday of every month | 6:00PM – 7:00PM
URL:https://glccenter.org/event/open-art-night-2-2-2/2029-07-05/
LOCATION:Gene Lucas Community Center\, 3000 Newburg Rd Ste C\, Fortuna\, CA\, 95540-2599\, United States
ORGANIZER;CN="Gene Lucas Community Center":MAILTO:layla@glccenter.org
END:VEVENT
BEGIN:VEVENT
DTSTART;TZID=America/Los_Angeles:20290707T100000
DTEND;TZID=America/Los_Angeles:20290707T120000
DTSTAMP:20260423T102414
CREATED:20260324T231918Z
LAST-MODIFIED:20260324T231918Z
UID:10006845-1878112800-1878120000@glccenter.org
SUMMARY:Book Club
DESCRIPTION:Come be part of the Lost Coast Book Club where great books spark great conversations and new friendships! \nOur biweekly saturday club is led by our wonderful volunteer Raven and is a welcoming space to connect\, share ideas\, and enjoy reading together. \nFind the group and stay updated here:https://www.facebook.com/groups/1408759587411534/ \nHave questions? Email Layla at layla@glccenter.org
URL:https://glccenter.org/event/book-club-2/2029-07-07/
LOCATION:Gene Lucas Community Center\, 3000 Newburg Rd Ste C\, Fortuna\, CA\, 95540-2599\, United States
ORGANIZER;CN="Gene Lucas Community Center":MAILTO:layla@glccenter.org
END:VEVENT
BEGIN:VEVENT
DTSTART;TZID=America/Los_Angeles:20290721T100000
DTEND;TZID=America/Los_Angeles:20290721T120000
DTSTAMP:20260423T102414
CREATED:20260324T231918Z
LAST-MODIFIED:20260324T231918Z
UID:10006846-1879322400-1879329600@glccenter.org
SUMMARY:Book Club
DESCRIPTION:Come be part of the Lost Coast Book Club where great books spark great conversations and new friendships! \nOur biweekly saturday club is led by our wonderful volunteer Raven and is a welcoming space to connect\, share ideas\, and enjoy reading together. \nFind the group and stay updated here:https://www.facebook.com/groups/1408759587411534/ \nHave questions? Email Layla at layla@glccenter.org
URL:https://glccenter.org/event/book-club-2/2029-07-21/
LOCATION:Gene Lucas Community Center\, 3000 Newburg Rd Ste C\, Fortuna\, CA\, 95540-2599\, United States
ORGANIZER;CN="Gene Lucas Community Center":MAILTO:layla@glccenter.org
END:VEVENT
BEGIN:VEVENT
DTSTART;TZID=America/Los_Angeles:20290802T180000
DTEND;TZID=America/Los_Angeles:20290802T190000
DTSTAMP:20260423T102414
CREATED:20260325T172802Z
LAST-MODIFIED:20260325T172802Z
UID:10006936-1880388000-1880391600@glccenter.org
SUMMARY:Craft Night
DESCRIPTION:Come join us for a creative adventure! \nBring something you’ve been working on or jump into a project we’ve put together for the night. It’s a relaxed space to create and connect. \nFree to all. All ages welcome.Children under 16 must be accompanied by a parent or guardian. This is a calm\, creative environment\, so it may not be the best fit for high-energy kiddos. \nEach month features a new art project led by our wonderful volunteer\, Debbi Sholes. \nFirst Thursday of every month | 6:00PM – 7:00PM
URL:https://glccenter.org/event/open-art-night-2-2-2/2029-08-02/
LOCATION:Gene Lucas Community Center\, 3000 Newburg Rd Ste C\, Fortuna\, CA\, 95540-2599\, United States
ORGANIZER;CN="Gene Lucas Community Center":MAILTO:layla@glccenter.org
END:VEVENT
BEGIN:VEVENT
DTSTART;TZID=America/Los_Angeles:20290804T100000
DTEND;TZID=America/Los_Angeles:20290804T120000
DTSTAMP:20260423T102414
CREATED:20260324T231918Z
LAST-MODIFIED:20260324T231918Z
UID:10006847-1880532000-1880539200@glccenter.org
SUMMARY:Book Club
DESCRIPTION:Come be part of the Lost Coast Book Club where great books spark great conversations and new friendships! \nOur biweekly saturday club is led by our wonderful volunteer Raven and is a welcoming space to connect\, share ideas\, and enjoy reading together. \nFind the group and stay updated here:https://www.facebook.com/groups/1408759587411534/ \nHave questions? Email Layla at layla@glccenter.org
URL:https://glccenter.org/event/book-club-2/2029-08-04/
LOCATION:Gene Lucas Community Center\, 3000 Newburg Rd Ste C\, Fortuna\, CA\, 95540-2599\, United States
ORGANIZER;CN="Gene Lucas Community Center":MAILTO:layla@glccenter.org
END:VEVENT
BEGIN:VEVENT
DTSTART;TZID=America/Los_Angeles:20290818T100000
DTEND;TZID=America/Los_Angeles:20290818T120000
DTSTAMP:20260423T102414
CREATED:20260324T231918Z
LAST-MODIFIED:20260324T231918Z
UID:10006848-1881741600-1881748800@glccenter.org
SUMMARY:Book Club
DESCRIPTION:Come be part of the Lost Coast Book Club where great books spark great conversations and new friendships! \nOur biweekly saturday club is led by our wonderful volunteer Raven and is a welcoming space to connect\, share ideas\, and enjoy reading together. \nFind the group and stay updated here:https://www.facebook.com/groups/1408759587411534/ \nHave questions? Email Layla at layla@glccenter.org
URL:https://glccenter.org/event/book-club-2/2029-08-18/
LOCATION:Gene Lucas Community Center\, 3000 Newburg Rd Ste C\, Fortuna\, CA\, 95540-2599\, United States
ORGANIZER;CN="Gene Lucas Community Center":MAILTO:layla@glccenter.org
END:VEVENT
BEGIN:VEVENT
DTSTART;TZID=America/Los_Angeles:20290901T100000
DTEND;TZID=America/Los_Angeles:20290901T120000
DTSTAMP:20260423T102414
CREATED:20260324T231918Z
LAST-MODIFIED:20260324T231918Z
UID:10006849-1882951200-1882958400@glccenter.org
SUMMARY:Book Club
DESCRIPTION:Come be part of the Lost Coast Book Club where great books spark great conversations and new friendships! \nOur biweekly saturday club is led by our wonderful volunteer Raven and is a welcoming space to connect\, share ideas\, and enjoy reading together. \nFind the group and stay updated here:https://www.facebook.com/groups/1408759587411534/ \nHave questions? Email Layla at layla@glccenter.org
URL:https://glccenter.org/event/book-club-2/2029-09-01/
LOCATION:Gene Lucas Community Center\, 3000 Newburg Rd Ste C\, Fortuna\, CA\, 95540-2599\, United States
ORGANIZER;CN="Gene Lucas Community Center":MAILTO:layla@glccenter.org
END:VEVENT
BEGIN:VEVENT
DTSTART;TZID=America/Los_Angeles:20290906T180000
DTEND;TZID=America/Los_Angeles:20290906T190000
DTSTAMP:20260423T102414
CREATED:20260325T172802Z
LAST-MODIFIED:20260325T172802Z
UID:10006937-1883412000-1883415600@glccenter.org
SUMMARY:Craft Night
DESCRIPTION:Come join us for a creative adventure! \nBring something you’ve been working on or jump into a project we’ve put together for the night. It’s a relaxed space to create and connect. \nFree to all. All ages welcome.Children under 16 must be accompanied by a parent or guardian. This is a calm\, creative environment\, so it may not be the best fit for high-energy kiddos. \nEach month features a new art project led by our wonderful volunteer\, Debbi Sholes. \nFirst Thursday of every month | 6:00PM – 7:00PM
URL:https://glccenter.org/event/open-art-night-2-2-2/2029-09-06/
LOCATION:Gene Lucas Community Center\, 3000 Newburg Rd Ste C\, Fortuna\, CA\, 95540-2599\, United States
ORGANIZER;CN="Gene Lucas Community Center":MAILTO:layla@glccenter.org
END:VEVENT
BEGIN:VEVENT
DTSTART;TZID=America/Los_Angeles:20290915T100000
DTEND;TZID=America/Los_Angeles:20290915T120000
DTSTAMP:20260423T102414
CREATED:20260324T231918Z
LAST-MODIFIED:20260324T231918Z
UID:10006850-1884160800-1884168000@glccenter.org
SUMMARY:Book Club
DESCRIPTION:Come be part of the Lost Coast Book Club where great books spark great conversations and new friendships! \nOur biweekly saturday club is led by our wonderful volunteer Raven and is a welcoming space to connect\, share ideas\, and enjoy reading together. \nFind the group and stay updated here:https://www.facebook.com/groups/1408759587411534/ \nHave questions? Email Layla at layla@glccenter.org
URL:https://glccenter.org/event/book-club-2/2029-09-15/
LOCATION:Gene Lucas Community Center\, 3000 Newburg Rd Ste C\, Fortuna\, CA\, 95540-2599\, United States
ORGANIZER;CN="Gene Lucas Community Center":MAILTO:layla@glccenter.org
END:VEVENT
BEGIN:VEVENT
DTSTART;TZID=America/Los_Angeles:20290929T100000
DTEND;TZID=America/Los_Angeles:20290929T120000
DTSTAMP:20260423T102414
CREATED:20260324T231918Z
LAST-MODIFIED:20260324T231918Z
UID:10006851-1885370400-1885377600@glccenter.org
SUMMARY:Book Club
DESCRIPTION:Come be part of the Lost Coast Book Club where great books spark great conversations and new friendships! \nOur biweekly saturday club is led by our wonderful volunteer Raven and is a welcoming space to connect\, share ideas\, and enjoy reading together. \nFind the group and stay updated here:https://www.facebook.com/groups/1408759587411534/ \nHave questions? Email Layla at layla@glccenter.org
URL:https://glccenter.org/event/book-club-2/2029-09-29/
LOCATION:Gene Lucas Community Center\, 3000 Newburg Rd Ste C\, Fortuna\, CA\, 95540-2599\, United States
ORGANIZER;CN="Gene Lucas Community Center":MAILTO:layla@glccenter.org
END:VEVENT
BEGIN:VEVENT
DTSTART;TZID=America/Los_Angeles:20291004T180000
DTEND;TZID=America/Los_Angeles:20291004T190000
DTSTAMP:20260423T102414
CREATED:20260325T172802Z
LAST-MODIFIED:20260325T172802Z
UID:10006938-1885831200-1885834800@glccenter.org
SUMMARY:Craft Night
DESCRIPTION:Come join us for a creative adventure! \nBring something you’ve been working on or jump into a project we’ve put together for the night. It’s a relaxed space to create and connect. \nFree to all. All ages welcome.Children under 16 must be accompanied by a parent or guardian. This is a calm\, creative environment\, so it may not be the best fit for high-energy kiddos. \nEach month features a new art project led by our wonderful volunteer\, Debbi Sholes. \nFirst Thursday of every month | 6:00PM – 7:00PM
URL:https://glccenter.org/event/open-art-night-2-2-2/2029-10-04/
LOCATION:Gene Lucas Community Center\, 3000 Newburg Rd Ste C\, Fortuna\, CA\, 95540-2599\, United States
ORGANIZER;CN="Gene Lucas Community Center":MAILTO:layla@glccenter.org
END:VEVENT
BEGIN:VEVENT
DTSTART;TZID=America/Los_Angeles:20291013T100000
DTEND;TZID=America/Los_Angeles:20291013T120000
DTSTAMP:20260423T102414
CREATED:20260324T231918Z
LAST-MODIFIED:20260324T231918Z
UID:10006852-1886580000-1886587200@glccenter.org
SUMMARY:Book Club
DESCRIPTION:Come be part of the Lost Coast Book Club where great books spark great conversations and new friendships! \nOur biweekly saturday club is led by our wonderful volunteer Raven and is a welcoming space to connect\, share ideas\, and enjoy reading together. \nFind the group and stay updated here:https://www.facebook.com/groups/1408759587411534/ \nHave questions? Email Layla at layla@glccenter.org
URL:https://glccenter.org/event/book-club-2/2029-10-13/
LOCATION:Gene Lucas Community Center\, 3000 Newburg Rd Ste C\, Fortuna\, CA\, 95540-2599\, United States
ORGANIZER;CN="Gene Lucas Community Center":MAILTO:layla@glccenter.org
END:VEVENT
BEGIN:VEVENT
DTSTART;TZID=America/Los_Angeles:20291027T100000
DTEND;TZID=America/Los_Angeles:20291027T120000
DTSTAMP:20260423T102414
CREATED:20260324T231918Z
LAST-MODIFIED:20260324T231918Z
UID:10006853-1887789600-1887796800@glccenter.org
SUMMARY:Book Club
DESCRIPTION:Come be part of the Lost Coast Book Club where great books spark great conversations and new friendships! \nOur biweekly saturday club is led by our wonderful volunteer Raven and is a welcoming space to connect\, share ideas\, and enjoy reading together. \nFind the group and stay updated here:https://www.facebook.com/groups/1408759587411534/ \nHave questions? Email Layla at layla@glccenter.org
URL:https://glccenter.org/event/book-club-2/2029-10-27/
LOCATION:Gene Lucas Community Center\, 3000 Newburg Rd Ste C\, Fortuna\, CA\, 95540-2599\, United States
ORGANIZER;CN="Gene Lucas Community Center":MAILTO:layla@glccenter.org
END:VEVENT
BEGIN:VEVENT
DTSTART;TZID=America/Los_Angeles:20291101T180000
DTEND;TZID=America/Los_Angeles:20291101T190000
DTSTAMP:20260423T102414
CREATED:20260325T172802Z
LAST-MODIFIED:20260325T172802Z
UID:10006939-1888250400-1888254000@glccenter.org
SUMMARY:Craft Night
DESCRIPTION:Come join us for a creative adventure! \nBring something you’ve been working on or jump into a project we’ve put together for the night. It’s a relaxed space to create and connect. \nFree to all. All ages welcome.Children under 16 must be accompanied by a parent or guardian. This is a calm\, creative environment\, so it may not be the best fit for high-energy kiddos. \nEach month features a new art project led by our wonderful volunteer\, Debbi Sholes. \nFirst Thursday of every month | 6:00PM – 7:00PM
URL:https://glccenter.org/event/open-art-night-2-2-2/2029-11-01/
LOCATION:Gene Lucas Community Center\, 3000 Newburg Rd Ste C\, Fortuna\, CA\, 95540-2599\, United States
ORGANIZER;CN="Gene Lucas Community Center":MAILTO:layla@glccenter.org
END:VEVENT
BEGIN:VEVENT
DTSTART;TZID=America/Los_Angeles:20291110T100000
DTEND;TZID=America/Los_Angeles:20291110T120000
DTSTAMP:20260423T102414
CREATED:20260324T231918Z
LAST-MODIFIED:20260324T231918Z
UID:10006854-1888999200-1889006400@glccenter.org
SUMMARY:Book Club
DESCRIPTION:Come be part of the Lost Coast Book Club where great books spark great conversations and new friendships! \nOur biweekly saturday club is led by our wonderful volunteer Raven and is a welcoming space to connect\, share ideas\, and enjoy reading together. \nFind the group and stay updated here:https://www.facebook.com/groups/1408759587411534/ \nHave questions? Email Layla at layla@glccenter.org
URL:https://glccenter.org/event/book-club-2/2029-11-10/
LOCATION:Gene Lucas Community Center\, 3000 Newburg Rd Ste C\, Fortuna\, CA\, 95540-2599\, United States
ORGANIZER;CN="Gene Lucas Community Center":MAILTO:layla@glccenter.org
END:VEVENT
BEGIN:VEVENT
DTSTART;TZID=America/Los_Angeles:20291124T100000
DTEND;TZID=America/Los_Angeles:20291124T120000
DTSTAMP:20260423T102414
CREATED:20260324T231918Z
LAST-MODIFIED:20260324T231918Z
UID:10006855-1890208800-1890216000@glccenter.org
SUMMARY:Book Club
DESCRIPTION:Come be part of the Lost Coast Book Club where great books spark great conversations and new friendships! \nOur biweekly saturday club is led by our wonderful volunteer Raven and is a welcoming space to connect\, share ideas\, and enjoy reading together. \nFind the group and stay updated here:https://www.facebook.com/groups/1408759587411534/ \nHave questions? Email Layla at layla@glccenter.org
URL:https://glccenter.org/event/book-club-2/2029-11-24/
LOCATION:Gene Lucas Community Center\, 3000 Newburg Rd Ste C\, Fortuna\, CA\, 95540-2599\, United States
ORGANIZER;CN="Gene Lucas Community Center":MAILTO:layla@glccenter.org
END:VEVENT
END:VCALENDAR