BEGIN:VCALENDAR
VERSION:2.0
PRODID:-//Gene Lucas Community Center - ECPv6.15.20//NONSGML v1.0//EN
CALSCALE:GREGORIAN
METHOD:PUBLISH
X-WR-CALNAME:Gene Lucas Community Center
X-ORIGINAL-URL:https://glccenter.org
X-WR-CALDESC:Events for Gene Lucas Community Center
REFRESH-INTERVAL;VALUE=DURATION:PT1H
X-Robots-Tag:noindex
X-PUBLISHED-TTL:PT1H
BEGIN:VTIMEZONE
TZID:UTC
BEGIN:STANDARD
TZOFFSETFROM:+0000
TZOFFSETTO:+0000
TZNAME:UTC
DTSTART:20280101T000000
END:STANDARD
END:VTIMEZONE
BEGIN:VEVENT
DTSTART;TZID=UTC:20290326T093000
DTEND;TZID=UTC:20290326T113000
DTSTAMP:20260423T151502
CREATED:20240904T173541Z
LAST-MODIFIED:20250826T215112Z
UID:10001890-1869211800-1869219000@glccenter.org
SUMMARY:GLC Playgroup for Children 0-5
DESCRIPTION:Free playgroup for children 0-5 and their caregivers every Monday\, Tuesday & Wednesday 9:30am-11:30am. No sign up required. \n 
URL:https://glccenter.org/event/first-5-playgroup-for-children-0-5-32-10/2029-03-26/
LOCATION:Gene Lucas Community Center\, 3000 Newburg Rd Ste C\, Fortuna\, CA\, 95540-2599\, United States
ORGANIZER;CN="Fortuna First 5":MAILTO:layla@glccenter.org
END:VEVENT
BEGIN:VEVENT
DTSTART;TZID=UTC:20290327T093000
DTEND;TZID=UTC:20290327T113000
DTSTAMP:20260423T151502
CREATED:20240904T173541Z
LAST-MODIFIED:20250826T215112Z
UID:10001891-1869298200-1869305400@glccenter.org
SUMMARY:GLC Playgroup for Children 0-5
DESCRIPTION:Free playgroup for children 0-5 and their caregivers every Monday\, Tuesday & Wednesday 9:30am-11:30am. No sign up required. \n 
URL:https://glccenter.org/event/first-5-playgroup-for-children-0-5-32-10/2029-03-27/
LOCATION:Gene Lucas Community Center\, 3000 Newburg Rd Ste C\, Fortuna\, CA\, 95540-2599\, United States
ORGANIZER;CN="Fortuna First 5":MAILTO:layla@glccenter.org
END:VEVENT
BEGIN:VEVENT
DTSTART;TZID=UTC:20290328T093000
DTEND;TZID=UTC:20290328T113000
DTSTAMP:20260423T151502
CREATED:20240904T173541Z
LAST-MODIFIED:20250826T215112Z
UID:10002248-1869384600-1869391800@glccenter.org
SUMMARY:GLC Playgroup for Children 0-5
DESCRIPTION:Free playgroup for children 0-5 and their caregivers every Monday\, Tuesday & Wednesday 9:30am-11:30am. No sign up required. \n 
URL:https://glccenter.org/event/first-5-playgroup-for-children-0-5-32-10/2029-03-28/
LOCATION:Gene Lucas Community Center\, 3000 Newburg Rd Ste C\, Fortuna\, CA\, 95540-2599\, United States
ORGANIZER;CN="Fortuna First 5":MAILTO:layla@glccenter.org
END:VEVENT
BEGIN:VEVENT
DTSTART;TZID=UTC:20290402T093000
DTEND;TZID=UTC:20290402T113000
DTSTAMP:20260423T151502
CREATED:20240904T173541Z
LAST-MODIFIED:20250826T215112Z
UID:10001892-1869816600-1869823800@glccenter.org
SUMMARY:GLC Playgroup for Children 0-5
DESCRIPTION:Free playgroup for children 0-5 and their caregivers every Monday\, Tuesday & Wednesday 9:30am-11:30am. No sign up required. \n 
URL:https://glccenter.org/event/first-5-playgroup-for-children-0-5-32-10/2029-04-02/
LOCATION:Gene Lucas Community Center\, 3000 Newburg Rd Ste C\, Fortuna\, CA\, 95540-2599\, United States
ORGANIZER;CN="Fortuna First 5":MAILTO:layla@glccenter.org
END:VEVENT
BEGIN:VEVENT
DTSTART;TZID=UTC:20290403T093000
DTEND;TZID=UTC:20290403T113000
DTSTAMP:20260423T151502
CREATED:20240904T173541Z
LAST-MODIFIED:20250826T215112Z
UID:10001893-1869903000-1869910200@glccenter.org
SUMMARY:GLC Playgroup for Children 0-5
DESCRIPTION:Free playgroup for children 0-5 and their caregivers every Monday\, Tuesday & Wednesday 9:30am-11:30am. No sign up required. \n 
URL:https://glccenter.org/event/first-5-playgroup-for-children-0-5-32-10/2029-04-03/
LOCATION:Gene Lucas Community Center\, 3000 Newburg Rd Ste C\, Fortuna\, CA\, 95540-2599\, United States
ORGANIZER;CN="Fortuna First 5":MAILTO:layla@glccenter.org
END:VEVENT
BEGIN:VEVENT
DTSTART;TZID=UTC:20290404T093000
DTEND;TZID=UTC:20290404T113000
DTSTAMP:20260423T151502
CREATED:20240904T173541Z
LAST-MODIFIED:20250826T215112Z
UID:10002249-1869989400-1869996600@glccenter.org
SUMMARY:GLC Playgroup for Children 0-5
DESCRIPTION:Free playgroup for children 0-5 and their caregivers every Monday\, Tuesday & Wednesday 9:30am-11:30am. No sign up required. \n 
URL:https://glccenter.org/event/first-5-playgroup-for-children-0-5-32-10/2029-04-04/
LOCATION:Gene Lucas Community Center\, 3000 Newburg Rd Ste C\, Fortuna\, CA\, 95540-2599\, United States
ORGANIZER;CN="Fortuna First 5":MAILTO:layla@glccenter.org
END:VEVENT
BEGIN:VEVENT
DTSTART;TZID=UTC:20290409T093000
DTEND;TZID=UTC:20290409T113000
DTSTAMP:20260423T151502
CREATED:20240904T173541Z
LAST-MODIFIED:20250826T215112Z
UID:10001894-1870421400-1870428600@glccenter.org
SUMMARY:GLC Playgroup for Children 0-5
DESCRIPTION:Free playgroup for children 0-5 and their caregivers every Monday\, Tuesday & Wednesday 9:30am-11:30am. No sign up required. \n 
URL:https://glccenter.org/event/first-5-playgroup-for-children-0-5-32-10/2029-04-09/
LOCATION:Gene Lucas Community Center\, 3000 Newburg Rd Ste C\, Fortuna\, CA\, 95540-2599\, United States
ORGANIZER;CN="Fortuna First 5":MAILTO:layla@glccenter.org
END:VEVENT
BEGIN:VEVENT
DTSTART;TZID=UTC:20290410T093000
DTEND;TZID=UTC:20290410T113000
DTSTAMP:20260423T151502
CREATED:20240904T173541Z
LAST-MODIFIED:20250826T215112Z
UID:10001895-1870507800-1870515000@glccenter.org
SUMMARY:GLC Playgroup for Children 0-5
DESCRIPTION:Free playgroup for children 0-5 and their caregivers every Monday\, Tuesday & Wednesday 9:30am-11:30am. No sign up required. \n 
URL:https://glccenter.org/event/first-5-playgroup-for-children-0-5-32-10/2029-04-10/
LOCATION:Gene Lucas Community Center\, 3000 Newburg Rd Ste C\, Fortuna\, CA\, 95540-2599\, United States
ORGANIZER;CN="Fortuna First 5":MAILTO:layla@glccenter.org
END:VEVENT
BEGIN:VEVENT
DTSTART;TZID=UTC:20290411T093000
DTEND;TZID=UTC:20290411T113000
DTSTAMP:20260423T151502
CREATED:20240904T173541Z
LAST-MODIFIED:20250826T215112Z
UID:10002250-1870594200-1870601400@glccenter.org
SUMMARY:GLC Playgroup for Children 0-5
DESCRIPTION:Free playgroup for children 0-5 and their caregivers every Monday\, Tuesday & Wednesday 9:30am-11:30am. No sign up required. \n 
URL:https://glccenter.org/event/first-5-playgroup-for-children-0-5-32-10/2029-04-11/
LOCATION:Gene Lucas Community Center\, 3000 Newburg Rd Ste C\, Fortuna\, CA\, 95540-2599\, United States
ORGANIZER;CN="Fortuna First 5":MAILTO:layla@glccenter.org
END:VEVENT
BEGIN:VEVENT
DTSTART;TZID=UTC:20290416T093000
DTEND;TZID=UTC:20290416T113000
DTSTAMP:20260423T151502
CREATED:20240904T173541Z
LAST-MODIFIED:20250826T215112Z
UID:10001896-1871026200-1871033400@glccenter.org
SUMMARY:GLC Playgroup for Children 0-5
DESCRIPTION:Free playgroup for children 0-5 and their caregivers every Monday\, Tuesday & Wednesday 9:30am-11:30am. No sign up required. \n 
URL:https://glccenter.org/event/first-5-playgroup-for-children-0-5-32-10/2029-04-16/
LOCATION:Gene Lucas Community Center\, 3000 Newburg Rd Ste C\, Fortuna\, CA\, 95540-2599\, United States
ORGANIZER;CN="Fortuna First 5":MAILTO:layla@glccenter.org
END:VEVENT
BEGIN:VEVENT
DTSTART;TZID=UTC:20290417T093000
DTEND;TZID=UTC:20290417T113000
DTSTAMP:20260423T151502
CREATED:20240904T173541Z
LAST-MODIFIED:20250826T215112Z
UID:10001897-1871112600-1871119800@glccenter.org
SUMMARY:GLC Playgroup for Children 0-5
DESCRIPTION:Free playgroup for children 0-5 and their caregivers every Monday\, Tuesday & Wednesday 9:30am-11:30am. No sign up required. \n 
URL:https://glccenter.org/event/first-5-playgroup-for-children-0-5-32-10/2029-04-17/
LOCATION:Gene Lucas Community Center\, 3000 Newburg Rd Ste C\, Fortuna\, CA\, 95540-2599\, United States
ORGANIZER;CN="Fortuna First 5":MAILTO:layla@glccenter.org
END:VEVENT
BEGIN:VEVENT
DTSTART;TZID=UTC:20290418T093000
DTEND;TZID=UTC:20290418T113000
DTSTAMP:20260423T151502
CREATED:20240904T173541Z
LAST-MODIFIED:20250826T215112Z
UID:10002251-1871199000-1871206200@glccenter.org
SUMMARY:GLC Playgroup for Children 0-5
DESCRIPTION:Free playgroup for children 0-5 and their caregivers every Monday\, Tuesday & Wednesday 9:30am-11:30am. No sign up required. \n 
URL:https://glccenter.org/event/first-5-playgroup-for-children-0-5-32-10/2029-04-18/
LOCATION:Gene Lucas Community Center\, 3000 Newburg Rd Ste C\, Fortuna\, CA\, 95540-2599\, United States
ORGANIZER;CN="Fortuna First 5":MAILTO:layla@glccenter.org
END:VEVENT
BEGIN:VEVENT
DTSTART;TZID=UTC:20290423T093000
DTEND;TZID=UTC:20290423T113000
DTSTAMP:20260423T151502
CREATED:20240904T173541Z
LAST-MODIFIED:20250826T215112Z
UID:10001898-1871631000-1871638200@glccenter.org
SUMMARY:GLC Playgroup for Children 0-5
DESCRIPTION:Free playgroup for children 0-5 and their caregivers every Monday\, Tuesday & Wednesday 9:30am-11:30am. No sign up required. \n 
URL:https://glccenter.org/event/first-5-playgroup-for-children-0-5-32-10/2029-04-23/
LOCATION:Gene Lucas Community Center\, 3000 Newburg Rd Ste C\, Fortuna\, CA\, 95540-2599\, United States
ORGANIZER;CN="Fortuna First 5":MAILTO:layla@glccenter.org
END:VEVENT
BEGIN:VEVENT
DTSTART;TZID=UTC:20290424T093000
DTEND;TZID=UTC:20290424T113000
DTSTAMP:20260423T151502
CREATED:20240904T173541Z
LAST-MODIFIED:20250826T215112Z
UID:10001899-1871717400-1871724600@glccenter.org
SUMMARY:GLC Playgroup for Children 0-5
DESCRIPTION:Free playgroup for children 0-5 and their caregivers every Monday\, Tuesday & Wednesday 9:30am-11:30am. No sign up required. \n 
URL:https://glccenter.org/event/first-5-playgroup-for-children-0-5-32-10/2029-04-24/
LOCATION:Gene Lucas Community Center\, 3000 Newburg Rd Ste C\, Fortuna\, CA\, 95540-2599\, United States
ORGANIZER;CN="Fortuna First 5":MAILTO:layla@glccenter.org
END:VEVENT
BEGIN:VEVENT
DTSTART;TZID=UTC:20290425T093000
DTEND;TZID=UTC:20290425T113000
DTSTAMP:20260423T151502
CREATED:20240904T173541Z
LAST-MODIFIED:20250826T215112Z
UID:10002252-1871803800-1871811000@glccenter.org
SUMMARY:GLC Playgroup for Children 0-5
DESCRIPTION:Free playgroup for children 0-5 and their caregivers every Monday\, Tuesday & Wednesday 9:30am-11:30am. No sign up required. \n 
URL:https://glccenter.org/event/first-5-playgroup-for-children-0-5-32-10/2029-04-25/
LOCATION:Gene Lucas Community Center\, 3000 Newburg Rd Ste C\, Fortuna\, CA\, 95540-2599\, United States
ORGANIZER;CN="Fortuna First 5":MAILTO:layla@glccenter.org
END:VEVENT
BEGIN:VEVENT
DTSTART;TZID=UTC:20290430T093000
DTEND;TZID=UTC:20290430T113000
DTSTAMP:20260423T151502
CREATED:20240904T173541Z
LAST-MODIFIED:20250826T215112Z
UID:10001900-1872235800-1872243000@glccenter.org
SUMMARY:GLC Playgroup for Children 0-5
DESCRIPTION:Free playgroup for children 0-5 and their caregivers every Monday\, Tuesday & Wednesday 9:30am-11:30am. No sign up required. \n 
URL:https://glccenter.org/event/first-5-playgroup-for-children-0-5-32-10/2029-04-30/
LOCATION:Gene Lucas Community Center\, 3000 Newburg Rd Ste C\, Fortuna\, CA\, 95540-2599\, United States
ORGANIZER;CN="Fortuna First 5":MAILTO:layla@glccenter.org
END:VEVENT
BEGIN:VEVENT
DTSTART;TZID=UTC:20290501T093000
DTEND;TZID=UTC:20290501T113000
DTSTAMP:20260423T151502
CREATED:20240904T173541Z
LAST-MODIFIED:20250826T215112Z
UID:10001901-1872322200-1872329400@glccenter.org
SUMMARY:GLC Playgroup for Children 0-5
DESCRIPTION:Free playgroup for children 0-5 and their caregivers every Monday\, Tuesday & Wednesday 9:30am-11:30am. No sign up required. \n 
URL:https://glccenter.org/event/first-5-playgroup-for-children-0-5-32-10/2029-05-01/
LOCATION:Gene Lucas Community Center\, 3000 Newburg Rd Ste C\, Fortuna\, CA\, 95540-2599\, United States
ORGANIZER;CN="Fortuna First 5":MAILTO:layla@glccenter.org
END:VEVENT
BEGIN:VEVENT
DTSTART;TZID=UTC:20290502T093000
DTEND;TZID=UTC:20290502T113000
DTSTAMP:20260423T151502
CREATED:20240904T173541Z
LAST-MODIFIED:20250826T215112Z
UID:10002253-1872408600-1872415800@glccenter.org
SUMMARY:GLC Playgroup for Children 0-5
DESCRIPTION:Free playgroup for children 0-5 and their caregivers every Monday\, Tuesday & Wednesday 9:30am-11:30am. No sign up required. \n 
URL:https://glccenter.org/event/first-5-playgroup-for-children-0-5-32-10/2029-05-02/
LOCATION:Gene Lucas Community Center\, 3000 Newburg Rd Ste C\, Fortuna\, CA\, 95540-2599\, United States
ORGANIZER;CN="Fortuna First 5":MAILTO:layla@glccenter.org
END:VEVENT
BEGIN:VEVENT
DTSTART;TZID=UTC:20290507T093000
DTEND;TZID=UTC:20290507T113000
DTSTAMP:20260423T151502
CREATED:20240904T173541Z
LAST-MODIFIED:20250826T215112Z
UID:10001902-1872840600-1872847800@glccenter.org
SUMMARY:GLC Playgroup for Children 0-5
DESCRIPTION:Free playgroup for children 0-5 and their caregivers every Monday\, Tuesday & Wednesday 9:30am-11:30am. No sign up required. \n 
URL:https://glccenter.org/event/first-5-playgroup-for-children-0-5-32-10/2029-05-07/
LOCATION:Gene Lucas Community Center\, 3000 Newburg Rd Ste C\, Fortuna\, CA\, 95540-2599\, United States
ORGANIZER;CN="Fortuna First 5":MAILTO:layla@glccenter.org
END:VEVENT
BEGIN:VEVENT
DTSTART;TZID=UTC:20290508T093000
DTEND;TZID=UTC:20290508T113000
DTSTAMP:20260423T151502
CREATED:20240904T173541Z
LAST-MODIFIED:20250826T215112Z
UID:10001903-1872927000-1872934200@glccenter.org
SUMMARY:GLC Playgroup for Children 0-5
DESCRIPTION:Free playgroup for children 0-5 and their caregivers every Monday\, Tuesday & Wednesday 9:30am-11:30am. No sign up required. \n 
URL:https://glccenter.org/event/first-5-playgroup-for-children-0-5-32-10/2029-05-08/
LOCATION:Gene Lucas Community Center\, 3000 Newburg Rd Ste C\, Fortuna\, CA\, 95540-2599\, United States
ORGANIZER;CN="Fortuna First 5":MAILTO:layla@glccenter.org
END:VEVENT
BEGIN:VEVENT
DTSTART;TZID=UTC:20290509T093000
DTEND;TZID=UTC:20290509T113000
DTSTAMP:20260423T151502
CREATED:20240904T173541Z
LAST-MODIFIED:20250826T215112Z
UID:10002254-1873013400-1873020600@glccenter.org
SUMMARY:GLC Playgroup for Children 0-5
DESCRIPTION:Free playgroup for children 0-5 and their caregivers every Monday\, Tuesday & Wednesday 9:30am-11:30am. No sign up required. \n 
URL:https://glccenter.org/event/first-5-playgroup-for-children-0-5-32-10/2029-05-09/
LOCATION:Gene Lucas Community Center\, 3000 Newburg Rd Ste C\, Fortuna\, CA\, 95540-2599\, United States
ORGANIZER;CN="Fortuna First 5":MAILTO:layla@glccenter.org
END:VEVENT
BEGIN:VEVENT
DTSTART;TZID=UTC:20290514T093000
DTEND;TZID=UTC:20290514T113000
DTSTAMP:20260423T151502
CREATED:20240904T173541Z
LAST-MODIFIED:20250826T215112Z
UID:10001904-1873445400-1873452600@glccenter.org
SUMMARY:GLC Playgroup for Children 0-5
DESCRIPTION:Free playgroup for children 0-5 and their caregivers every Monday\, Tuesday & Wednesday 9:30am-11:30am. No sign up required. \n 
URL:https://glccenter.org/event/first-5-playgroup-for-children-0-5-32-10/2029-05-14/
LOCATION:Gene Lucas Community Center\, 3000 Newburg Rd Ste C\, Fortuna\, CA\, 95540-2599\, United States
ORGANIZER;CN="Fortuna First 5":MAILTO:layla@glccenter.org
END:VEVENT
BEGIN:VEVENT
DTSTART;TZID=UTC:20290515T093000
DTEND;TZID=UTC:20290515T113000
DTSTAMP:20260423T151502
CREATED:20240904T173541Z
LAST-MODIFIED:20250826T215112Z
UID:10001905-1873531800-1873539000@glccenter.org
SUMMARY:GLC Playgroup for Children 0-5
DESCRIPTION:Free playgroup for children 0-5 and their caregivers every Monday\, Tuesday & Wednesday 9:30am-11:30am. No sign up required. \n 
URL:https://glccenter.org/event/first-5-playgroup-for-children-0-5-32-10/2029-05-15/
LOCATION:Gene Lucas Community Center\, 3000 Newburg Rd Ste C\, Fortuna\, CA\, 95540-2599\, United States
ORGANIZER;CN="Fortuna First 5":MAILTO:layla@glccenter.org
END:VEVENT
BEGIN:VEVENT
DTSTART;TZID=UTC:20290516T093000
DTEND;TZID=UTC:20290516T113000
DTSTAMP:20260423T151502
CREATED:20240904T173541Z
LAST-MODIFIED:20250826T215112Z
UID:10002255-1873618200-1873625400@glccenter.org
SUMMARY:GLC Playgroup for Children 0-5
DESCRIPTION:Free playgroup for children 0-5 and their caregivers every Monday\, Tuesday & Wednesday 9:30am-11:30am. No sign up required. \n 
URL:https://glccenter.org/event/first-5-playgroup-for-children-0-5-32-10/2029-05-16/
LOCATION:Gene Lucas Community Center\, 3000 Newburg Rd Ste C\, Fortuna\, CA\, 95540-2599\, United States
ORGANIZER;CN="Fortuna First 5":MAILTO:layla@glccenter.org
END:VEVENT
BEGIN:VEVENT
DTSTART;TZID=UTC:20290521T093000
DTEND;TZID=UTC:20290521T113000
DTSTAMP:20260423T151502
CREATED:20240904T173541Z
LAST-MODIFIED:20250826T215112Z
UID:10001906-1874050200-1874057400@glccenter.org
SUMMARY:GLC Playgroup for Children 0-5
DESCRIPTION:Free playgroup for children 0-5 and their caregivers every Monday\, Tuesday & Wednesday 9:30am-11:30am. No sign up required. \n 
URL:https://glccenter.org/event/first-5-playgroup-for-children-0-5-32-10/2029-05-21/
LOCATION:Gene Lucas Community Center\, 3000 Newburg Rd Ste C\, Fortuna\, CA\, 95540-2599\, United States
ORGANIZER;CN="Fortuna First 5":MAILTO:layla@glccenter.org
END:VEVENT
BEGIN:VEVENT
DTSTART;TZID=UTC:20290522T093000
DTEND;TZID=UTC:20290522T113000
DTSTAMP:20260423T151502
CREATED:20240904T173541Z
LAST-MODIFIED:20250826T215112Z
UID:10001907-1874136600-1874143800@glccenter.org
SUMMARY:GLC Playgroup for Children 0-5
DESCRIPTION:Free playgroup for children 0-5 and their caregivers every Monday\, Tuesday & Wednesday 9:30am-11:30am. No sign up required. \n 
URL:https://glccenter.org/event/first-5-playgroup-for-children-0-5-32-10/2029-05-22/
LOCATION:Gene Lucas Community Center\, 3000 Newburg Rd Ste C\, Fortuna\, CA\, 95540-2599\, United States
ORGANIZER;CN="Fortuna First 5":MAILTO:layla@glccenter.org
END:VEVENT
BEGIN:VEVENT
DTSTART;TZID=UTC:20290523T093000
DTEND;TZID=UTC:20290523T113000
DTSTAMP:20260423T151502
CREATED:20240904T173541Z
LAST-MODIFIED:20250826T215112Z
UID:10002256-1874223000-1874230200@glccenter.org
SUMMARY:GLC Playgroup for Children 0-5
DESCRIPTION:Free playgroup for children 0-5 and their caregivers every Monday\, Tuesday & Wednesday 9:30am-11:30am. No sign up required. \n 
URL:https://glccenter.org/event/first-5-playgroup-for-children-0-5-32-10/2029-05-23/
LOCATION:Gene Lucas Community Center\, 3000 Newburg Rd Ste C\, Fortuna\, CA\, 95540-2599\, United States
ORGANIZER;CN="Fortuna First 5":MAILTO:layla@glccenter.org
END:VEVENT
BEGIN:VEVENT
DTSTART;TZID=UTC:20290528T093000
DTEND;TZID=UTC:20290528T113000
DTSTAMP:20260423T151502
CREATED:20240904T173541Z
LAST-MODIFIED:20250826T215112Z
UID:10001908-1874655000-1874662200@glccenter.org
SUMMARY:GLC Playgroup for Children 0-5
DESCRIPTION:Free playgroup for children 0-5 and their caregivers every Monday\, Tuesday & Wednesday 9:30am-11:30am. No sign up required. \n 
URL:https://glccenter.org/event/first-5-playgroup-for-children-0-5-32-10/2029-05-28/
LOCATION:Gene Lucas Community Center\, 3000 Newburg Rd Ste C\, Fortuna\, CA\, 95540-2599\, United States
ORGANIZER;CN="Fortuna First 5":MAILTO:layla@glccenter.org
END:VEVENT
BEGIN:VEVENT
DTSTART;TZID=UTC:20290529T093000
DTEND;TZID=UTC:20290529T113000
DTSTAMP:20260423T151502
CREATED:20240904T173541Z
LAST-MODIFIED:20250826T215112Z
UID:10001909-1874741400-1874748600@glccenter.org
SUMMARY:GLC Playgroup for Children 0-5
DESCRIPTION:Free playgroup for children 0-5 and their caregivers every Monday\, Tuesday & Wednesday 9:30am-11:30am. No sign up required. \n 
URL:https://glccenter.org/event/first-5-playgroup-for-children-0-5-32-10/2029-05-29/
LOCATION:Gene Lucas Community Center\, 3000 Newburg Rd Ste C\, Fortuna\, CA\, 95540-2599\, United States
ORGANIZER;CN="Fortuna First 5":MAILTO:layla@glccenter.org
END:VEVENT
BEGIN:VEVENT
DTSTART;TZID=UTC:20290530T093000
DTEND;TZID=UTC:20290530T113000
DTSTAMP:20260423T151502
CREATED:20240904T173541Z
LAST-MODIFIED:20250826T215112Z
UID:10002257-1874827800-1874835000@glccenter.org
SUMMARY:GLC Playgroup for Children 0-5
DESCRIPTION:Free playgroup for children 0-5 and their caregivers every Monday\, Tuesday & Wednesday 9:30am-11:30am. No sign up required. \n 
URL:https://glccenter.org/event/first-5-playgroup-for-children-0-5-32-10/2029-05-30/
LOCATION:Gene Lucas Community Center\, 3000 Newburg Rd Ste C\, Fortuna\, CA\, 95540-2599\, United States
ORGANIZER;CN="Fortuna First 5":MAILTO:layla@glccenter.org
END:VEVENT
END:VCALENDAR