BEGIN:VCALENDAR
VERSION:2.0
PRODID:-//Gene Lucas Community Center - ECPv6.15.20//NONSGML v1.0//EN
CALSCALE:GREGORIAN
METHOD:PUBLISH
X-WR-CALNAME:Gene Lucas Community Center
X-ORIGINAL-URL:https://glccenter.org
X-WR-CALDESC:Events for Gene Lucas Community Center
REFRESH-INTERVAL;VALUE=DURATION:PT1H
X-Robots-Tag:noindex
X-PUBLISHED-TTL:PT1H
BEGIN:VTIMEZONE
TZID:UTC
BEGIN:STANDARD
TZOFFSETFROM:+0000
TZOFFSETTO:+0000
TZNAME:UTC
DTSTART:20270101T000000
END:STANDARD
END:VTIMEZONE
BEGIN:VEVENT
DTSTART;TZID=UTC:20281031T093000
DTEND;TZID=UTC:20281031T113000
DTSTAMP:20260420T144032
CREATED:20240904T173541Z
LAST-MODIFIED:20250826T215112Z
UID:10001214-1856597400-1856604600@glccenter.org
SUMMARY:GLC Playgroup for Children 0-5
DESCRIPTION:Free playgroup for children 0-5 and their caregivers every Monday\, Tuesday & Wednesday 9:30am-11:30am. No sign up required. \n 
URL:https://glccenter.org/event/first-5-playgroup-for-children-0-5-32-10/2028-10-31/
LOCATION:Gene Lucas Community Center\, 3000 Newburg Rd Ste C\, Fortuna\, CA\, 95540-2599\, United States
ORGANIZER;CN="Fortuna First 5":MAILTO:layla@glccenter.org
END:VEVENT
BEGIN:VEVENT
DTSTART;TZID=UTC:20281101T093000
DTEND;TZID=UTC:20281101T113000
DTSTAMP:20260420T144032
CREATED:20240904T173541Z
LAST-MODIFIED:20250826T215112Z
UID:10002227-1856683800-1856691000@glccenter.org
SUMMARY:GLC Playgroup for Children 0-5
DESCRIPTION:Free playgroup for children 0-5 and their caregivers every Monday\, Tuesday & Wednesday 9:30am-11:30am. No sign up required. \n 
URL:https://glccenter.org/event/first-5-playgroup-for-children-0-5-32-10/2028-11-01/
LOCATION:Gene Lucas Community Center\, 3000 Newburg Rd Ste C\, Fortuna\, CA\, 95540-2599\, United States
ORGANIZER;CN="Fortuna First 5":MAILTO:layla@glccenter.org
END:VEVENT
BEGIN:VEVENT
DTSTART;TZID=UTC:20281106T093000
DTEND;TZID=UTC:20281106T113000
DTSTAMP:20260420T144032
CREATED:20240904T173541Z
LAST-MODIFIED:20250826T215112Z
UID:10001215-1857115800-1857123000@glccenter.org
SUMMARY:GLC Playgroup for Children 0-5
DESCRIPTION:Free playgroup for children 0-5 and their caregivers every Monday\, Tuesday & Wednesday 9:30am-11:30am. No sign up required. \n 
URL:https://glccenter.org/event/first-5-playgroup-for-children-0-5-32-10/2028-11-06/
LOCATION:Gene Lucas Community Center\, 3000 Newburg Rd Ste C\, Fortuna\, CA\, 95540-2599\, United States
ORGANIZER;CN="Fortuna First 5":MAILTO:layla@glccenter.org
END:VEVENT
BEGIN:VEVENT
DTSTART;TZID=UTC:20281107T093000
DTEND;TZID=UTC:20281107T113000
DTSTAMP:20260420T144032
CREATED:20240904T173541Z
LAST-MODIFIED:20250826T215112Z
UID:10001216-1857202200-1857209400@glccenter.org
SUMMARY:GLC Playgroup for Children 0-5
DESCRIPTION:Free playgroup for children 0-5 and their caregivers every Monday\, Tuesday & Wednesday 9:30am-11:30am. No sign up required. \n 
URL:https://glccenter.org/event/first-5-playgroup-for-children-0-5-32-10/2028-11-07/
LOCATION:Gene Lucas Community Center\, 3000 Newburg Rd Ste C\, Fortuna\, CA\, 95540-2599\, United States
ORGANIZER;CN="Fortuna First 5":MAILTO:layla@glccenter.org
END:VEVENT
BEGIN:VEVENT
DTSTART;TZID=UTC:20281108T093000
DTEND;TZID=UTC:20281108T113000
DTSTAMP:20260420T144032
CREATED:20240904T173541Z
LAST-MODIFIED:20250826T215112Z
UID:10002228-1857288600-1857295800@glccenter.org
SUMMARY:GLC Playgroup for Children 0-5
DESCRIPTION:Free playgroup for children 0-5 and their caregivers every Monday\, Tuesday & Wednesday 9:30am-11:30am. No sign up required. \n 
URL:https://glccenter.org/event/first-5-playgroup-for-children-0-5-32-10/2028-11-08/
LOCATION:Gene Lucas Community Center\, 3000 Newburg Rd Ste C\, Fortuna\, CA\, 95540-2599\, United States
ORGANIZER;CN="Fortuna First 5":MAILTO:layla@glccenter.org
END:VEVENT
BEGIN:VEVENT
DTSTART;TZID=UTC:20281113T093000
DTEND;TZID=UTC:20281113T113000
DTSTAMP:20260420T144032
CREATED:20240904T173541Z
LAST-MODIFIED:20250826T215112Z
UID:10001217-1857720600-1857727800@glccenter.org
SUMMARY:GLC Playgroup for Children 0-5
DESCRIPTION:Free playgroup for children 0-5 and their caregivers every Monday\, Tuesday & Wednesday 9:30am-11:30am. No sign up required. \n 
URL:https://glccenter.org/event/first-5-playgroup-for-children-0-5-32-10/2028-11-13/
LOCATION:Gene Lucas Community Center\, 3000 Newburg Rd Ste C\, Fortuna\, CA\, 95540-2599\, United States
ORGANIZER;CN="Fortuna First 5":MAILTO:layla@glccenter.org
END:VEVENT
BEGIN:VEVENT
DTSTART;TZID=UTC:20281114T093000
DTEND;TZID=UTC:20281114T113000
DTSTAMP:20260420T144032
CREATED:20240904T173541Z
LAST-MODIFIED:20250826T215112Z
UID:10001218-1857807000-1857814200@glccenter.org
SUMMARY:GLC Playgroup for Children 0-5
DESCRIPTION:Free playgroup for children 0-5 and their caregivers every Monday\, Tuesday & Wednesday 9:30am-11:30am. No sign up required. \n 
URL:https://glccenter.org/event/first-5-playgroup-for-children-0-5-32-10/2028-11-14/
LOCATION:Gene Lucas Community Center\, 3000 Newburg Rd Ste C\, Fortuna\, CA\, 95540-2599\, United States
ORGANIZER;CN="Fortuna First 5":MAILTO:layla@glccenter.org
END:VEVENT
BEGIN:VEVENT
DTSTART;TZID=UTC:20281115T093000
DTEND;TZID=UTC:20281115T113000
DTSTAMP:20260420T144032
CREATED:20240904T173541Z
LAST-MODIFIED:20250826T215112Z
UID:10002229-1857893400-1857900600@glccenter.org
SUMMARY:GLC Playgroup for Children 0-5
DESCRIPTION:Free playgroup for children 0-5 and their caregivers every Monday\, Tuesday & Wednesday 9:30am-11:30am. No sign up required. \n 
URL:https://glccenter.org/event/first-5-playgroup-for-children-0-5-32-10/2028-11-15/
LOCATION:Gene Lucas Community Center\, 3000 Newburg Rd Ste C\, Fortuna\, CA\, 95540-2599\, United States
ORGANIZER;CN="Fortuna First 5":MAILTO:layla@glccenter.org
END:VEVENT
BEGIN:VEVENT
DTSTART;TZID=UTC:20281120T093000
DTEND;TZID=UTC:20281120T113000
DTSTAMP:20260420T144032
CREATED:20240904T173541Z
LAST-MODIFIED:20250826T215112Z
UID:10001219-1858325400-1858332600@glccenter.org
SUMMARY:GLC Playgroup for Children 0-5
DESCRIPTION:Free playgroup for children 0-5 and their caregivers every Monday\, Tuesday & Wednesday 9:30am-11:30am. No sign up required. \n 
URL:https://glccenter.org/event/first-5-playgroup-for-children-0-5-32-10/2028-11-20/
LOCATION:Gene Lucas Community Center\, 3000 Newburg Rd Ste C\, Fortuna\, CA\, 95540-2599\, United States
ORGANIZER;CN="Fortuna First 5":MAILTO:layla@glccenter.org
END:VEVENT
BEGIN:VEVENT
DTSTART;TZID=UTC:20281121T093000
DTEND;TZID=UTC:20281121T113000
DTSTAMP:20260420T144032
CREATED:20240904T173541Z
LAST-MODIFIED:20250826T215112Z
UID:10001220-1858411800-1858419000@glccenter.org
SUMMARY:GLC Playgroup for Children 0-5
DESCRIPTION:Free playgroup for children 0-5 and their caregivers every Monday\, Tuesday & Wednesday 9:30am-11:30am. No sign up required. \n 
URL:https://glccenter.org/event/first-5-playgroup-for-children-0-5-32-10/2028-11-21/
LOCATION:Gene Lucas Community Center\, 3000 Newburg Rd Ste C\, Fortuna\, CA\, 95540-2599\, United States
ORGANIZER;CN="Fortuna First 5":MAILTO:layla@glccenter.org
END:VEVENT
BEGIN:VEVENT
DTSTART;TZID=UTC:20281122T093000
DTEND;TZID=UTC:20281122T113000
DTSTAMP:20260420T144032
CREATED:20240904T173541Z
LAST-MODIFIED:20250826T215112Z
UID:10002230-1858498200-1858505400@glccenter.org
SUMMARY:GLC Playgroup for Children 0-5
DESCRIPTION:Free playgroup for children 0-5 and their caregivers every Monday\, Tuesday & Wednesday 9:30am-11:30am. No sign up required. \n 
URL:https://glccenter.org/event/first-5-playgroup-for-children-0-5-32-10/2028-11-22/
LOCATION:Gene Lucas Community Center\, 3000 Newburg Rd Ste C\, Fortuna\, CA\, 95540-2599\, United States
ORGANIZER;CN="Fortuna First 5":MAILTO:layla@glccenter.org
END:VEVENT
BEGIN:VEVENT
DTSTART;TZID=UTC:20281127T093000
DTEND;TZID=UTC:20281127T113000
DTSTAMP:20260420T144032
CREATED:20240904T173541Z
LAST-MODIFIED:20250826T215112Z
UID:10001221-1858930200-1858937400@glccenter.org
SUMMARY:GLC Playgroup for Children 0-5
DESCRIPTION:Free playgroup for children 0-5 and their caregivers every Monday\, Tuesday & Wednesday 9:30am-11:30am. No sign up required. \n 
URL:https://glccenter.org/event/first-5-playgroup-for-children-0-5-32-10/2028-11-27/
LOCATION:Gene Lucas Community Center\, 3000 Newburg Rd Ste C\, Fortuna\, CA\, 95540-2599\, United States
ORGANIZER;CN="Fortuna First 5":MAILTO:layla@glccenter.org
END:VEVENT
BEGIN:VEVENT
DTSTART;TZID=UTC:20281128T093000
DTEND;TZID=UTC:20281128T113000
DTSTAMP:20260420T144032
CREATED:20240904T173541Z
LAST-MODIFIED:20250826T215112Z
UID:10001222-1859016600-1859023800@glccenter.org
SUMMARY:GLC Playgroup for Children 0-5
DESCRIPTION:Free playgroup for children 0-5 and their caregivers every Monday\, Tuesday & Wednesday 9:30am-11:30am. No sign up required. \n 
URL:https://glccenter.org/event/first-5-playgroup-for-children-0-5-32-10/2028-11-28/
LOCATION:Gene Lucas Community Center\, 3000 Newburg Rd Ste C\, Fortuna\, CA\, 95540-2599\, United States
ORGANIZER;CN="Fortuna First 5":MAILTO:layla@glccenter.org
END:VEVENT
BEGIN:VEVENT
DTSTART;TZID=UTC:20281129T093000
DTEND;TZID=UTC:20281129T113000
DTSTAMP:20260420T144032
CREATED:20240904T173541Z
LAST-MODIFIED:20250826T215112Z
UID:10002231-1859103000-1859110200@glccenter.org
SUMMARY:GLC Playgroup for Children 0-5
DESCRIPTION:Free playgroup for children 0-5 and their caregivers every Monday\, Tuesday & Wednesday 9:30am-11:30am. No sign up required. \n 
URL:https://glccenter.org/event/first-5-playgroup-for-children-0-5-32-10/2028-11-29/
LOCATION:Gene Lucas Community Center\, 3000 Newburg Rd Ste C\, Fortuna\, CA\, 95540-2599\, United States
ORGANIZER;CN="Fortuna First 5":MAILTO:layla@glccenter.org
END:VEVENT
BEGIN:VEVENT
DTSTART;TZID=UTC:20281204T093000
DTEND;TZID=UTC:20281204T113000
DTSTAMP:20260420T144032
CREATED:20240904T173541Z
LAST-MODIFIED:20250826T215112Z
UID:10001223-1859535000-1859542200@glccenter.org
SUMMARY:GLC Playgroup for Children 0-5
DESCRIPTION:Free playgroup for children 0-5 and their caregivers every Monday\, Tuesday & Wednesday 9:30am-11:30am. No sign up required. \n 
URL:https://glccenter.org/event/first-5-playgroup-for-children-0-5-32-10/2028-12-04/
LOCATION:Gene Lucas Community Center\, 3000 Newburg Rd Ste C\, Fortuna\, CA\, 95540-2599\, United States
ORGANIZER;CN="Fortuna First 5":MAILTO:layla@glccenter.org
END:VEVENT
BEGIN:VEVENT
DTSTART;TZID=UTC:20281205T093000
DTEND;TZID=UTC:20281205T113000
DTSTAMP:20260420T144032
CREATED:20240904T173541Z
LAST-MODIFIED:20250826T215112Z
UID:10001224-1859621400-1859628600@glccenter.org
SUMMARY:GLC Playgroup for Children 0-5
DESCRIPTION:Free playgroup for children 0-5 and their caregivers every Monday\, Tuesday & Wednesday 9:30am-11:30am. No sign up required. \n 
URL:https://glccenter.org/event/first-5-playgroup-for-children-0-5-32-10/2028-12-05/
LOCATION:Gene Lucas Community Center\, 3000 Newburg Rd Ste C\, Fortuna\, CA\, 95540-2599\, United States
ORGANIZER;CN="Fortuna First 5":MAILTO:layla@glccenter.org
END:VEVENT
BEGIN:VEVENT
DTSTART;TZID=UTC:20281206T093000
DTEND;TZID=UTC:20281206T113000
DTSTAMP:20260420T144032
CREATED:20240904T173541Z
LAST-MODIFIED:20250826T215112Z
UID:10002232-1859707800-1859715000@glccenter.org
SUMMARY:GLC Playgroup for Children 0-5
DESCRIPTION:Free playgroup for children 0-5 and their caregivers every Monday\, Tuesday & Wednesday 9:30am-11:30am. No sign up required. \n 
URL:https://glccenter.org/event/first-5-playgroup-for-children-0-5-32-10/2028-12-06/
LOCATION:Gene Lucas Community Center\, 3000 Newburg Rd Ste C\, Fortuna\, CA\, 95540-2599\, United States
ORGANIZER;CN="Fortuna First 5":MAILTO:layla@glccenter.org
END:VEVENT
BEGIN:VEVENT
DTSTART;TZID=UTC:20281211T093000
DTEND;TZID=UTC:20281211T113000
DTSTAMP:20260420T144032
CREATED:20240904T173541Z
LAST-MODIFIED:20250826T215112Z
UID:10001225-1860139800-1860147000@glccenter.org
SUMMARY:GLC Playgroup for Children 0-5
DESCRIPTION:Free playgroup for children 0-5 and their caregivers every Monday\, Tuesday & Wednesday 9:30am-11:30am. No sign up required. \n 
URL:https://glccenter.org/event/first-5-playgroup-for-children-0-5-32-10/2028-12-11/
LOCATION:Gene Lucas Community Center\, 3000 Newburg Rd Ste C\, Fortuna\, CA\, 95540-2599\, United States
ORGANIZER;CN="Fortuna First 5":MAILTO:layla@glccenter.org
END:VEVENT
BEGIN:VEVENT
DTSTART;TZID=UTC:20281212T093000
DTEND;TZID=UTC:20281212T113000
DTSTAMP:20260420T144032
CREATED:20240904T173541Z
LAST-MODIFIED:20250826T215112Z
UID:10001226-1860226200-1860233400@glccenter.org
SUMMARY:GLC Playgroup for Children 0-5
DESCRIPTION:Free playgroup for children 0-5 and their caregivers every Monday\, Tuesday & Wednesday 9:30am-11:30am. No sign up required. \n 
URL:https://glccenter.org/event/first-5-playgroup-for-children-0-5-32-10/2028-12-12/
LOCATION:Gene Lucas Community Center\, 3000 Newburg Rd Ste C\, Fortuna\, CA\, 95540-2599\, United States
ORGANIZER;CN="Fortuna First 5":MAILTO:layla@glccenter.org
END:VEVENT
BEGIN:VEVENT
DTSTART;TZID=UTC:20281213T093000
DTEND;TZID=UTC:20281213T113000
DTSTAMP:20260420T144032
CREATED:20240904T173541Z
LAST-MODIFIED:20250826T215112Z
UID:10002233-1860312600-1860319800@glccenter.org
SUMMARY:GLC Playgroup for Children 0-5
DESCRIPTION:Free playgroup for children 0-5 and their caregivers every Monday\, Tuesday & Wednesday 9:30am-11:30am. No sign up required. \n 
URL:https://glccenter.org/event/first-5-playgroup-for-children-0-5-32-10/2028-12-13/
LOCATION:Gene Lucas Community Center\, 3000 Newburg Rd Ste C\, Fortuna\, CA\, 95540-2599\, United States
ORGANIZER;CN="Fortuna First 5":MAILTO:layla@glccenter.org
END:VEVENT
BEGIN:VEVENT
DTSTART;TZID=UTC:20281218T093000
DTEND;TZID=UTC:20281218T113000
DTSTAMP:20260420T144032
CREATED:20240904T173541Z
LAST-MODIFIED:20250826T215112Z
UID:10001227-1860744600-1860751800@glccenter.org
SUMMARY:GLC Playgroup for Children 0-5
DESCRIPTION:Free playgroup for children 0-5 and their caregivers every Monday\, Tuesday & Wednesday 9:30am-11:30am. No sign up required. \n 
URL:https://glccenter.org/event/first-5-playgroup-for-children-0-5-32-10/2028-12-18/
LOCATION:Gene Lucas Community Center\, 3000 Newburg Rd Ste C\, Fortuna\, CA\, 95540-2599\, United States
ORGANIZER;CN="Fortuna First 5":MAILTO:layla@glccenter.org
END:VEVENT
BEGIN:VEVENT
DTSTART;TZID=UTC:20281219T093000
DTEND;TZID=UTC:20281219T113000
DTSTAMP:20260420T144032
CREATED:20240904T173541Z
LAST-MODIFIED:20250826T215112Z
UID:10001228-1860831000-1860838200@glccenter.org
SUMMARY:GLC Playgroup for Children 0-5
DESCRIPTION:Free playgroup for children 0-5 and their caregivers every Monday\, Tuesday & Wednesday 9:30am-11:30am. No sign up required. \n 
URL:https://glccenter.org/event/first-5-playgroup-for-children-0-5-32-10/2028-12-19/
LOCATION:Gene Lucas Community Center\, 3000 Newburg Rd Ste C\, Fortuna\, CA\, 95540-2599\, United States
ORGANIZER;CN="Fortuna First 5":MAILTO:layla@glccenter.org
END:VEVENT
BEGIN:VEVENT
DTSTART;TZID=UTC:20281220T093000
DTEND;TZID=UTC:20281220T113000
DTSTAMP:20260420T144032
CREATED:20240904T173541Z
LAST-MODIFIED:20250826T215112Z
UID:10002234-1860917400-1860924600@glccenter.org
SUMMARY:GLC Playgroup for Children 0-5
DESCRIPTION:Free playgroup for children 0-5 and their caregivers every Monday\, Tuesday & Wednesday 9:30am-11:30am. No sign up required. \n 
URL:https://glccenter.org/event/first-5-playgroup-for-children-0-5-32-10/2028-12-20/
LOCATION:Gene Lucas Community Center\, 3000 Newburg Rd Ste C\, Fortuna\, CA\, 95540-2599\, United States
ORGANIZER;CN="Fortuna First 5":MAILTO:layla@glccenter.org
END:VEVENT
BEGIN:VEVENT
DTSTART;TZID=UTC:20281225T093000
DTEND;TZID=UTC:20281225T113000
DTSTAMP:20260420T144032
CREATED:20240904T173541Z
LAST-MODIFIED:20250826T215112Z
UID:10001806-1861349400-1861356600@glccenter.org
SUMMARY:GLC Playgroup for Children 0-5
DESCRIPTION:Free playgroup for children 0-5 and their caregivers every Monday\, Tuesday & Wednesday 9:30am-11:30am. No sign up required. \n 
URL:https://glccenter.org/event/first-5-playgroup-for-children-0-5-32-10/2028-12-25/
LOCATION:Gene Lucas Community Center\, 3000 Newburg Rd Ste C\, Fortuna\, CA\, 95540-2599\, United States
ORGANIZER;CN="Fortuna First 5":MAILTO:layla@glccenter.org
END:VEVENT
BEGIN:VEVENT
DTSTART;TZID=UTC:20281226T093000
DTEND;TZID=UTC:20281226T113000
DTSTAMP:20260420T144032
CREATED:20240904T173541Z
LAST-MODIFIED:20250826T215112Z
UID:10001807-1861435800-1861443000@glccenter.org
SUMMARY:GLC Playgroup for Children 0-5
DESCRIPTION:Free playgroup for children 0-5 and their caregivers every Monday\, Tuesday & Wednesday 9:30am-11:30am. No sign up required. \n 
URL:https://glccenter.org/event/first-5-playgroup-for-children-0-5-32-10/2028-12-26/
LOCATION:Gene Lucas Community Center\, 3000 Newburg Rd Ste C\, Fortuna\, CA\, 95540-2599\, United States
ORGANIZER;CN="Fortuna First 5":MAILTO:layla@glccenter.org
END:VEVENT
BEGIN:VEVENT
DTSTART;TZID=UTC:20281227T093000
DTEND;TZID=UTC:20281227T113000
DTSTAMP:20260420T144032
CREATED:20240904T173541Z
LAST-MODIFIED:20250826T215112Z
UID:10002235-1861522200-1861529400@glccenter.org
SUMMARY:GLC Playgroup for Children 0-5
DESCRIPTION:Free playgroup for children 0-5 and their caregivers every Monday\, Tuesday & Wednesday 9:30am-11:30am. No sign up required. \n 
URL:https://glccenter.org/event/first-5-playgroup-for-children-0-5-32-10/2028-12-27/
LOCATION:Gene Lucas Community Center\, 3000 Newburg Rd Ste C\, Fortuna\, CA\, 95540-2599\, United States
ORGANIZER;CN="Fortuna First 5":MAILTO:layla@glccenter.org
END:VEVENT
BEGIN:VEVENT
DTSTART;TZID=UTC:20290101T093000
DTEND;TZID=UTC:20290101T113000
DTSTAMP:20260420T144032
CREATED:20240904T173541Z
LAST-MODIFIED:20250826T215112Z
UID:10001808-1861954200-1861961400@glccenter.org
SUMMARY:GLC Playgroup for Children 0-5
DESCRIPTION:Free playgroup for children 0-5 and their caregivers every Monday\, Tuesday & Wednesday 9:30am-11:30am. No sign up required. \n 
URL:https://glccenter.org/event/first-5-playgroup-for-children-0-5-32-10/2029-01-01/
LOCATION:Gene Lucas Community Center\, 3000 Newburg Rd Ste C\, Fortuna\, CA\, 95540-2599\, United States
ORGANIZER;CN="Fortuna First 5":MAILTO:layla@glccenter.org
END:VEVENT
BEGIN:VEVENT
DTSTART;TZID=UTC:20290102T093000
DTEND;TZID=UTC:20290102T113000
DTSTAMP:20260420T144032
CREATED:20240904T173541Z
LAST-MODIFIED:20250826T215112Z
UID:10001809-1862040600-1862047800@glccenter.org
SUMMARY:GLC Playgroup for Children 0-5
DESCRIPTION:Free playgroup for children 0-5 and their caregivers every Monday\, Tuesday & Wednesday 9:30am-11:30am. No sign up required. \n 
URL:https://glccenter.org/event/first-5-playgroup-for-children-0-5-32-10/2029-01-02/
LOCATION:Gene Lucas Community Center\, 3000 Newburg Rd Ste C\, Fortuna\, CA\, 95540-2599\, United States
ORGANIZER;CN="Fortuna First 5":MAILTO:layla@glccenter.org
END:VEVENT
BEGIN:VEVENT
DTSTART;TZID=UTC:20290103T093000
DTEND;TZID=UTC:20290103T113000
DTSTAMP:20260420T144032
CREATED:20240904T173541Z
LAST-MODIFIED:20250826T215112Z
UID:10002236-1862127000-1862134200@glccenter.org
SUMMARY:GLC Playgroup for Children 0-5
DESCRIPTION:Free playgroup for children 0-5 and their caregivers every Monday\, Tuesday & Wednesday 9:30am-11:30am. No sign up required. \n 
URL:https://glccenter.org/event/first-5-playgroup-for-children-0-5-32-10/2029-01-03/
LOCATION:Gene Lucas Community Center\, 3000 Newburg Rd Ste C\, Fortuna\, CA\, 95540-2599\, United States
ORGANIZER;CN="Fortuna First 5":MAILTO:layla@glccenter.org
END:VEVENT
BEGIN:VEVENT
DTSTART;TZID=UTC:20290108T093000
DTEND;TZID=UTC:20290108T113000
DTSTAMP:20260420T144032
CREATED:20240904T173541Z
LAST-MODIFIED:20250826T215112Z
UID:10001810-1862559000-1862566200@glccenter.org
SUMMARY:GLC Playgroup for Children 0-5
DESCRIPTION:Free playgroup for children 0-5 and their caregivers every Monday\, Tuesday & Wednesday 9:30am-11:30am. No sign up required. \n 
URL:https://glccenter.org/event/first-5-playgroup-for-children-0-5-32-10/2029-01-08/
LOCATION:Gene Lucas Community Center\, 3000 Newburg Rd Ste C\, Fortuna\, CA\, 95540-2599\, United States
ORGANIZER;CN="Fortuna First 5":MAILTO:layla@glccenter.org
END:VEVENT
END:VCALENDAR