BEGIN:VCALENDAR
VERSION:2.0
PRODID:-//Gene Lucas Community Center - ECPv6.15.20//NONSGML v1.0//EN
CALSCALE:GREGORIAN
METHOD:PUBLISH
X-ORIGINAL-URL:https://glccenter.org
X-WR-CALDESC:Events for Gene Lucas Community Center
REFRESH-INTERVAL;VALUE=DURATION:PT1H
X-Robots-Tag:noindex
X-PUBLISHED-TTL:PT1H
BEGIN:VTIMEZONE
TZID:UTC
BEGIN:STANDARD
TZOFFSETFROM:+0000
TZOFFSETTO:+0000
TZNAME:UTC
DTSTART:20250101T000000
END:STANDARD
END:VTIMEZONE
BEGIN:VEVENT
DTSTART;TZID=UTC:20260622T093000
DTEND;TZID=UTC:20260622T113000
DTSTAMP:20260425T041519
CREATED:20240904T173541Z
LAST-MODIFIED:20250826T215112Z
UID:10000378-1782120600-1782127800@glccenter.org
SUMMARY:GLC Playgroup for Children 0-5
DESCRIPTION:Free playgroup for children 0-5 and their caregivers every Monday\, Tuesday & Wednesday 9:30am-11:30am. No sign up required. \n 
URL:https://glccenter.org/event/first-5-playgroup-for-children-0-5-32-10/2026-06-22/
LOCATION:Gene Lucas Community Center\, 3000 Newburg Rd Ste C\, Fortuna\, CA\, 95540-2599\, United States
ORGANIZER;CN="Fortuna First 5":MAILTO:layla@glccenter.org
END:VEVENT
BEGIN:VEVENT
DTSTART;TZID=UTC:20260623T093000
DTEND;TZID=UTC:20260623T113000
DTSTAMP:20260425T041519
CREATED:20240904T173541Z
LAST-MODIFIED:20250826T215112Z
UID:10000379-1782207000-1782214200@glccenter.org
SUMMARY:GLC Playgroup for Children 0-5
DESCRIPTION:Free playgroup for children 0-5 and their caregivers every Monday\, Tuesday & Wednesday 9:30am-11:30am. No sign up required. \n 
URL:https://glccenter.org/event/first-5-playgroup-for-children-0-5-32-10/2026-06-23/
LOCATION:Gene Lucas Community Center\, 3000 Newburg Rd Ste C\, Fortuna\, CA\, 95540-2599\, United States
ORGANIZER;CN="Fortuna First 5":MAILTO:layla@glccenter.org
END:VEVENT
BEGIN:VEVENT
DTSTART;TZID=UTC:20260624T093000
DTEND;TZID=UTC:20260624T113000
DTSTAMP:20260425T041519
CREATED:20240904T173541Z
LAST-MODIFIED:20250826T215112Z
UID:10002104-1782293400-1782300600@glccenter.org
SUMMARY:GLC Playgroup for Children 0-5
DESCRIPTION:Free playgroup for children 0-5 and their caregivers every Monday\, Tuesday & Wednesday 9:30am-11:30am. No sign up required. \n 
URL:https://glccenter.org/event/first-5-playgroup-for-children-0-5-32-10/2026-06-24/
LOCATION:Gene Lucas Community Center\, 3000 Newburg Rd Ste C\, Fortuna\, CA\, 95540-2599\, United States
ORGANIZER;CN="Fortuna First 5":MAILTO:layla@glccenter.org
END:VEVENT
BEGIN:VEVENT
DTSTART;TZID=UTC:20260629T093000
DTEND;TZID=UTC:20260629T113000
DTSTAMP:20260425T041519
CREATED:20240904T173541Z
LAST-MODIFIED:20250826T215112Z
UID:10000380-1782725400-1782732600@glccenter.org
SUMMARY:GLC Playgroup for Children 0-5
DESCRIPTION:Free playgroup for children 0-5 and their caregivers every Monday\, Tuesday & Wednesday 9:30am-11:30am. No sign up required. \n 
URL:https://glccenter.org/event/first-5-playgroup-for-children-0-5-32-10/2026-06-29/
LOCATION:Gene Lucas Community Center\, 3000 Newburg Rd Ste C\, Fortuna\, CA\, 95540-2599\, United States
ORGANIZER;CN="Fortuna First 5":MAILTO:layla@glccenter.org
END:VEVENT
BEGIN:VEVENT
DTSTART;TZID=UTC:20260630T093000
DTEND;TZID=UTC:20260630T113000
DTSTAMP:20260425T041519
CREATED:20240904T173541Z
LAST-MODIFIED:20250826T215112Z
UID:10000381-1782811800-1782819000@glccenter.org
SUMMARY:GLC Playgroup for Children 0-5
DESCRIPTION:Free playgroup for children 0-5 and their caregivers every Monday\, Tuesday & Wednesday 9:30am-11:30am. No sign up required. \n 
URL:https://glccenter.org/event/first-5-playgroup-for-children-0-5-32-10/2026-06-30/
LOCATION:Gene Lucas Community Center\, 3000 Newburg Rd Ste C\, Fortuna\, CA\, 95540-2599\, United States
ORGANIZER;CN="Fortuna First 5":MAILTO:layla@glccenter.org
END:VEVENT
BEGIN:VEVENT
DTSTART;TZID=UTC:20260701T093000
DTEND;TZID=UTC:20260701T113000
DTSTAMP:20260425T041519
CREATED:20240904T173541Z
LAST-MODIFIED:20250826T215112Z
UID:10002105-1782898200-1782905400@glccenter.org
SUMMARY:GLC Playgroup for Children 0-5
DESCRIPTION:Free playgroup for children 0-5 and their caregivers every Monday\, Tuesday & Wednesday 9:30am-11:30am. No sign up required. \n 
URL:https://glccenter.org/event/first-5-playgroup-for-children-0-5-32-10/2026-07-01/
LOCATION:Gene Lucas Community Center\, 3000 Newburg Rd Ste C\, Fortuna\, CA\, 95540-2599\, United States
ORGANIZER;CN="Fortuna First 5":MAILTO:layla@glccenter.org
END:VEVENT
BEGIN:VEVENT
DTSTART;TZID=UTC:20260706T093000
DTEND;TZID=UTC:20260706T113000
DTSTAMP:20260425T041519
CREATED:20240904T173541Z
LAST-MODIFIED:20250826T215112Z
UID:10000382-1783330200-1783337400@glccenter.org
SUMMARY:GLC Playgroup for Children 0-5
DESCRIPTION:Free playgroup for children 0-5 and their caregivers every Monday\, Tuesday & Wednesday 9:30am-11:30am. No sign up required. \n 
URL:https://glccenter.org/event/first-5-playgroup-for-children-0-5-32-10/2026-07-06/
LOCATION:Gene Lucas Community Center\, 3000 Newburg Rd Ste C\, Fortuna\, CA\, 95540-2599\, United States
ORGANIZER;CN="Fortuna First 5":MAILTO:layla@glccenter.org
END:VEVENT
BEGIN:VEVENT
DTSTART;TZID=UTC:20260707T093000
DTEND;TZID=UTC:20260707T113000
DTSTAMP:20260425T041519
CREATED:20240904T173541Z
LAST-MODIFIED:20250826T215112Z
UID:10000383-1783416600-1783423800@glccenter.org
SUMMARY:GLC Playgroup for Children 0-5
DESCRIPTION:Free playgroup for children 0-5 and their caregivers every Monday\, Tuesday & Wednesday 9:30am-11:30am. No sign up required. \n 
URL:https://glccenter.org/event/first-5-playgroup-for-children-0-5-32-10/2026-07-07/
LOCATION:Gene Lucas Community Center\, 3000 Newburg Rd Ste C\, Fortuna\, CA\, 95540-2599\, United States
ORGANIZER;CN="Fortuna First 5":MAILTO:layla@glccenter.org
END:VEVENT
BEGIN:VEVENT
DTSTART;TZID=UTC:20260708T093000
DTEND;TZID=UTC:20260708T113000
DTSTAMP:20260425T041519
CREATED:20240904T173541Z
LAST-MODIFIED:20250826T215112Z
UID:10002106-1783503000-1783510200@glccenter.org
SUMMARY:GLC Playgroup for Children 0-5
DESCRIPTION:Free playgroup for children 0-5 and their caregivers every Monday\, Tuesday & Wednesday 9:30am-11:30am. No sign up required. \n 
URL:https://glccenter.org/event/first-5-playgroup-for-children-0-5-32-10/2026-07-08/
LOCATION:Gene Lucas Community Center\, 3000 Newburg Rd Ste C\, Fortuna\, CA\, 95540-2599\, United States
ORGANIZER;CN="Fortuna First 5":MAILTO:layla@glccenter.org
END:VEVENT
BEGIN:VEVENT
DTSTART;TZID=UTC:20260713T093000
DTEND;TZID=UTC:20260713T113000
DTSTAMP:20260425T041519
CREATED:20240904T173541Z
LAST-MODIFIED:20250826T215112Z
UID:10000384-1783935000-1783942200@glccenter.org
SUMMARY:GLC Playgroup for Children 0-5
DESCRIPTION:Free playgroup for children 0-5 and their caregivers every Monday\, Tuesday & Wednesday 9:30am-11:30am. No sign up required. \n 
URL:https://glccenter.org/event/first-5-playgroup-for-children-0-5-32-10/2026-07-13/
LOCATION:Gene Lucas Community Center\, 3000 Newburg Rd Ste C\, Fortuna\, CA\, 95540-2599\, United States
ORGANIZER;CN="Fortuna First 5":MAILTO:layla@glccenter.org
END:VEVENT
BEGIN:VEVENT
DTSTART;TZID=UTC:20260714T093000
DTEND;TZID=UTC:20260714T113000
DTSTAMP:20260425T041519
CREATED:20240904T173541Z
LAST-MODIFIED:20250826T215112Z
UID:10000385-1784021400-1784028600@glccenter.org
SUMMARY:GLC Playgroup for Children 0-5
DESCRIPTION:Free playgroup for children 0-5 and their caregivers every Monday\, Tuesday & Wednesday 9:30am-11:30am. No sign up required. \n 
URL:https://glccenter.org/event/first-5-playgroup-for-children-0-5-32-10/2026-07-14/
LOCATION:Gene Lucas Community Center\, 3000 Newburg Rd Ste C\, Fortuna\, CA\, 95540-2599\, United States
ORGANIZER;CN="Fortuna First 5":MAILTO:layla@glccenter.org
END:VEVENT
BEGIN:VEVENT
DTSTART;TZID=UTC:20260715T093000
DTEND;TZID=UTC:20260715T113000
DTSTAMP:20260425T041519
CREATED:20240904T173541Z
LAST-MODIFIED:20250826T215112Z
UID:10002107-1784107800-1784115000@glccenter.org
SUMMARY:GLC Playgroup for Children 0-5
DESCRIPTION:Free playgroup for children 0-5 and their caregivers every Monday\, Tuesday & Wednesday 9:30am-11:30am. No sign up required. \n 
URL:https://glccenter.org/event/first-5-playgroup-for-children-0-5-32-10/2026-07-15/
LOCATION:Gene Lucas Community Center\, 3000 Newburg Rd Ste C\, Fortuna\, CA\, 95540-2599\, United States
ORGANIZER;CN="Fortuna First 5":MAILTO:layla@glccenter.org
END:VEVENT
BEGIN:VEVENT
DTSTART;TZID=UTC:20260720T093000
DTEND;TZID=UTC:20260720T113000
DTSTAMP:20260425T041519
CREATED:20240904T173541Z
LAST-MODIFIED:20250826T215112Z
UID:10000386-1784539800-1784547000@glccenter.org
SUMMARY:GLC Playgroup for Children 0-5
DESCRIPTION:Free playgroup for children 0-5 and their caregivers every Monday\, Tuesday & Wednesday 9:30am-11:30am. No sign up required. \n 
URL:https://glccenter.org/event/first-5-playgroup-for-children-0-5-32-10/2026-07-20/
LOCATION:Gene Lucas Community Center\, 3000 Newburg Rd Ste C\, Fortuna\, CA\, 95540-2599\, United States
ORGANIZER;CN="Fortuna First 5":MAILTO:layla@glccenter.org
END:VEVENT
BEGIN:VEVENT
DTSTART;TZID=UTC:20260721T093000
DTEND;TZID=UTC:20260721T113000
DTSTAMP:20260425T041519
CREATED:20240904T173541Z
LAST-MODIFIED:20250826T215112Z
UID:10000387-1784626200-1784633400@glccenter.org
SUMMARY:GLC Playgroup for Children 0-5
DESCRIPTION:Free playgroup for children 0-5 and their caregivers every Monday\, Tuesday & Wednesday 9:30am-11:30am. No sign up required. \n 
URL:https://glccenter.org/event/first-5-playgroup-for-children-0-5-32-10/2026-07-21/
LOCATION:Gene Lucas Community Center\, 3000 Newburg Rd Ste C\, Fortuna\, CA\, 95540-2599\, United States
ORGANIZER;CN="Fortuna First 5":MAILTO:layla@glccenter.org
END:VEVENT
BEGIN:VEVENT
DTSTART;TZID=UTC:20260722T093000
DTEND;TZID=UTC:20260722T113000
DTSTAMP:20260425T041519
CREATED:20240904T173541Z
LAST-MODIFIED:20250826T215112Z
UID:10002108-1784712600-1784719800@glccenter.org
SUMMARY:GLC Playgroup for Children 0-5
DESCRIPTION:Free playgroup for children 0-5 and their caregivers every Monday\, Tuesday & Wednesday 9:30am-11:30am. No sign up required. \n 
URL:https://glccenter.org/event/first-5-playgroup-for-children-0-5-32-10/2026-07-22/
LOCATION:Gene Lucas Community Center\, 3000 Newburg Rd Ste C\, Fortuna\, CA\, 95540-2599\, United States
ORGANIZER;CN="Fortuna First 5":MAILTO:layla@glccenter.org
END:VEVENT
BEGIN:VEVENT
DTSTART;TZID=UTC:20260727T093000
DTEND;TZID=UTC:20260727T113000
DTSTAMP:20260425T041519
CREATED:20240904T173541Z
LAST-MODIFIED:20250826T215112Z
UID:10000388-1785144600-1785151800@glccenter.org
SUMMARY:GLC Playgroup for Children 0-5
DESCRIPTION:Free playgroup for children 0-5 and their caregivers every Monday\, Tuesday & Wednesday 9:30am-11:30am. No sign up required. \n 
URL:https://glccenter.org/event/first-5-playgroup-for-children-0-5-32-10/2026-07-27/
LOCATION:Gene Lucas Community Center\, 3000 Newburg Rd Ste C\, Fortuna\, CA\, 95540-2599\, United States
ORGANIZER;CN="Fortuna First 5":MAILTO:layla@glccenter.org
END:VEVENT
BEGIN:VEVENT
DTSTART;TZID=UTC:20260728T093000
DTEND;TZID=UTC:20260728T113000
DTSTAMP:20260425T041519
CREATED:20240904T173541Z
LAST-MODIFIED:20250826T215112Z
UID:10000389-1785231000-1785238200@glccenter.org
SUMMARY:GLC Playgroup for Children 0-5
DESCRIPTION:Free playgroup for children 0-5 and their caregivers every Monday\, Tuesday & Wednesday 9:30am-11:30am. No sign up required. \n 
URL:https://glccenter.org/event/first-5-playgroup-for-children-0-5-32-10/2026-07-28/
LOCATION:Gene Lucas Community Center\, 3000 Newburg Rd Ste C\, Fortuna\, CA\, 95540-2599\, United States
ORGANIZER;CN="Fortuna First 5":MAILTO:layla@glccenter.org
END:VEVENT
BEGIN:VEVENT
DTSTART;TZID=UTC:20260729T093000
DTEND;TZID=UTC:20260729T113000
DTSTAMP:20260425T041519
CREATED:20240904T173541Z
LAST-MODIFIED:20250826T215112Z
UID:10002109-1785317400-1785324600@glccenter.org
SUMMARY:GLC Playgroup for Children 0-5
DESCRIPTION:Free playgroup for children 0-5 and their caregivers every Monday\, Tuesday & Wednesday 9:30am-11:30am. No sign up required. \n 
URL:https://glccenter.org/event/first-5-playgroup-for-children-0-5-32-10/2026-07-29/
LOCATION:Gene Lucas Community Center\, 3000 Newburg Rd Ste C\, Fortuna\, CA\, 95540-2599\, United States
ORGANIZER;CN="Fortuna First 5":MAILTO:layla@glccenter.org
END:VEVENT
BEGIN:VEVENT
DTSTART;TZID=UTC:20260803T093000
DTEND;TZID=UTC:20260803T113000
DTSTAMP:20260425T041519
CREATED:20240904T173541Z
LAST-MODIFIED:20250826T215112Z
UID:10000390-1785749400-1785756600@glccenter.org
SUMMARY:GLC Playgroup for Children 0-5
DESCRIPTION:Free playgroup for children 0-5 and their caregivers every Monday\, Tuesday & Wednesday 9:30am-11:30am. No sign up required. \n 
URL:https://glccenter.org/event/first-5-playgroup-for-children-0-5-32-10/2026-08-03/
LOCATION:Gene Lucas Community Center\, 3000 Newburg Rd Ste C\, Fortuna\, CA\, 95540-2599\, United States
ORGANIZER;CN="Fortuna First 5":MAILTO:layla@glccenter.org
END:VEVENT
BEGIN:VEVENT
DTSTART;TZID=UTC:20260804T093000
DTEND;TZID=UTC:20260804T113000
DTSTAMP:20260425T041519
CREATED:20240904T173541Z
LAST-MODIFIED:20250826T215112Z
UID:10000391-1785835800-1785843000@glccenter.org
SUMMARY:GLC Playgroup for Children 0-5
DESCRIPTION:Free playgroup for children 0-5 and their caregivers every Monday\, Tuesday & Wednesday 9:30am-11:30am. No sign up required. \n 
URL:https://glccenter.org/event/first-5-playgroup-for-children-0-5-32-10/2026-08-04/
LOCATION:Gene Lucas Community Center\, 3000 Newburg Rd Ste C\, Fortuna\, CA\, 95540-2599\, United States
ORGANIZER;CN="Fortuna First 5":MAILTO:layla@glccenter.org
END:VEVENT
BEGIN:VEVENT
DTSTART;TZID=UTC:20260805T093000
DTEND;TZID=UTC:20260805T113000
DTSTAMP:20260425T041519
CREATED:20240904T173541Z
LAST-MODIFIED:20250826T215112Z
UID:10002110-1785922200-1785929400@glccenter.org
SUMMARY:GLC Playgroup for Children 0-5
DESCRIPTION:Free playgroup for children 0-5 and their caregivers every Monday\, Tuesday & Wednesday 9:30am-11:30am. No sign up required. \n 
URL:https://glccenter.org/event/first-5-playgroup-for-children-0-5-32-10/2026-08-05/
LOCATION:Gene Lucas Community Center\, 3000 Newburg Rd Ste C\, Fortuna\, CA\, 95540-2599\, United States
ORGANIZER;CN="Fortuna First 5":MAILTO:layla@glccenter.org
END:VEVENT
BEGIN:VEVENT
DTSTART;TZID=UTC:20260810T093000
DTEND;TZID=UTC:20260810T113000
DTSTAMP:20260425T041519
CREATED:20240904T173541Z
LAST-MODIFIED:20250826T215112Z
UID:10000392-1786354200-1786361400@glccenter.org
SUMMARY:GLC Playgroup for Children 0-5
DESCRIPTION:Free playgroup for children 0-5 and their caregivers every Monday\, Tuesday & Wednesday 9:30am-11:30am. No sign up required. \n 
URL:https://glccenter.org/event/first-5-playgroup-for-children-0-5-32-10/2026-08-10/
LOCATION:Gene Lucas Community Center\, 3000 Newburg Rd Ste C\, Fortuna\, CA\, 95540-2599\, United States
ORGANIZER;CN="Fortuna First 5":MAILTO:layla@glccenter.org
END:VEVENT
BEGIN:VEVENT
DTSTART;TZID=UTC:20260811T093000
DTEND;TZID=UTC:20260811T113000
DTSTAMP:20260425T041519
CREATED:20240904T173541Z
LAST-MODIFIED:20250826T215112Z
UID:10000393-1786440600-1786447800@glccenter.org
SUMMARY:GLC Playgroup for Children 0-5
DESCRIPTION:Free playgroup for children 0-5 and their caregivers every Monday\, Tuesday & Wednesday 9:30am-11:30am. No sign up required. \n 
URL:https://glccenter.org/event/first-5-playgroup-for-children-0-5-32-10/2026-08-11/
LOCATION:Gene Lucas Community Center\, 3000 Newburg Rd Ste C\, Fortuna\, CA\, 95540-2599\, United States
ORGANIZER;CN="Fortuna First 5":MAILTO:layla@glccenter.org
END:VEVENT
BEGIN:VEVENT
DTSTART;TZID=UTC:20260812T093000
DTEND;TZID=UTC:20260812T113000
DTSTAMP:20260425T041519
CREATED:20240904T173541Z
LAST-MODIFIED:20250826T215112Z
UID:10002111-1786527000-1786534200@glccenter.org
SUMMARY:GLC Playgroup for Children 0-5
DESCRIPTION:Free playgroup for children 0-5 and their caregivers every Monday\, Tuesday & Wednesday 9:30am-11:30am. No sign up required. \n 
URL:https://glccenter.org/event/first-5-playgroup-for-children-0-5-32-10/2026-08-12/
LOCATION:Gene Lucas Community Center\, 3000 Newburg Rd Ste C\, Fortuna\, CA\, 95540-2599\, United States
ORGANIZER;CN="Fortuna First 5":MAILTO:layla@glccenter.org
END:VEVENT
BEGIN:VEVENT
DTSTART;TZID=UTC:20260817T093000
DTEND;TZID=UTC:20260817T113000
DTSTAMP:20260425T041519
CREATED:20240904T173541Z
LAST-MODIFIED:20250826T215112Z
UID:10000394-1786959000-1786966200@glccenter.org
SUMMARY:GLC Playgroup for Children 0-5
DESCRIPTION:Free playgroup for children 0-5 and their caregivers every Monday\, Tuesday & Wednesday 9:30am-11:30am. No sign up required. \n 
URL:https://glccenter.org/event/first-5-playgroup-for-children-0-5-32-10/2026-08-17/
LOCATION:Gene Lucas Community Center\, 3000 Newburg Rd Ste C\, Fortuna\, CA\, 95540-2599\, United States
ORGANIZER;CN="Fortuna First 5":MAILTO:layla@glccenter.org
END:VEVENT
BEGIN:VEVENT
DTSTART;TZID=UTC:20260818T093000
DTEND;TZID=UTC:20260818T113000
DTSTAMP:20260425T041519
CREATED:20240904T173541Z
LAST-MODIFIED:20250826T215112Z
UID:10000395-1787045400-1787052600@glccenter.org
SUMMARY:GLC Playgroup for Children 0-5
DESCRIPTION:Free playgroup for children 0-5 and their caregivers every Monday\, Tuesday & Wednesday 9:30am-11:30am. No sign up required. \n 
URL:https://glccenter.org/event/first-5-playgroup-for-children-0-5-32-10/2026-08-18/
LOCATION:Gene Lucas Community Center\, 3000 Newburg Rd Ste C\, Fortuna\, CA\, 95540-2599\, United States
ORGANIZER;CN="Fortuna First 5":MAILTO:layla@glccenter.org
END:VEVENT
BEGIN:VEVENT
DTSTART;TZID=UTC:20260819T093000
DTEND;TZID=UTC:20260819T113000
DTSTAMP:20260425T041519
CREATED:20240904T173541Z
LAST-MODIFIED:20250826T215112Z
UID:10002112-1787131800-1787139000@glccenter.org
SUMMARY:GLC Playgroup for Children 0-5
DESCRIPTION:Free playgroup for children 0-5 and their caregivers every Monday\, Tuesday & Wednesday 9:30am-11:30am. No sign up required. \n 
URL:https://glccenter.org/event/first-5-playgroup-for-children-0-5-32-10/2026-08-19/
LOCATION:Gene Lucas Community Center\, 3000 Newburg Rd Ste C\, Fortuna\, CA\, 95540-2599\, United States
ORGANIZER;CN="Fortuna First 5":MAILTO:layla@glccenter.org
END:VEVENT
BEGIN:VEVENT
DTSTART;TZID=UTC:20260824T093000
DTEND;TZID=UTC:20260824T113000
DTSTAMP:20260425T041519
CREATED:20240904T173541Z
LAST-MODIFIED:20250826T215112Z
UID:10000396-1787563800-1787571000@glccenter.org
SUMMARY:GLC Playgroup for Children 0-5
DESCRIPTION:Free playgroup for children 0-5 and their caregivers every Monday\, Tuesday & Wednesday 9:30am-11:30am. No sign up required. \n 
URL:https://glccenter.org/event/first-5-playgroup-for-children-0-5-32-10/2026-08-24/
LOCATION:Gene Lucas Community Center\, 3000 Newburg Rd Ste C\, Fortuna\, CA\, 95540-2599\, United States
ORGANIZER;CN="Fortuna First 5":MAILTO:layla@glccenter.org
END:VEVENT
BEGIN:VEVENT
DTSTART;TZID=UTC:20260825T093000
DTEND;TZID=UTC:20260825T113000
DTSTAMP:20260425T041519
CREATED:20240904T173541Z
LAST-MODIFIED:20250826T215112Z
UID:10000397-1787650200-1787657400@glccenter.org
SUMMARY:GLC Playgroup for Children 0-5
DESCRIPTION:Free playgroup for children 0-5 and their caregivers every Monday\, Tuesday & Wednesday 9:30am-11:30am. No sign up required. \n 
URL:https://glccenter.org/event/first-5-playgroup-for-children-0-5-32-10/2026-08-25/
LOCATION:Gene Lucas Community Center\, 3000 Newburg Rd Ste C\, Fortuna\, CA\, 95540-2599\, United States
ORGANIZER;CN="Fortuna First 5":MAILTO:layla@glccenter.org
END:VEVENT
BEGIN:VEVENT
DTSTART;TZID=UTC:20260826T093000
DTEND;TZID=UTC:20260826T113000
DTSTAMP:20260425T041519
CREATED:20240904T173541Z
LAST-MODIFIED:20250826T215112Z
UID:10002113-1787736600-1787743800@glccenter.org
SUMMARY:GLC Playgroup for Children 0-5
DESCRIPTION:Free playgroup for children 0-5 and their caregivers every Monday\, Tuesday & Wednesday 9:30am-11:30am. No sign up required. \n 
URL:https://glccenter.org/event/first-5-playgroup-for-children-0-5-32-10/2026-08-26/
LOCATION:Gene Lucas Community Center\, 3000 Newburg Rd Ste C\, Fortuna\, CA\, 95540-2599\, United States
ORGANIZER;CN="Fortuna First 5":MAILTO:layla@glccenter.org
END:VEVENT
END:VCALENDAR