BEGIN:VCALENDAR
VERSION:2.0
PRODID:-//Gene Lucas Community Center - ECPv6.15.20//NONSGML v1.0//EN
CALSCALE:GREGORIAN
METHOD:PUBLISH
X-WR-CALNAME:Gene Lucas Community Center
X-ORIGINAL-URL:https://glccenter.org
X-WR-CALDESC:Events for Gene Lucas Community Center
REFRESH-INTERVAL;VALUE=DURATION:PT1H
X-Robots-Tag:noindex
X-PUBLISHED-TTL:PT1H
BEGIN:VTIMEZONE
TZID:America/Los_Angeles
BEGIN:DAYLIGHT
TZOFFSETFROM:-0800
TZOFFSETTO:-0700
TZNAME:PDT
DTSTART:20230312T100000
END:DAYLIGHT
BEGIN:STANDARD
TZOFFSETFROM:-0700
TZOFFSETTO:-0800
TZNAME:PST
DTSTART:20231105T090000
END:STANDARD
BEGIN:DAYLIGHT
TZOFFSETFROM:-0800
TZOFFSETTO:-0700
TZNAME:PDT
DTSTART:20240310T100000
END:DAYLIGHT
BEGIN:STANDARD
TZOFFSETFROM:-0700
TZOFFSETTO:-0800
TZNAME:PST
DTSTART:20241103T090000
END:STANDARD
BEGIN:DAYLIGHT
TZOFFSETFROM:-0800
TZOFFSETTO:-0700
TZNAME:PDT
DTSTART:20250309T100000
END:DAYLIGHT
BEGIN:STANDARD
TZOFFSETFROM:-0700
TZOFFSETTO:-0800
TZNAME:PST
DTSTART:20251102T090000
END:STANDARD
END:VTIMEZONE
BEGIN:VEVENT
DTSTART;TZID=America/Los_Angeles:20240328T180000
DTEND;TZID=America/Los_Angeles:20240328T200000
DTSTAMP:20260423T154032
CREATED:20240130T230650Z
LAST-MODIFIED:20240130T230650Z
UID:10001752-1711648800-1711656000@glccenter.org
SUMMARY:Parent Project-Parenting Course with Teen Court
DESCRIPTION:Fortuna Teen Court will start hosting the Parent Project in January 2024\, if you’re interested in the program and would like to register for classes in January 2024 you can click the link below to get Registered and we hope to see you there!\n\n\nhttps://forms.gle/rP3RjUcYXqmnY6Vx5\n\n\nFor more information about the parent project feel free to reach out to The Fortuna Teen Court Coordinator Raven Majors at the email provided below\n\n\nfortunatc@bgcredwoods.org
URL:https://glccenter.org/event/parent-project-parenting-course-with-teen-court/2024-03-28/
LOCATION:Gene Lucas Community Center\, 3000 Newburg Rd Ste C\, Fortuna\, CA\, 95540-2599\, United States
ORGANIZER;CN="Boys & Girls Club of the Redwoods":MAILTO:fortunatc@bgcredwoods.org
END:VEVENT
BEGIN:VEVENT
DTSTART;TZID=America/Los_Angeles:20240321T180000
DTEND;TZID=America/Los_Angeles:20240321T200000
DTSTAMP:20260423T154032
CREATED:20240130T230650Z
LAST-MODIFIED:20240130T230650Z
UID:10001751-1711044000-1711051200@glccenter.org
SUMMARY:Parent Project-Parenting Course with Teen Court
DESCRIPTION:Fortuna Teen Court will start hosting the Parent Project in January 2024\, if you’re interested in the program and would like to register for classes in January 2024 you can click the link below to get Registered and we hope to see you there!\n\n\nhttps://forms.gle/rP3RjUcYXqmnY6Vx5\n\n\nFor more information about the parent project feel free to reach out to The Fortuna Teen Court Coordinator Raven Majors at the email provided below\n\n\nfortunatc@bgcredwoods.org
URL:https://glccenter.org/event/parent-project-parenting-course-with-teen-court/2024-03-21/
LOCATION:Gene Lucas Community Center\, 3000 Newburg Rd Ste C\, Fortuna\, CA\, 95540-2599\, United States
ORGANIZER;CN="Boys & Girls Club of the Redwoods":MAILTO:fortunatc@bgcredwoods.org
END:VEVENT
BEGIN:VEVENT
DTSTART;TZID=America/Los_Angeles:20240314T180000
DTEND;TZID=America/Los_Angeles:20240314T200000
DTSTAMP:20260423T154032
CREATED:20240130T230650Z
LAST-MODIFIED:20240130T230650Z
UID:10001750-1710439200-1710446400@glccenter.org
SUMMARY:Parent Project-Parenting Course with Teen Court
DESCRIPTION:Fortuna Teen Court will start hosting the Parent Project in January 2024\, if you’re interested in the program and would like to register for classes in January 2024 you can click the link below to get Registered and we hope to see you there!\n\n\nhttps://forms.gle/rP3RjUcYXqmnY6Vx5\n\n\nFor more information about the parent project feel free to reach out to The Fortuna Teen Court Coordinator Raven Majors at the email provided below\n\n\nfortunatc@bgcredwoods.org
URL:https://glccenter.org/event/parent-project-parenting-course-with-teen-court/2024-03-14/
LOCATION:Gene Lucas Community Center\, 3000 Newburg Rd Ste C\, Fortuna\, CA\, 95540-2599\, United States
ORGANIZER;CN="Boys & Girls Club of the Redwoods":MAILTO:fortunatc@bgcredwoods.org
END:VEVENT
BEGIN:VEVENT
DTSTART;TZID=America/Los_Angeles:20240307T180000
DTEND;TZID=America/Los_Angeles:20240307T200000
DTSTAMP:20260423T154032
CREATED:20240130T230650Z
LAST-MODIFIED:20240130T230650Z
UID:10001749-1709834400-1709841600@glccenter.org
SUMMARY:Parent Project-Parenting Course with Teen Court
DESCRIPTION:Fortuna Teen Court will start hosting the Parent Project in January 2024\, if you’re interested in the program and would like to register for classes in January 2024 you can click the link below to get Registered and we hope to see you there!\n\n\nhttps://forms.gle/rP3RjUcYXqmnY6Vx5\n\n\nFor more information about the parent project feel free to reach out to The Fortuna Teen Court Coordinator Raven Majors at the email provided below\n\n\nfortunatc@bgcredwoods.org
URL:https://glccenter.org/event/parent-project-parenting-course-with-teen-court/2024-03-07/
LOCATION:Gene Lucas Community Center\, 3000 Newburg Rd Ste C\, Fortuna\, CA\, 95540-2599\, United States
ORGANIZER;CN="Boys & Girls Club of the Redwoods":MAILTO:fortunatc@bgcredwoods.org
END:VEVENT
BEGIN:VEVENT
DTSTART;TZID=America/Los_Angeles:20240229T180000
DTEND;TZID=America/Los_Angeles:20240229T200000
DTSTAMP:20260423T154032
CREATED:20240130T230650Z
LAST-MODIFIED:20240130T230650Z
UID:10001748-1709229600-1709236800@glccenter.org
SUMMARY:Parent Project-Parenting Course with Teen Court
DESCRIPTION:Fortuna Teen Court will start hosting the Parent Project in January 2024\, if you’re interested in the program and would like to register for classes in January 2024 you can click the link below to get Registered and we hope to see you there!\n\n\nhttps://forms.gle/rP3RjUcYXqmnY6Vx5\n\n\nFor more information about the parent project feel free to reach out to The Fortuna Teen Court Coordinator Raven Majors at the email provided below\n\n\nfortunatc@bgcredwoods.org
URL:https://glccenter.org/event/parent-project-parenting-course-with-teen-court/2024-02-29/
LOCATION:Gene Lucas Community Center\, 3000 Newburg Rd Ste C\, Fortuna\, CA\, 95540-2599\, United States
ORGANIZER;CN="Boys & Girls Club of the Redwoods":MAILTO:fortunatc@bgcredwoods.org
END:VEVENT
BEGIN:VEVENT
DTSTART;TZID=America/Los_Angeles:20240222T180000
DTEND;TZID=America/Los_Angeles:20240222T200000
DTSTAMP:20260423T154032
CREATED:20240130T230650Z
LAST-MODIFIED:20240130T230650Z
UID:10001747-1708624800-1708632000@glccenter.org
SUMMARY:Parent Project-Parenting Course with Teen Court
DESCRIPTION:Fortuna Teen Court will start hosting the Parent Project in January 2024\, if you’re interested in the program and would like to register for classes in January 2024 you can click the link below to get Registered and we hope to see you there!\n\n\nhttps://forms.gle/rP3RjUcYXqmnY6Vx5\n\n\nFor more information about the parent project feel free to reach out to The Fortuna Teen Court Coordinator Raven Majors at the email provided below\n\n\nfortunatc@bgcredwoods.org
URL:https://glccenter.org/event/parent-project-parenting-course-with-teen-court/2024-02-22/
LOCATION:Gene Lucas Community Center\, 3000 Newburg Rd Ste C\, Fortuna\, CA\, 95540-2599\, United States
ORGANIZER;CN="Boys & Girls Club of the Redwoods":MAILTO:fortunatc@bgcredwoods.org
END:VEVENT
BEGIN:VEVENT
DTSTART;TZID=America/Los_Angeles:20240215T180000
DTEND;TZID=America/Los_Angeles:20240215T200000
DTSTAMP:20260423T154032
CREATED:20240130T230650Z
LAST-MODIFIED:20240130T230650Z
UID:10001746-1708020000-1708027200@glccenter.org
SUMMARY:Parent Project-Parenting Course with Teen Court
DESCRIPTION:Fortuna Teen Court will start hosting the Parent Project in January 2024\, if you’re interested in the program and would like to register for classes in January 2024 you can click the link below to get Registered and we hope to see you there!\n\n\nhttps://forms.gle/rP3RjUcYXqmnY6Vx5\n\n\nFor more information about the parent project feel free to reach out to The Fortuna Teen Court Coordinator Raven Majors at the email provided below\n\n\nfortunatc@bgcredwoods.org
URL:https://glccenter.org/event/parent-project-parenting-course-with-teen-court/2024-02-15/
LOCATION:Gene Lucas Community Center\, 3000 Newburg Rd Ste C\, Fortuna\, CA\, 95540-2599\, United States
ORGANIZER;CN="Boys & Girls Club of the Redwoods":MAILTO:fortunatc@bgcredwoods.org
END:VEVENT
BEGIN:VEVENT
DTSTART;TZID=America/Los_Angeles:20240208T180000
DTEND;TZID=America/Los_Angeles:20240208T200000
DTSTAMP:20260423T154032
CREATED:20240130T230650Z
LAST-MODIFIED:20240130T230650Z
UID:10001745-1707415200-1707422400@glccenter.org
SUMMARY:Parent Project-Parenting Course with Teen Court
DESCRIPTION:Fortuna Teen Court will start hosting the Parent Project in January 2024\, if you’re interested in the program and would like to register for classes in January 2024 you can click the link below to get Registered and we hope to see you there!\n\n\nhttps://forms.gle/rP3RjUcYXqmnY6Vx5\n\n\nFor more information about the parent project feel free to reach out to The Fortuna Teen Court Coordinator Raven Majors at the email provided below\n\n\nfortunatc@bgcredwoods.org
URL:https://glccenter.org/event/parent-project-parenting-course-with-teen-court/2024-02-08/
LOCATION:Gene Lucas Community Center\, 3000 Newburg Rd Ste C\, Fortuna\, CA\, 95540-2599\, United States
ORGANIZER;CN="Boys & Girls Club of the Redwoods":MAILTO:fortunatc@bgcredwoods.org
END:VEVENT
BEGIN:VEVENT
DTSTART;TZID=America/Los_Angeles:20240201T180000
DTEND;TZID=America/Los_Angeles:20240201T200000
DTSTAMP:20260423T154032
CREATED:20240130T230650Z
LAST-MODIFIED:20240130T230650Z
UID:10001744-1706810400-1706817600@glccenter.org
SUMMARY:Parent Project-Parenting Course with Teen Court
DESCRIPTION:Fortuna Teen Court will start hosting the Parent Project in January 2024\, if you’re interested in the program and would like to register for classes in January 2024 you can click the link below to get Registered and we hope to see you there!\n\n\nhttps://forms.gle/rP3RjUcYXqmnY6Vx5\n\n\nFor more information about the parent project feel free to reach out to The Fortuna Teen Court Coordinator Raven Majors at the email provided below\n\n\nfortunatc@bgcredwoods.org
URL:https://glccenter.org/event/parent-project-parenting-course-with-teen-court/2024-02-01/
LOCATION:Gene Lucas Community Center\, 3000 Newburg Rd Ste C\, Fortuna\, CA\, 95540-2599\, United States
ORGANIZER;CN="Boys & Girls Club of the Redwoods":MAILTO:fortunatc@bgcredwoods.org
END:VEVENT
BEGIN:VEVENT
DTSTART;TZID=America/Los_Angeles:20240125T180000
DTEND;TZID=America/Los_Angeles:20240125T200000
DTSTAMP:20260423T154032
CREATED:20240130T230650Z
LAST-MODIFIED:20240130T230650Z
UID:10001743-1706205600-1706212800@glccenter.org
SUMMARY:Parent Project-Parenting Course with Teen Court
DESCRIPTION:Fortuna Teen Court will start hosting the Parent Project in January 2024\, if you’re interested in the program and would like to register for classes in January 2024 you can click the link below to get Registered and we hope to see you there!\n\n\nhttps://forms.gle/rP3RjUcYXqmnY6Vx5\n\n\nFor more information about the parent project feel free to reach out to The Fortuna Teen Court Coordinator Raven Majors at the email provided below\n\n\nfortunatc@bgcredwoods.org
URL:https://glccenter.org/event/parent-project-parenting-course-with-teen-court/2024-01-25/
LOCATION:Gene Lucas Community Center\, 3000 Newburg Rd Ste C\, Fortuna\, CA\, 95540-2599\, United States
ORGANIZER;CN="Boys & Girls Club of the Redwoods":MAILTO:fortunatc@bgcredwoods.org
END:VEVENT
BEGIN:VEVENT
DTSTART;TZID=America/Los_Angeles:20240118T180000
DTEND;TZID=America/Los_Angeles:20240118T200000
DTSTAMP:20260423T154032
CREATED:20240130T230650Z
LAST-MODIFIED:20240130T230650Z
UID:10001742-1705600800-1705608000@glccenter.org
SUMMARY:Parent Project-Parenting Course with Teen Court
DESCRIPTION:Fortuna Teen Court will start hosting the Parent Project in January 2024\, if you’re interested in the program and would like to register for classes in January 2024 you can click the link below to get Registered and we hope to see you there!\n\n\nhttps://forms.gle/rP3RjUcYXqmnY6Vx5\n\n\nFor more information about the parent project feel free to reach out to The Fortuna Teen Court Coordinator Raven Majors at the email provided below\n\n\nfortunatc@bgcredwoods.org
URL:https://glccenter.org/event/parent-project-parenting-course-with-teen-court/2024-01-18/
LOCATION:Gene Lucas Community Center\, 3000 Newburg Rd Ste C\, Fortuna\, CA\, 95540-2599\, United States
ORGANIZER;CN="Boys & Girls Club of the Redwoods":MAILTO:fortunatc@bgcredwoods.org
END:VEVENT
END:VCALENDAR