BEGIN:VCALENDAR
VERSION:2.0
PRODID:-//Gene Lucas Community Center - ECPv6.15.20//NONSGML v1.0//EN
CALSCALE:GREGORIAN
METHOD:PUBLISH
X-ORIGINAL-URL:https://glccenter.org
X-WR-CALDESC:Events for Gene Lucas Community Center
REFRESH-INTERVAL;VALUE=DURATION:PT1H
X-Robots-Tag:noindex
X-PUBLISHED-TTL:PT1H
BEGIN:VTIMEZONE
TZID:America/Los_Angeles
BEGIN:DAYLIGHT
TZOFFSETFROM:-0800
TZOFFSETTO:-0700
TZNAME:PDT
DTSTART:20300310T100000
END:DAYLIGHT
BEGIN:STANDARD
TZOFFSETFROM:-0700
TZOFFSETTO:-0800
TZNAME:PST
DTSTART:20301103T090000
END:STANDARD
BEGIN:DAYLIGHT
TZOFFSETFROM:-0800
TZOFFSETTO:-0700
TZNAME:PDT
DTSTART:20310309T100000
END:DAYLIGHT
BEGIN:STANDARD
TZOFFSETFROM:-0700
TZOFFSETTO:-0800
TZNAME:PST
DTSTART:20311102T090000
END:STANDARD
BEGIN:DAYLIGHT
TZOFFSETFROM:-0800
TZOFFSETTO:-0700
TZNAME:PDT
DTSTART:20320314T100000
END:DAYLIGHT
BEGIN:STANDARD
TZOFFSETFROM:-0700
TZOFFSETTO:-0800
TZNAME:PST
DTSTART:20321107T090000
END:STANDARD
END:VTIMEZONE
BEGIN:VEVENT
DTSTART;TZID=America/Los_Angeles:20310201T100000
DTEND;TZID=America/Los_Angeles:20310201T120000
DTSTAMP:20260422T034043
CREATED:20260324T231918Z
LAST-MODIFIED:20260324T231918Z
UID:10006886-1927706400-1927713600@glccenter.org
SUMMARY:Book Club
DESCRIPTION:Come be part of the Lost Coast Book Club where great books spark great conversations and new friendships! \nOur biweekly saturday club is led by our wonderful volunteer Raven and is a welcoming space to connect\, share ideas\, and enjoy reading together. \nFind the group and stay updated here:https://www.facebook.com/groups/1408759587411534/ \nHave questions? Email Layla at layla@glccenter.org
URL:https://glccenter.org/event/book-club-2/2031-02-01/
LOCATION:Gene Lucas Community Center\, 3000 Newburg Rd Ste C\, Fortuna\, CA\, 95540-2599\, United States
ORGANIZER;CN="Gene Lucas Community Center":MAILTO:layla@glccenter.org
END:VEVENT
BEGIN:VEVENT
DTSTART;TZID=America/Los_Angeles:20310206T180000
DTEND;TZID=America/Los_Angeles:20310206T190000
DTSTAMP:20260422T034043
CREATED:20260325T172802Z
LAST-MODIFIED:20260325T172802Z
UID:10006954-1928167200-1928170800@glccenter.org
SUMMARY:Craft Night
DESCRIPTION:Come join us for a creative adventure! \nBring something you’ve been working on or jump into a project we’ve put together for the night. It’s a relaxed space to create and connect. \nFree to all. All ages welcome.Children under 16 must be accompanied by a parent or guardian. This is a calm\, creative environment\, so it may not be the best fit for high-energy kiddos. \nEach month features a new art project led by our wonderful volunteer\, Debbi Sholes. \nFirst Thursday of every month | 6:00PM – 7:00PM
URL:https://glccenter.org/event/open-art-night-2-2-2/2031-02-06/
LOCATION:Gene Lucas Community Center\, 3000 Newburg Rd Ste C\, Fortuna\, CA\, 95540-2599\, United States
ORGANIZER;CN="Gene Lucas Community Center":MAILTO:layla@glccenter.org
END:VEVENT
BEGIN:VEVENT
DTSTART;TZID=America/Los_Angeles:20310215T100000
DTEND;TZID=America/Los_Angeles:20310215T120000
DTSTAMP:20260422T034043
CREATED:20260324T231918Z
LAST-MODIFIED:20260324T231918Z
UID:10006893-1928916000-1928923200@glccenter.org
SUMMARY:Book Club
DESCRIPTION:Come be part of the Lost Coast Book Club where great books spark great conversations and new friendships! \nOur biweekly saturday club is led by our wonderful volunteer Raven and is a welcoming space to connect\, share ideas\, and enjoy reading together. \nFind the group and stay updated here:https://www.facebook.com/groups/1408759587411534/ \nHave questions? Email Layla at layla@glccenter.org
URL:https://glccenter.org/event/book-club-2/2031-02-15/
LOCATION:Gene Lucas Community Center\, 3000 Newburg Rd Ste C\, Fortuna\, CA\, 95540-2599\, United States
ORGANIZER;CN="Gene Lucas Community Center":MAILTO:layla@glccenter.org
END:VEVENT
BEGIN:VEVENT
DTSTART;TZID=America/Los_Angeles:20310301T100000
DTEND;TZID=America/Los_Angeles:20310301T120000
DTSTAMP:20260422T034043
CREATED:20260324T231918Z
LAST-MODIFIED:20260324T231918Z
UID:10006894-1930125600-1930132800@glccenter.org
SUMMARY:Book Club
DESCRIPTION:Come be part of the Lost Coast Book Club where great books spark great conversations and new friendships! \nOur biweekly saturday club is led by our wonderful volunteer Raven and is a welcoming space to connect\, share ideas\, and enjoy reading together. \nFind the group and stay updated here:https://www.facebook.com/groups/1408759587411534/ \nHave questions? Email Layla at layla@glccenter.org
URL:https://glccenter.org/event/book-club-2/2031-03-01/
LOCATION:Gene Lucas Community Center\, 3000 Newburg Rd Ste C\, Fortuna\, CA\, 95540-2599\, United States
ORGANIZER;CN="Gene Lucas Community Center":MAILTO:layla@glccenter.org
END:VEVENT
BEGIN:VEVENT
DTSTART;TZID=America/Los_Angeles:20310306T180000
DTEND;TZID=America/Los_Angeles:20310306T190000
DTSTAMP:20260422T034043
CREATED:20260325T172802Z
LAST-MODIFIED:20260325T172802Z
UID:10006955-1930586400-1930590000@glccenter.org
SUMMARY:Craft Night
DESCRIPTION:Come join us for a creative adventure! \nBring something you’ve been working on or jump into a project we’ve put together for the night. It’s a relaxed space to create and connect. \nFree to all. All ages welcome.Children under 16 must be accompanied by a parent or guardian. This is a calm\, creative environment\, so it may not be the best fit for high-energy kiddos. \nEach month features a new art project led by our wonderful volunteer\, Debbi Sholes. \nFirst Thursday of every month | 6:00PM – 7:00PM
URL:https://glccenter.org/event/open-art-night-2-2-2/2031-03-06/
LOCATION:Gene Lucas Community Center\, 3000 Newburg Rd Ste C\, Fortuna\, CA\, 95540-2599\, United States
ORGANIZER;CN="Gene Lucas Community Center":MAILTO:layla@glccenter.org
END:VEVENT
BEGIN:VEVENT
DTSTART;TZID=America/Los_Angeles:20310315T100000
DTEND;TZID=America/Los_Angeles:20310315T120000
DTSTAMP:20260422T034043
CREATED:20260324T231918Z
LAST-MODIFIED:20260324T231918Z
UID:10006895-1931335200-1931342400@glccenter.org
SUMMARY:Book Club
DESCRIPTION:Come be part of the Lost Coast Book Club where great books spark great conversations and new friendships! \nOur biweekly saturday club is led by our wonderful volunteer Raven and is a welcoming space to connect\, share ideas\, and enjoy reading together. \nFind the group and stay updated here:https://www.facebook.com/groups/1408759587411534/ \nHave questions? Email Layla at layla@glccenter.org
URL:https://glccenter.org/event/book-club-2/2031-03-15/
LOCATION:Gene Lucas Community Center\, 3000 Newburg Rd Ste C\, Fortuna\, CA\, 95540-2599\, United States
ORGANIZER;CN="Gene Lucas Community Center":MAILTO:layla@glccenter.org
END:VEVENT
END:VCALENDAR