BEGIN:VCALENDAR
VERSION:2.0
PRODID:-//Gene Lucas Community Center - ECPv6.15.20//NONSGML v1.0//EN
CALSCALE:GREGORIAN
METHOD:PUBLISH
X-ORIGINAL-URL:https://glccenter.org
X-WR-CALDESC:Events for Gene Lucas Community Center
REFRESH-INTERVAL;VALUE=DURATION:PT1H
X-Robots-Tag:noindex
X-PUBLISHED-TTL:PT1H
BEGIN:VTIMEZONE
TZID:UTC
BEGIN:STANDARD
TZOFFSETFROM:+0000
TZOFFSETTO:+0000
TZNAME:UTC
DTSTART:20300101T000000
END:STANDARD
END:VTIMEZONE
BEGIN:VTIMEZONE
TZID:America/Los_Angeles
BEGIN:DAYLIGHT
TZOFFSETFROM:-0800
TZOFFSETTO:-0700
TZNAME:PDT
DTSTART:20300310T100000
END:DAYLIGHT
BEGIN:STANDARD
TZOFFSETFROM:-0700
TZOFFSETTO:-0800
TZNAME:PST
DTSTART:20301103T090000
END:STANDARD
BEGIN:DAYLIGHT
TZOFFSETFROM:-0800
TZOFFSETTO:-0700
TZNAME:PDT
DTSTART:20310309T100000
END:DAYLIGHT
BEGIN:STANDARD
TZOFFSETFROM:-0700
TZOFFSETTO:-0800
TZNAME:PST
DTSTART:20311102T090000
END:STANDARD
BEGIN:DAYLIGHT
TZOFFSETFROM:-0800
TZOFFSETTO:-0700
TZNAME:PDT
DTSTART:20320314T100000
END:DAYLIGHT
BEGIN:STANDARD
TZOFFSETFROM:-0700
TZOFFSETTO:-0800
TZNAME:PST
DTSTART:20321107T090000
END:STANDARD
END:VTIMEZONE
BEGIN:VEVENT
DTSTART;TZID=UTC:20310114T093000
DTEND;TZID=UTC:20310114T113000
DTSTAMP:20260423T025313
CREATED:20240904T173541Z
LAST-MODIFIED:20250826T215112Z
UID:10006744-1926149400-1926156600@glccenter.org
SUMMARY:GLC Playgroup for Children 0-5
DESCRIPTION:Free playgroup for children 0-5 and their caregivers every Monday\, Tuesday & Wednesday 9:30am-11:30am. No sign up required. \n 
URL:https://glccenter.org/event/first-5-playgroup-for-children-0-5-32-10/2031-01-14/
LOCATION:Gene Lucas Community Center\, 3000 Newburg Rd Ste C\, Fortuna\, CA\, 95540-2599\, United States
ORGANIZER;CN="Fortuna First 5":MAILTO:layla@glccenter.org
END:VEVENT
BEGIN:VEVENT
DTSTART;TZID=UTC:20310115T093000
DTEND;TZID=UTC:20310115T113000
DTSTAMP:20260423T025313
CREATED:20240904T173541Z
LAST-MODIFIED:20250826T215112Z
UID:10006745-1926235800-1926243000@glccenter.org
SUMMARY:GLC Playgroup for Children 0-5
DESCRIPTION:Free playgroup for children 0-5 and their caregivers every Monday\, Tuesday & Wednesday 9:30am-11:30am. No sign up required. \n 
URL:https://glccenter.org/event/first-5-playgroup-for-children-0-5-32-10/2031-01-15/
LOCATION:Gene Lucas Community Center\, 3000 Newburg Rd Ste C\, Fortuna\, CA\, 95540-2599\, United States
ORGANIZER;CN="Fortuna First 5":MAILTO:layla@glccenter.org
END:VEVENT
BEGIN:VEVENT
DTSTART;TZID=America/Los_Angeles:20310118T100000
DTEND;TZID=America/Los_Angeles:20310118T120000
DTSTAMP:20260423T025313
CREATED:20260324T231918Z
LAST-MODIFIED:20260324T231918Z
UID:10006885-1926496800-1926504000@glccenter.org
SUMMARY:Book Club
DESCRIPTION:Come be part of the Lost Coast Book Club where great books spark great conversations and new friendships! \nOur biweekly saturday club is led by our wonderful volunteer Raven and is a welcoming space to connect\, share ideas\, and enjoy reading together. \nFind the group and stay updated here:https://www.facebook.com/groups/1408759587411534/ \nHave questions? Email Layla at layla@glccenter.org
URL:https://glccenter.org/event/book-club-2/2031-01-18/
LOCATION:Gene Lucas Community Center\, 3000 Newburg Rd Ste C\, Fortuna\, CA\, 95540-2599\, United States
ORGANIZER;CN="Gene Lucas Community Center":MAILTO:layla@glccenter.org
END:VEVENT
BEGIN:VEVENT
DTSTART;TZID=UTC:20310120T093000
DTEND;TZID=UTC:20310120T113000
DTSTAMP:20260423T025313
CREATED:20240904T173541Z
LAST-MODIFIED:20250826T215112Z
UID:10006746-1926667800-1926675000@glccenter.org
SUMMARY:GLC Playgroup for Children 0-5
DESCRIPTION:Free playgroup for children 0-5 and their caregivers every Monday\, Tuesday & Wednesday 9:30am-11:30am. No sign up required. \n 
URL:https://glccenter.org/event/first-5-playgroup-for-children-0-5-32-10/2031-01-20/
LOCATION:Gene Lucas Community Center\, 3000 Newburg Rd Ste C\, Fortuna\, CA\, 95540-2599\, United States
ORGANIZER;CN="Fortuna First 5":MAILTO:layla@glccenter.org
END:VEVENT
BEGIN:VEVENT
DTSTART;TZID=America/Los_Angeles:20310120T183000
DTEND;TZID=America/Los_Angeles:20310120T193000
DTSTAMP:20260423T025313
CREATED:20260128T195943Z
LAST-MODIFIED:20260128T195944Z
UID:10006742-1926700200-1926703800@glccenter.org
SUMMARY:Baile Terapia Dance Class
DESCRIPTION:Join us at the GLC for a FREE Baile Terapia class every Monday @ 6:30PM. \nCome and enjoy different Latin rhythms while we have fun\, exercise\, and take care of our physical and mental health. All ages\, shapes\, and sizes welcome! \nEnglish and Spanish speakers are welcome! \nPut on by instructors Jorge and Haydee. \nTo attend\, just show up. \n 
URL:https://glccenter.org/event/yoga-2/2031-01-20/
LOCATION:Gene Lucas Community Center\, 3000 Newburg Rd Ste C\, Fortuna\, CA\, 95540-2599\, United States
END:VEVENT
BEGIN:VEVENT
DTSTART;TZID=UTC:20310121T093000
DTEND;TZID=UTC:20310121T113000
DTSTAMP:20260423T025313
CREATED:20240904T173541Z
LAST-MODIFIED:20250826T215112Z
UID:10006747-1926754200-1926761400@glccenter.org
SUMMARY:GLC Playgroup for Children 0-5
DESCRIPTION:Free playgroup for children 0-5 and their caregivers every Monday\, Tuesday & Wednesday 9:30am-11:30am. No sign up required. \n 
URL:https://glccenter.org/event/first-5-playgroup-for-children-0-5-32-10/2031-01-21/
LOCATION:Gene Lucas Community Center\, 3000 Newburg Rd Ste C\, Fortuna\, CA\, 95540-2599\, United States
ORGANIZER;CN="Fortuna First 5":MAILTO:layla@glccenter.org
END:VEVENT
BEGIN:VEVENT
DTSTART;TZID=UTC:20310122T093000
DTEND;TZID=UTC:20310122T113000
DTSTAMP:20260423T025313
CREATED:20240904T173541Z
LAST-MODIFIED:20250826T215112Z
UID:10006748-1926840600-1926847800@glccenter.org
SUMMARY:GLC Playgroup for Children 0-5
DESCRIPTION:Free playgroup for children 0-5 and their caregivers every Monday\, Tuesday & Wednesday 9:30am-11:30am. No sign up required. \n 
URL:https://glccenter.org/event/first-5-playgroup-for-children-0-5-32-10/2031-01-22/
LOCATION:Gene Lucas Community Center\, 3000 Newburg Rd Ste C\, Fortuna\, CA\, 95540-2599\, United States
ORGANIZER;CN="Fortuna First 5":MAILTO:layla@glccenter.org
END:VEVENT
BEGIN:VEVENT
DTSTART;TZID=UTC:20310127T093000
DTEND;TZID=UTC:20310127T113000
DTSTAMP:20260423T025313
CREATED:20240904T173541Z
LAST-MODIFIED:20250826T215112Z
UID:10006749-1927272600-1927279800@glccenter.org
SUMMARY:GLC Playgroup for Children 0-5
DESCRIPTION:Free playgroup for children 0-5 and their caregivers every Monday\, Tuesday & Wednesday 9:30am-11:30am. No sign up required. \n 
URL:https://glccenter.org/event/first-5-playgroup-for-children-0-5-32-10/2031-01-27/
LOCATION:Gene Lucas Community Center\, 3000 Newburg Rd Ste C\, Fortuna\, CA\, 95540-2599\, United States
ORGANIZER;CN="Fortuna First 5":MAILTO:layla@glccenter.org
END:VEVENT
BEGIN:VEVENT
DTSTART;TZID=America/Los_Angeles:20310127T183000
DTEND;TZID=America/Los_Angeles:20310127T193000
DTSTAMP:20260423T025313
CREATED:20260128T195943Z
LAST-MODIFIED:20260128T195944Z
UID:10006743-1927305000-1927308600@glccenter.org
SUMMARY:Baile Terapia Dance Class
DESCRIPTION:Join us at the GLC for a FREE Baile Terapia class every Monday @ 6:30PM. \nCome and enjoy different Latin rhythms while we have fun\, exercise\, and take care of our physical and mental health. All ages\, shapes\, and sizes welcome! \nEnglish and Spanish speakers are welcome! \nPut on by instructors Jorge and Haydee. \nTo attend\, just show up. \n 
URL:https://glccenter.org/event/yoga-2/2031-01-27/
LOCATION:Gene Lucas Community Center\, 3000 Newburg Rd Ste C\, Fortuna\, CA\, 95540-2599\, United States
END:VEVENT
BEGIN:VEVENT
DTSTART;TZID=UTC:20310128T093000
DTEND;TZID=UTC:20310128T113000
DTSTAMP:20260423T025313
CREATED:20240904T173541Z
LAST-MODIFIED:20250826T215112Z
UID:10006750-1927359000-1927366200@glccenter.org
SUMMARY:GLC Playgroup for Children 0-5
DESCRIPTION:Free playgroup for children 0-5 and their caregivers every Monday\, Tuesday & Wednesday 9:30am-11:30am. No sign up required. \n 
URL:https://glccenter.org/event/first-5-playgroup-for-children-0-5-32-10/2031-01-28/
LOCATION:Gene Lucas Community Center\, 3000 Newburg Rd Ste C\, Fortuna\, CA\, 95540-2599\, United States
ORGANIZER;CN="Fortuna First 5":MAILTO:layla@glccenter.org
END:VEVENT
BEGIN:VEVENT
DTSTART;TZID=America/Los_Angeles:20310201T100000
DTEND;TZID=America/Los_Angeles:20310201T120000
DTSTAMP:20260423T025313
CREATED:20260324T231918Z
LAST-MODIFIED:20260324T231918Z
UID:10006886-1927706400-1927713600@glccenter.org
SUMMARY:Book Club
DESCRIPTION:Come be part of the Lost Coast Book Club where great books spark great conversations and new friendships! \nOur biweekly saturday club is led by our wonderful volunteer Raven and is a welcoming space to connect\, share ideas\, and enjoy reading together. \nFind the group and stay updated here:https://www.facebook.com/groups/1408759587411534/ \nHave questions? Email Layla at layla@glccenter.org
URL:https://glccenter.org/event/book-club-2/2031-02-01/
LOCATION:Gene Lucas Community Center\, 3000 Newburg Rd Ste C\, Fortuna\, CA\, 95540-2599\, United States
ORGANIZER;CN="Gene Lucas Community Center":MAILTO:layla@glccenter.org
END:VEVENT
BEGIN:VEVENT
DTSTART;TZID=America/Los_Angeles:20310206T180000
DTEND;TZID=America/Los_Angeles:20310206T190000
DTSTAMP:20260423T025313
CREATED:20260325T172802Z
LAST-MODIFIED:20260325T172802Z
UID:10006954-1928167200-1928170800@glccenter.org
SUMMARY:Craft Night
DESCRIPTION:Come join us for a creative adventure! \nBring something you’ve been working on or jump into a project we’ve put together for the night. It’s a relaxed space to create and connect. \nFree to all. All ages welcome.Children under 16 must be accompanied by a parent or guardian. This is a calm\, creative environment\, so it may not be the best fit for high-energy kiddos. \nEach month features a new art project led by our wonderful volunteer\, Debbi Sholes. \nFirst Thursday of every month | 6:00PM – 7:00PM
URL:https://glccenter.org/event/open-art-night-2-2-2/2031-02-06/
LOCATION:Gene Lucas Community Center\, 3000 Newburg Rd Ste C\, Fortuna\, CA\, 95540-2599\, United States
ORGANIZER;CN="Gene Lucas Community Center":MAILTO:layla@glccenter.org
END:VEVENT
BEGIN:VEVENT
DTSTART;TZID=America/Los_Angeles:20310215T100000
DTEND;TZID=America/Los_Angeles:20310215T120000
DTSTAMP:20260423T025313
CREATED:20260324T231918Z
LAST-MODIFIED:20260324T231918Z
UID:10006893-1928916000-1928923200@glccenter.org
SUMMARY:Book Club
DESCRIPTION:Come be part of the Lost Coast Book Club where great books spark great conversations and new friendships! \nOur biweekly saturday club is led by our wonderful volunteer Raven and is a welcoming space to connect\, share ideas\, and enjoy reading together. \nFind the group and stay updated here:https://www.facebook.com/groups/1408759587411534/ \nHave questions? Email Layla at layla@glccenter.org
URL:https://glccenter.org/event/book-club-2/2031-02-15/
LOCATION:Gene Lucas Community Center\, 3000 Newburg Rd Ste C\, Fortuna\, CA\, 95540-2599\, United States
ORGANIZER;CN="Gene Lucas Community Center":MAILTO:layla@glccenter.org
END:VEVENT
BEGIN:VEVENT
DTSTART;TZID=America/Los_Angeles:20310301T100000
DTEND;TZID=America/Los_Angeles:20310301T120000
DTSTAMP:20260423T025313
CREATED:20260324T231918Z
LAST-MODIFIED:20260324T231918Z
UID:10006894-1930125600-1930132800@glccenter.org
SUMMARY:Book Club
DESCRIPTION:Come be part of the Lost Coast Book Club where great books spark great conversations and new friendships! \nOur biweekly saturday club is led by our wonderful volunteer Raven and is a welcoming space to connect\, share ideas\, and enjoy reading together. \nFind the group and stay updated here:https://www.facebook.com/groups/1408759587411534/ \nHave questions? Email Layla at layla@glccenter.org
URL:https://glccenter.org/event/book-club-2/2031-03-01/
LOCATION:Gene Lucas Community Center\, 3000 Newburg Rd Ste C\, Fortuna\, CA\, 95540-2599\, United States
ORGANIZER;CN="Gene Lucas Community Center":MAILTO:layla@glccenter.org
END:VEVENT
BEGIN:VEVENT
DTSTART;TZID=America/Los_Angeles:20310306T180000
DTEND;TZID=America/Los_Angeles:20310306T190000
DTSTAMP:20260423T025313
CREATED:20260325T172802Z
LAST-MODIFIED:20260325T172802Z
UID:10006955-1930586400-1930590000@glccenter.org
SUMMARY:Craft Night
DESCRIPTION:Come join us for a creative adventure! \nBring something you’ve been working on or jump into a project we’ve put together for the night. It’s a relaxed space to create and connect. \nFree to all. All ages welcome.Children under 16 must be accompanied by a parent or guardian. This is a calm\, creative environment\, so it may not be the best fit for high-energy kiddos. \nEach month features a new art project led by our wonderful volunteer\, Debbi Sholes. \nFirst Thursday of every month | 6:00PM – 7:00PM
URL:https://glccenter.org/event/open-art-night-2-2-2/2031-03-06/
LOCATION:Gene Lucas Community Center\, 3000 Newburg Rd Ste C\, Fortuna\, CA\, 95540-2599\, United States
ORGANIZER;CN="Gene Lucas Community Center":MAILTO:layla@glccenter.org
END:VEVENT
BEGIN:VEVENT
DTSTART;TZID=America/Los_Angeles:20310315T100000
DTEND;TZID=America/Los_Angeles:20310315T120000
DTSTAMP:20260423T025313
CREATED:20260324T231918Z
LAST-MODIFIED:20260324T231918Z
UID:10006895-1931335200-1931342400@glccenter.org
SUMMARY:Book Club
DESCRIPTION:Come be part of the Lost Coast Book Club where great books spark great conversations and new friendships! \nOur biweekly saturday club is led by our wonderful volunteer Raven and is a welcoming space to connect\, share ideas\, and enjoy reading together. \nFind the group and stay updated here:https://www.facebook.com/groups/1408759587411534/ \nHave questions? Email Layla at layla@glccenter.org
URL:https://glccenter.org/event/book-club-2/2031-03-15/
LOCATION:Gene Lucas Community Center\, 3000 Newburg Rd Ste C\, Fortuna\, CA\, 95540-2599\, United States
ORGANIZER;CN="Gene Lucas Community Center":MAILTO:layla@glccenter.org
END:VEVENT
END:VCALENDAR