BEGIN:VCALENDAR
VERSION:2.0
PRODID:-//Gene Lucas Community Center - ECPv6.15.20//NONSGML v1.0//EN
CALSCALE:GREGORIAN
METHOD:PUBLISH
X-WR-CALNAME:Gene Lucas Community Center
X-ORIGINAL-URL:https://glccenter.org
X-WR-CALDESC:Events for Gene Lucas Community Center
REFRESH-INTERVAL;VALUE=DURATION:PT1H
X-Robots-Tag:noindex
X-PUBLISHED-TTL:PT1H
BEGIN:VTIMEZONE
TZID:America/Los_Angeles
BEGIN:DAYLIGHT
TZOFFSETFROM:-0800
TZOFFSETTO:-0700
TZNAME:PDT
DTSTART:20290311T100000
END:DAYLIGHT
BEGIN:STANDARD
TZOFFSETFROM:-0700
TZOFFSETTO:-0800
TZNAME:PST
DTSTART:20291104T090000
END:STANDARD
BEGIN:DAYLIGHT
TZOFFSETFROM:-0800
TZOFFSETTO:-0700
TZNAME:PDT
DTSTART:20300310T100000
END:DAYLIGHT
BEGIN:STANDARD
TZOFFSETFROM:-0700
TZOFFSETTO:-0800
TZNAME:PST
DTSTART:20301103T090000
END:STANDARD
BEGIN:DAYLIGHT
TZOFFSETFROM:-0800
TZOFFSETTO:-0700
TZNAME:PDT
DTSTART:20310309T100000
END:DAYLIGHT
BEGIN:STANDARD
TZOFFSETFROM:-0700
TZOFFSETTO:-0800
TZNAME:PST
DTSTART:20311102T090000
END:STANDARD
END:VTIMEZONE
BEGIN:VTIMEZONE
TZID:UTC
BEGIN:STANDARD
TZOFFSETFROM:+0000
TZOFFSETTO:+0000
TZNAME:UTC
DTSTART:20290101T000000
END:STANDARD
END:VTIMEZONE
BEGIN:VEVENT
DTSTART;TZID=America/Los_Angeles:20301111T183000
DTEND;TZID=America/Los_Angeles:20301111T193000
DTSTAMP:20260420T210213
CREATED:20260128T195943Z
LAST-MODIFIED:20260128T195944Z
UID:10006732-1920652200-1920655800@glccenter.org
SUMMARY:Baile Terapia Dance Class
DESCRIPTION:Join us at the GLC for a FREE Baile Terapia class every Monday @ 6:30PM. \nCome and enjoy different Latin rhythms while we have fun\, exercise\, and take care of our physical and mental health. All ages\, shapes\, and sizes welcome! \nEnglish and Spanish speakers are welcome! \nPut on by instructors Jorge and Haydee. \nTo attend\, just show up. \n 
URL:https://glccenter.org/event/yoga-2/2030-11-11/
LOCATION:Gene Lucas Community Center\, 3000 Newburg Rd Ste C\, Fortuna\, CA\, 95540-2599\, United States
END:VEVENT
BEGIN:VEVENT
DTSTART;TZID=UTC:20301112T093000
DTEND;TZID=UTC:20301112T113000
DTSTAMP:20260420T210213
CREATED:20240904T173541Z
LAST-MODIFIED:20250826T215112Z
UID:10006650-1920706200-1920713400@glccenter.org
SUMMARY:GLC Playgroup for Children 0-5
DESCRIPTION:Free playgroup for children 0-5 and their caregivers every Monday\, Tuesday & Wednesday 9:30am-11:30am. No sign up required. \n 
URL:https://glccenter.org/event/first-5-playgroup-for-children-0-5-32-10/2030-11-12/
LOCATION:Gene Lucas Community Center\, 3000 Newburg Rd Ste C\, Fortuna\, CA\, 95540-2599\, United States
ORGANIZER;CN="Fortuna First 5":MAILTO:layla@glccenter.org
END:VEVENT
BEGIN:VEVENT
DTSTART;TZID=UTC:20301113T093000
DTEND;TZID=UTC:20301113T113000
DTSTAMP:20260420T210213
CREATED:20240904T173541Z
LAST-MODIFIED:20250826T215112Z
UID:10006651-1920792600-1920799800@glccenter.org
SUMMARY:GLC Playgroup for Children 0-5
DESCRIPTION:Free playgroup for children 0-5 and their caregivers every Monday\, Tuesday & Wednesday 9:30am-11:30am. No sign up required. \n 
URL:https://glccenter.org/event/first-5-playgroup-for-children-0-5-32-10/2030-11-13/
LOCATION:Gene Lucas Community Center\, 3000 Newburg Rd Ste C\, Fortuna\, CA\, 95540-2599\, United States
ORGANIZER;CN="Fortuna First 5":MAILTO:layla@glccenter.org
END:VEVENT
BEGIN:VEVENT
DTSTART;TZID=America/Los_Angeles:20301113T100000
DTEND;TZID=America/Los_Angeles:20301113T110000
DTSTAMP:20260420T210213
CREATED:20260105T212339Z
LAST-MODIFIED:20260105T212339Z
UID:10006485-1920794400-1920798000@glccenter.org
SUMMARY:Aerobics Class for Adults
DESCRIPTION:Aerobics Class for Adults- Motion\, Balance and Strength \nTaught by certified volunteer instructor Harolyn Grace \nEvery Wednesday at the Gene Lucas Community Center from 10am-11am
URL:https://glccenter.org/event/aerobics-class-for-adults/2030-11-13/
LOCATION:Gene Lucas Community Center\, 3000 Newburg Rd Ste C\, Fortuna\, CA\, 95540-2599\, United States
END:VEVENT
BEGIN:VEVENT
DTSTART;TZID=UTC:20301118T093000
DTEND;TZID=UTC:20301118T113000
DTSTAMP:20260420T210213
CREATED:20240904T173541Z
LAST-MODIFIED:20250826T215112Z
UID:10006652-1921224600-1921231800@glccenter.org
SUMMARY:GLC Playgroup for Children 0-5
DESCRIPTION:Free playgroup for children 0-5 and their caregivers every Monday\, Tuesday & Wednesday 9:30am-11:30am. No sign up required. \n 
URL:https://glccenter.org/event/first-5-playgroup-for-children-0-5-32-10/2030-11-18/
LOCATION:Gene Lucas Community Center\, 3000 Newburg Rd Ste C\, Fortuna\, CA\, 95540-2599\, United States
ORGANIZER;CN="Fortuna First 5":MAILTO:layla@glccenter.org
END:VEVENT
BEGIN:VEVENT
DTSTART;TZID=America/Los_Angeles:20301118T183000
DTEND;TZID=America/Los_Angeles:20301118T193000
DTSTAMP:20260420T210213
CREATED:20260128T195943Z
LAST-MODIFIED:20260128T195944Z
UID:10006733-1921257000-1921260600@glccenter.org
SUMMARY:Baile Terapia Dance Class
DESCRIPTION:Join us at the GLC for a FREE Baile Terapia class every Monday @ 6:30PM. \nCome and enjoy different Latin rhythms while we have fun\, exercise\, and take care of our physical and mental health. All ages\, shapes\, and sizes welcome! \nEnglish and Spanish speakers are welcome! \nPut on by instructors Jorge and Haydee. \nTo attend\, just show up. \n 
URL:https://glccenter.org/event/yoga-2/2030-11-18/
LOCATION:Gene Lucas Community Center\, 3000 Newburg Rd Ste C\, Fortuna\, CA\, 95540-2599\, United States
END:VEVENT
BEGIN:VEVENT
DTSTART;TZID=UTC:20301119T093000
DTEND;TZID=UTC:20301119T113000
DTSTAMP:20260420T210213
CREATED:20240904T173541Z
LAST-MODIFIED:20250826T215112Z
UID:10006653-1921311000-1921318200@glccenter.org
SUMMARY:GLC Playgroup for Children 0-5
DESCRIPTION:Free playgroup for children 0-5 and their caregivers every Monday\, Tuesday & Wednesday 9:30am-11:30am. No sign up required. \n 
URL:https://glccenter.org/event/first-5-playgroup-for-children-0-5-32-10/2030-11-19/
LOCATION:Gene Lucas Community Center\, 3000 Newburg Rd Ste C\, Fortuna\, CA\, 95540-2599\, United States
ORGANIZER;CN="Fortuna First 5":MAILTO:layla@glccenter.org
END:VEVENT
BEGIN:VEVENT
DTSTART;TZID=UTC:20301120T093000
DTEND;TZID=UTC:20301120T113000
DTSTAMP:20260420T210213
CREATED:20240904T173541Z
LAST-MODIFIED:20250826T215112Z
UID:10006654-1921397400-1921404600@glccenter.org
SUMMARY:GLC Playgroup for Children 0-5
DESCRIPTION:Free playgroup for children 0-5 and their caregivers every Monday\, Tuesday & Wednesday 9:30am-11:30am. No sign up required. \n 
URL:https://glccenter.org/event/first-5-playgroup-for-children-0-5-32-10/2030-11-20/
LOCATION:Gene Lucas Community Center\, 3000 Newburg Rd Ste C\, Fortuna\, CA\, 95540-2599\, United States
ORGANIZER;CN="Fortuna First 5":MAILTO:layla@glccenter.org
END:VEVENT
BEGIN:VEVENT
DTSTART;TZID=America/Los_Angeles:20301120T100000
DTEND;TZID=America/Los_Angeles:20301120T110000
DTSTAMP:20260420T210213
CREATED:20260105T212339Z
LAST-MODIFIED:20260105T212339Z
UID:10006486-1921399200-1921402800@glccenter.org
SUMMARY:Aerobics Class for Adults
DESCRIPTION:Aerobics Class for Adults- Motion\, Balance and Strength \nTaught by certified volunteer instructor Harolyn Grace \nEvery Wednesday at the Gene Lucas Community Center from 10am-11am
URL:https://glccenter.org/event/aerobics-class-for-adults/2030-11-20/
LOCATION:Gene Lucas Community Center\, 3000 Newburg Rd Ste C\, Fortuna\, CA\, 95540-2599\, United States
END:VEVENT
BEGIN:VEVENT
DTSTART;TZID=America/Los_Angeles:20301123T100000
DTEND;TZID=America/Los_Angeles:20301123T120000
DTSTAMP:20260420T210213
CREATED:20260324T231918Z
LAST-MODIFIED:20260324T231918Z
UID:10006881-1921658400-1921665600@glccenter.org
SUMMARY:Book Club
DESCRIPTION:Come be part of the Lost Coast Book Club where great books spark great conversations and new friendships! \nOur biweekly saturday club is led by our wonderful volunteer Raven and is a welcoming space to connect\, share ideas\, and enjoy reading together. \nFind the group and stay updated here:https://www.facebook.com/groups/1408759587411534/ \nHave questions? Email Layla at layla@glccenter.org
URL:https://glccenter.org/event/book-club-2/2030-11-23/
LOCATION:Gene Lucas Community Center\, 3000 Newburg Rd Ste C\, Fortuna\, CA\, 95540-2599\, United States
ORGANIZER;CN="Gene Lucas Community Center":MAILTO:layla@glccenter.org
END:VEVENT
BEGIN:VEVENT
DTSTART;TZID=UTC:20301125T093000
DTEND;TZID=UTC:20301125T113000
DTSTAMP:20260420T210213
CREATED:20240904T173541Z
LAST-MODIFIED:20250826T215112Z
UID:10006655-1921829400-1921836600@glccenter.org
SUMMARY:GLC Playgroup for Children 0-5
DESCRIPTION:Free playgroup for children 0-5 and their caregivers every Monday\, Tuesday & Wednesday 9:30am-11:30am. No sign up required. \n 
URL:https://glccenter.org/event/first-5-playgroup-for-children-0-5-32-10/2030-11-25/
LOCATION:Gene Lucas Community Center\, 3000 Newburg Rd Ste C\, Fortuna\, CA\, 95540-2599\, United States
ORGANIZER;CN="Fortuna First 5":MAILTO:layla@glccenter.org
END:VEVENT
BEGIN:VEVENT
DTSTART;TZID=America/Los_Angeles:20301125T183000
DTEND;TZID=America/Los_Angeles:20301125T193000
DTSTAMP:20260420T210213
CREATED:20260128T195943Z
LAST-MODIFIED:20260128T195944Z
UID:10006734-1921861800-1921865400@glccenter.org
SUMMARY:Baile Terapia Dance Class
DESCRIPTION:Join us at the GLC for a FREE Baile Terapia class every Monday @ 6:30PM. \nCome and enjoy different Latin rhythms while we have fun\, exercise\, and take care of our physical and mental health. All ages\, shapes\, and sizes welcome! \nEnglish and Spanish speakers are welcome! \nPut on by instructors Jorge and Haydee. \nTo attend\, just show up. \n 
URL:https://glccenter.org/event/yoga-2/2030-11-25/
LOCATION:Gene Lucas Community Center\, 3000 Newburg Rd Ste C\, Fortuna\, CA\, 95540-2599\, United States
END:VEVENT
BEGIN:VEVENT
DTSTART;TZID=UTC:20301126T093000
DTEND;TZID=UTC:20301126T113000
DTSTAMP:20260420T210213
CREATED:20240904T173541Z
LAST-MODIFIED:20250826T215112Z
UID:10006656-1921915800-1921923000@glccenter.org
SUMMARY:GLC Playgroup for Children 0-5
DESCRIPTION:Free playgroup for children 0-5 and their caregivers every Monday\, Tuesday & Wednesday 9:30am-11:30am. No sign up required. \n 
URL:https://glccenter.org/event/first-5-playgroup-for-children-0-5-32-10/2030-11-26/
LOCATION:Gene Lucas Community Center\, 3000 Newburg Rd Ste C\, Fortuna\, CA\, 95540-2599\, United States
ORGANIZER;CN="Fortuna First 5":MAILTO:layla@glccenter.org
END:VEVENT
BEGIN:VEVENT
DTSTART;TZID=UTC:20301127T093000
DTEND;TZID=UTC:20301127T113000
DTSTAMP:20260420T210213
CREATED:20240904T173541Z
LAST-MODIFIED:20250826T215112Z
UID:10006657-1922002200-1922009400@glccenter.org
SUMMARY:GLC Playgroup for Children 0-5
DESCRIPTION:Free playgroup for children 0-5 and their caregivers every Monday\, Tuesday & Wednesday 9:30am-11:30am. No sign up required. \n 
URL:https://glccenter.org/event/first-5-playgroup-for-children-0-5-32-10/2030-11-27/
LOCATION:Gene Lucas Community Center\, 3000 Newburg Rd Ste C\, Fortuna\, CA\, 95540-2599\, United States
ORGANIZER;CN="Fortuna First 5":MAILTO:layla@glccenter.org
END:VEVENT
BEGIN:VEVENT
DTSTART;TZID=America/Los_Angeles:20301127T100000
DTEND;TZID=America/Los_Angeles:20301127T110000
DTSTAMP:20260420T210213
CREATED:20260105T212339Z
LAST-MODIFIED:20260105T212339Z
UID:10006487-1922004000-1922007600@glccenter.org
SUMMARY:Aerobics Class for Adults
DESCRIPTION:Aerobics Class for Adults- Motion\, Balance and Strength \nTaught by certified volunteer instructor Harolyn Grace \nEvery Wednesday at the Gene Lucas Community Center from 10am-11am
URL:https://glccenter.org/event/aerobics-class-for-adults/2030-11-27/
LOCATION:Gene Lucas Community Center\, 3000 Newburg Rd Ste C\, Fortuna\, CA\, 95540-2599\, United States
END:VEVENT
BEGIN:VEVENT
DTSTART;TZID=UTC:20301202T093000
DTEND;TZID=UTC:20301202T113000
DTSTAMP:20260420T210213
CREATED:20240904T173541Z
LAST-MODIFIED:20250826T215112Z
UID:10006658-1922434200-1922441400@glccenter.org
SUMMARY:GLC Playgroup for Children 0-5
DESCRIPTION:Free playgroup for children 0-5 and their caregivers every Monday\, Tuesday & Wednesday 9:30am-11:30am. No sign up required. \n 
URL:https://glccenter.org/event/first-5-playgroup-for-children-0-5-32-10/2030-12-02/
LOCATION:Gene Lucas Community Center\, 3000 Newburg Rd Ste C\, Fortuna\, CA\, 95540-2599\, United States
ORGANIZER;CN="Fortuna First 5":MAILTO:layla@glccenter.org
END:VEVENT
BEGIN:VEVENT
DTSTART;TZID=America/Los_Angeles:20301202T183000
DTEND;TZID=America/Los_Angeles:20301202T193000
DTSTAMP:20260420T210213
CREATED:20260128T195943Z
LAST-MODIFIED:20260128T195944Z
UID:10006735-1922466600-1922470200@glccenter.org
SUMMARY:Baile Terapia Dance Class
DESCRIPTION:Join us at the GLC for a FREE Baile Terapia class every Monday @ 6:30PM. \nCome and enjoy different Latin rhythms while we have fun\, exercise\, and take care of our physical and mental health. All ages\, shapes\, and sizes welcome! \nEnglish and Spanish speakers are welcome! \nPut on by instructors Jorge and Haydee. \nTo attend\, just show up. \n 
URL:https://glccenter.org/event/yoga-2/2030-12-02/
LOCATION:Gene Lucas Community Center\, 3000 Newburg Rd Ste C\, Fortuna\, CA\, 95540-2599\, United States
END:VEVENT
BEGIN:VEVENT
DTSTART;TZID=UTC:20301203T093000
DTEND;TZID=UTC:20301203T113000
DTSTAMP:20260420T210213
CREATED:20240904T173541Z
LAST-MODIFIED:20250826T215112Z
UID:10006659-1922520600-1922527800@glccenter.org
SUMMARY:GLC Playgroup for Children 0-5
DESCRIPTION:Free playgroup for children 0-5 and their caregivers every Monday\, Tuesday & Wednesday 9:30am-11:30am. No sign up required. \n 
URL:https://glccenter.org/event/first-5-playgroup-for-children-0-5-32-10/2030-12-03/
LOCATION:Gene Lucas Community Center\, 3000 Newburg Rd Ste C\, Fortuna\, CA\, 95540-2599\, United States
ORGANIZER;CN="Fortuna First 5":MAILTO:layla@glccenter.org
END:VEVENT
BEGIN:VEVENT
DTSTART;TZID=UTC:20301204T093000
DTEND;TZID=UTC:20301204T113000
DTSTAMP:20260420T210213
CREATED:20240904T173541Z
LAST-MODIFIED:20250826T215112Z
UID:10006660-1922607000-1922614200@glccenter.org
SUMMARY:GLC Playgroup for Children 0-5
DESCRIPTION:Free playgroup for children 0-5 and their caregivers every Monday\, Tuesday & Wednesday 9:30am-11:30am. No sign up required. \n 
URL:https://glccenter.org/event/first-5-playgroup-for-children-0-5-32-10/2030-12-04/
LOCATION:Gene Lucas Community Center\, 3000 Newburg Rd Ste C\, Fortuna\, CA\, 95540-2599\, United States
ORGANIZER;CN="Fortuna First 5":MAILTO:layla@glccenter.org
END:VEVENT
BEGIN:VEVENT
DTSTART;TZID=America/Los_Angeles:20301204T100000
DTEND;TZID=America/Los_Angeles:20301204T110000
DTSTAMP:20260420T210213
CREATED:20260105T212339Z
LAST-MODIFIED:20260105T212339Z
UID:10006488-1922608800-1922612400@glccenter.org
SUMMARY:Aerobics Class for Adults
DESCRIPTION:Aerobics Class for Adults- Motion\, Balance and Strength \nTaught by certified volunteer instructor Harolyn Grace \nEvery Wednesday at the Gene Lucas Community Center from 10am-11am
URL:https://glccenter.org/event/aerobics-class-for-adults/2030-12-04/
LOCATION:Gene Lucas Community Center\, 3000 Newburg Rd Ste C\, Fortuna\, CA\, 95540-2599\, United States
END:VEVENT
BEGIN:VEVENT
DTSTART;TZID=America/Los_Angeles:20301205T180000
DTEND;TZID=America/Los_Angeles:20301205T190000
DTSTAMP:20260420T210213
CREATED:20260325T172802Z
LAST-MODIFIED:20260325T172802Z
UID:10006952-1922724000-1922727600@glccenter.org
SUMMARY:Craft Night
DESCRIPTION:Come join us for a creative adventure! \nBring something you’ve been working on or jump into a project we’ve put together for the night. It’s a relaxed space to create and connect. \nFree to all. All ages welcome.Children under 16 must be accompanied by a parent or guardian. This is a calm\, creative environment\, so it may not be the best fit for high-energy kiddos. \nEach month features a new art project led by our wonderful volunteer\, Debbi Sholes. \nFirst Thursday of every month | 6:00PM – 7:00PM
URL:https://glccenter.org/event/open-art-night-2-2-2/2030-12-05/
LOCATION:Gene Lucas Community Center\, 3000 Newburg Rd Ste C\, Fortuna\, CA\, 95540-2599\, United States
ORGANIZER;CN="Gene Lucas Community Center":MAILTO:layla@glccenter.org
END:VEVENT
BEGIN:VEVENT
DTSTART;TZID=America/Los_Angeles:20301207T100000
DTEND;TZID=America/Los_Angeles:20301207T120000
DTSTAMP:20260420T210213
CREATED:20260324T231918Z
LAST-MODIFIED:20260324T231918Z
UID:10006882-1922868000-1922875200@glccenter.org
SUMMARY:Book Club
DESCRIPTION:Come be part of the Lost Coast Book Club where great books spark great conversations and new friendships! \nOur biweekly saturday club is led by our wonderful volunteer Raven and is a welcoming space to connect\, share ideas\, and enjoy reading together. \nFind the group and stay updated here:https://www.facebook.com/groups/1408759587411534/ \nHave questions? Email Layla at layla@glccenter.org
URL:https://glccenter.org/event/book-club-2/2030-12-07/
LOCATION:Gene Lucas Community Center\, 3000 Newburg Rd Ste C\, Fortuna\, CA\, 95540-2599\, United States
ORGANIZER;CN="Gene Lucas Community Center":MAILTO:layla@glccenter.org
END:VEVENT
BEGIN:VEVENT
DTSTART;TZID=UTC:20301209T093000
DTEND;TZID=UTC:20301209T113000
DTSTAMP:20260420T210213
CREATED:20240904T173541Z
LAST-MODIFIED:20250826T215112Z
UID:10006661-1923039000-1923046200@glccenter.org
SUMMARY:GLC Playgroup for Children 0-5
DESCRIPTION:Free playgroup for children 0-5 and their caregivers every Monday\, Tuesday & Wednesday 9:30am-11:30am. No sign up required. \n 
URL:https://glccenter.org/event/first-5-playgroup-for-children-0-5-32-10/2030-12-09/
LOCATION:Gene Lucas Community Center\, 3000 Newburg Rd Ste C\, Fortuna\, CA\, 95540-2599\, United States
ORGANIZER;CN="Fortuna First 5":MAILTO:layla@glccenter.org
END:VEVENT
BEGIN:VEVENT
DTSTART;TZID=America/Los_Angeles:20301209T183000
DTEND;TZID=America/Los_Angeles:20301209T193000
DTSTAMP:20260420T210213
CREATED:20260128T195943Z
LAST-MODIFIED:20260128T195944Z
UID:10006736-1923071400-1923075000@glccenter.org
SUMMARY:Baile Terapia Dance Class
DESCRIPTION:Join us at the GLC for a FREE Baile Terapia class every Monday @ 6:30PM. \nCome and enjoy different Latin rhythms while we have fun\, exercise\, and take care of our physical and mental health. All ages\, shapes\, and sizes welcome! \nEnglish and Spanish speakers are welcome! \nPut on by instructors Jorge and Haydee. \nTo attend\, just show up. \n 
URL:https://glccenter.org/event/yoga-2/2030-12-09/
LOCATION:Gene Lucas Community Center\, 3000 Newburg Rd Ste C\, Fortuna\, CA\, 95540-2599\, United States
END:VEVENT
BEGIN:VEVENT
DTSTART;TZID=UTC:20301210T093000
DTEND;TZID=UTC:20301210T113000
DTSTAMP:20260420T210213
CREATED:20240904T173541Z
LAST-MODIFIED:20250826T215112Z
UID:10006662-1923125400-1923132600@glccenter.org
SUMMARY:GLC Playgroup for Children 0-5
DESCRIPTION:Free playgroup for children 0-5 and their caregivers every Monday\, Tuesday & Wednesday 9:30am-11:30am. No sign up required. \n 
URL:https://glccenter.org/event/first-5-playgroup-for-children-0-5-32-10/2030-12-10/
LOCATION:Gene Lucas Community Center\, 3000 Newburg Rd Ste C\, Fortuna\, CA\, 95540-2599\, United States
ORGANIZER;CN="Fortuna First 5":MAILTO:layla@glccenter.org
END:VEVENT
BEGIN:VEVENT
DTSTART;TZID=UTC:20301211T093000
DTEND;TZID=UTC:20301211T113000
DTSTAMP:20260420T210213
CREATED:20240904T173541Z
LAST-MODIFIED:20250826T215112Z
UID:10006663-1923211800-1923219000@glccenter.org
SUMMARY:GLC Playgroup for Children 0-5
DESCRIPTION:Free playgroup for children 0-5 and their caregivers every Monday\, Tuesday & Wednesday 9:30am-11:30am. No sign up required. \n 
URL:https://glccenter.org/event/first-5-playgroup-for-children-0-5-32-10/2030-12-11/
LOCATION:Gene Lucas Community Center\, 3000 Newburg Rd Ste C\, Fortuna\, CA\, 95540-2599\, United States
ORGANIZER;CN="Fortuna First 5":MAILTO:layla@glccenter.org
END:VEVENT
BEGIN:VEVENT
DTSTART;TZID=America/Los_Angeles:20301211T100000
DTEND;TZID=America/Los_Angeles:20301211T110000
DTSTAMP:20260420T210213
CREATED:20260105T212339Z
LAST-MODIFIED:20260105T212339Z
UID:10006489-1923213600-1923217200@glccenter.org
SUMMARY:Aerobics Class for Adults
DESCRIPTION:Aerobics Class for Adults- Motion\, Balance and Strength \nTaught by certified volunteer instructor Harolyn Grace \nEvery Wednesday at the Gene Lucas Community Center from 10am-11am
URL:https://glccenter.org/event/aerobics-class-for-adults/2030-12-11/
LOCATION:Gene Lucas Community Center\, 3000 Newburg Rd Ste C\, Fortuna\, CA\, 95540-2599\, United States
END:VEVENT
BEGIN:VEVENT
DTSTART;TZID=UTC:20301216T093000
DTEND;TZID=UTC:20301216T113000
DTSTAMP:20260420T210213
CREATED:20240904T173541Z
LAST-MODIFIED:20250826T215112Z
UID:10006664-1923643800-1923651000@glccenter.org
SUMMARY:GLC Playgroup for Children 0-5
DESCRIPTION:Free playgroup for children 0-5 and their caregivers every Monday\, Tuesday & Wednesday 9:30am-11:30am. No sign up required. \n 
URL:https://glccenter.org/event/first-5-playgroup-for-children-0-5-32-10/2030-12-16/
LOCATION:Gene Lucas Community Center\, 3000 Newburg Rd Ste C\, Fortuna\, CA\, 95540-2599\, United States
ORGANIZER;CN="Fortuna First 5":MAILTO:layla@glccenter.org
END:VEVENT
BEGIN:VEVENT
DTSTART;TZID=America/Los_Angeles:20301216T183000
DTEND;TZID=America/Los_Angeles:20301216T193000
DTSTAMP:20260420T210213
CREATED:20260128T195943Z
LAST-MODIFIED:20260128T195944Z
UID:10006737-1923676200-1923679800@glccenter.org
SUMMARY:Baile Terapia Dance Class
DESCRIPTION:Join us at the GLC for a FREE Baile Terapia class every Monday @ 6:30PM. \nCome and enjoy different Latin rhythms while we have fun\, exercise\, and take care of our physical and mental health. All ages\, shapes\, and sizes welcome! \nEnglish and Spanish speakers are welcome! \nPut on by instructors Jorge and Haydee. \nTo attend\, just show up. \n 
URL:https://glccenter.org/event/yoga-2/2030-12-16/
LOCATION:Gene Lucas Community Center\, 3000 Newburg Rd Ste C\, Fortuna\, CA\, 95540-2599\, United States
END:VEVENT
BEGIN:VEVENT
DTSTART;TZID=UTC:20301217T093000
DTEND;TZID=UTC:20301217T113000
DTSTAMP:20260420T210213
CREATED:20240904T173541Z
LAST-MODIFIED:20250826T215112Z
UID:10006665-1923730200-1923737400@glccenter.org
SUMMARY:GLC Playgroup for Children 0-5
DESCRIPTION:Free playgroup for children 0-5 and their caregivers every Monday\, Tuesday & Wednesday 9:30am-11:30am. No sign up required. \n 
URL:https://glccenter.org/event/first-5-playgroup-for-children-0-5-32-10/2030-12-17/
LOCATION:Gene Lucas Community Center\, 3000 Newburg Rd Ste C\, Fortuna\, CA\, 95540-2599\, United States
ORGANIZER;CN="Fortuna First 5":MAILTO:layla@glccenter.org
END:VEVENT
END:VCALENDAR